From mboxrd@z Thu Jan  1 00:00:00 1970
Return-Path: <test-report-bounces@dpdk.org>
Received: from mails.dpdk.org (mails.dpdk.org [217.70.189.124])
	by inbox.dpdk.org (Postfix) with ESMTP id BB76244126
	for <public@inbox.dpdk.org>; Sat,  1 Jun 2024 07:54:22 +0200 (CEST)
Received: from mails.dpdk.org (localhost [127.0.0.1])
	by mails.dpdk.org (Postfix) with ESMTP id B4DF7402AB;
	Sat,  1 Jun 2024 07:54:22 +0200 (CEST)
Received: from mail-io1-f97.google.com (mail-io1-f97.google.com
 [209.85.166.97]) by mails.dpdk.org (Postfix) with ESMTP id 75FCA40299
 for <test-report@dpdk.org>; Sat,  1 Jun 2024 07:54:20 +0200 (CEST)
Received: by mail-io1-f97.google.com with SMTP id
 ca18e2360f4ac-7ead8882735so72248639f.3
 for <test-report@dpdk.org>; Fri, 31 May 2024 22:54:20 -0700 (PDT)
DKIM-Signature: v=1; a=rsa-sha256; c=relaxed/relaxed;
 d=iol.unh.edu; s=unh-iol; t=1717221260; x=1717826060; darn=dpdk.org;
 h=references:in-reply-to:cc:to:from:subject:message-id:date:from:to
 :cc:subject:date:message-id:reply-to;
 bh=gSyw7vegxbysGm8UHtKCdsA4Dd73o8aKpiCCD1+Kd7U=;
 b=VZezzCzzlBZ7hJNHLjgHc7artJSOJAHGNQaTXr4SMWQ7aOmX9+Aa19z3t904T2o7X3
 sAc8DM3c7YmCloX+gO0HT8TdIENRmMn8QRhYYHzzwFpIy2dHikOT3qgoLEPXTN++AuF+
 zEJrTF9Xqx+JtP8nQreyGrOrAWjLRb2Fm4nMk=
X-Google-DKIM-Signature: v=1; a=rsa-sha256; c=relaxed/relaxed;
 d=1e100.net; s=20230601; t=1717221260; x=1717826060;
 h=references:in-reply-to:cc:to:from:subject:message-id:date
 :x-gm-message-state:from:to:cc:subject:date:message-id:reply-to;
 bh=gSyw7vegxbysGm8UHtKCdsA4Dd73o8aKpiCCD1+Kd7U=;
 b=Mr+9TcarqIrDmhZzd4EtOOWufMM6pbesCabNH6LFOAJBCYnfcCuUP3TpIftHVO+R4G
 djyka7ORwKOgagmYvddTxQnN1sXA1QpnNxGVDimD5p+g2ilOIH31ydTFIESmdhJgy22y
 4ss9Ioa8OG18INea4UTSRbpXGBF6FSNFLBa7IdD7lgvTUAg7Fpdf3Wwn7EDNbS+Iru+y
 nRMSsaXRY3Y5bXh0oO5zHoxg/7YWr7wnfUy10b4IYlNdk0tvajq9BRzed0F+aoOzTvo8
 GwgDTqTeKbTbZDuzYmiiqwinb2Ov/UQkZehG8v5WK6RDiFyd+SjwIVHs3MP1iBt4jX2A
 vIdA==
X-Gm-Message-State: AOJu0YzpTc203kjgQQrPV9/Qng/GMlP4vy8jVBKRnEb5zm315QMhrZxu
 FBFmkLixkwsabrTMZ52NNXr5gSUSZNcxdGJFB0xYCRZzpqS4+UbysLnVDoa1Q5R71PNl3PC4ATd
 vS+L6Gd624VDaZOWt07e9E93Ms9fLLjJermslbNfrSgH8kywgsrQcICBt
X-Google-Smtp-Source: AGHT+IEfhseGLPpQS1HcLSCMDw8Ujntj4FLvdATSJHrjNLdBbWzvh8e3kk5hTWHHZ9hDQhwps+MDQS1C/5V0
X-Received: by 2002:a05:6602:1601:b0:7e2:618f:c651 with SMTP id
 ca18e2360f4ac-7eaffed1d6fmr456485239f.11.1717221259969; 
 Fri, 31 May 2024 22:54:19 -0700 (PDT)
Received: from postal.iol.unh.edu (postal.iol.unh.edu.
 [2606:4100:3880:1234::84]) by smtp-relay.gmail.com with ESMTPS id
 ca18e2360f4ac-7eafe6468e7sm15391939f.32.2024.05.31.22.54.19
 (version=TLS1_2 cipher=ECDHE-ECDSA-AES128-GCM-SHA256 bits=128/128);
 Fri, 31 May 2024 22:54:19 -0700 (PDT)
X-Relaying-Domain: iol.unh.edu
Date: Fri, 31 May 2024 22:54:19 -0700 (PDT)
Message-ID: <665ab78b.5d0a0220.33c2c.b004SMTPIN_ADDED_MISSING@mx.google.com>
Received: from [172.21.0.6] (unknown [172.18.0.240])
 by postal.iol.unh.edu (Postfix) with ESMTP id 3ACC4605C373;
 Sat,  1 Jun 2024 01:54:19 -0400 (EDT)
Subject: |SUCCESS| pw140433-140437 [PATCH] [v13,6/6] test: add unit test for 
From: dpdklab@iol.unh.edu
To: Test Report <test-report@dpdk.org>
Cc: dpdk-test-reports@iol.unh.edu
In-Reply-To: <20240530094042.1960212-7-paul.szczepanek@arm.com>
References: <20240530094042.1960212-7-paul.szczepanek@arm.com>
Content-Type: text/plain
X-BeenThere: test-report@dpdk.org
X-Mailman-Version: 2.1.29
Precedence: list
List-Id: automatic DPDK test reports <test-report.dpdk.org>
List-Unsubscribe: <https://mails.dpdk.org/options/test-report>,
 <mailto:test-report-request@dpdk.org?subject=unsubscribe>
List-Archive: <http://mails.dpdk.org/archives/test-report/>
List-Post: <mailto:test-report@dpdk.org>
List-Help: <mailto:test-report-request@dpdk.org?subject=help>
List-Subscribe: <https://mails.dpdk.org/listinfo/test-report>,
 <mailto:test-report-request@dpdk.org?subject=subscribe>
Errors-To: test-report-bounces@dpdk.org

Test-Label: iol-abi-testing
Test-Status: SUCCESS
http://dpdk.org/patch/140437

_Testing PASS_

Submitter: Paul Szczepanek <paul.szczepanek@arm.com>
Date: Thursday, May 30 2024 09:40:42 
DPDK git baseline: Repo:dpdk
  Branch: master
  CommitID:76cef1af8bdaeaf67a5c4ca5df3f221df994dc46

140433-140437 --> testing pass

Test environment and result as below:

+------------------+----------+
|   Environment    | abi_test |
+==================+==========+
| Fedora 38        | PASS     |
+------------------+----------+
| Fedora 39        | PASS     |
+------------------+----------+
| RHEL8            | PASS     |
+------------------+----------+
| CentOS Stream 8  | PASS     |
+------------------+----------+
| Debian Bullseye  | PASS     |
+------------------+----------+
| CentOS Stream 9  | PASS     |
+------------------+----------+
| Ubuntu 24.04     | PASS     |
+------------------+----------+
| openSUSE Leap 15 | PASS     |
+------------------+----------+
| Debian 12        | PASS     |
+------------------+----------+
| Fedora 37        | PASS     |
+------------------+----------+
| Ubuntu 22.04     | PASS     |
+------------------+----------+


Fedora 38
	Kernel: Depends on container host
	Compiler: clang 16.0.6

Fedora 39
	Kernel: Depends on container host
	Compiler: clang 17.0.6

RHEL8
	Kernel: 5.4.0-167-generic
	Compiler: gcc 8.5.0 20210514 (Red Hat 8.5.0-20)

CentOS Stream 8
	Kernel: 5.4.0-167-generic
	Compiler: gcc 8.5.0 20210514

Debian Bullseye
	Kernel: 5.4.0-167-generic
	Compiler: gcc 10.2.1-6

CentOS Stream 9
	Kernel: 5.4.0-167-generic
	Compiler: gcc 11.4.1 20230605

Ubuntu 24.04
	Kernel: 5.4.0-167-generic
	Compiler: gcc 13.2.0

openSUSE Leap 15
	Kernel: 5.4.0-167-generic
	Compiler: gcc 7.5.0

Debian 12
	Kernel: Container Host Kernel
	Compiler: gcc 10.2.1

Fedora 37
	Kernel: Depends on container host system
	Compiler: gcc 12.3.1

Ubuntu 22.04
	Kernel: 5.4.0-167-generic
	Compiler: gcc 11.4.0

To view detailed results, visit:
https://lab.dpdk.org/results/dashboard/patchsets/30048/

UNH-IOL DPDK Community Lab

To manage your email subscriptions, visit: 
https://lab.dpdk.org/results/dashboard/preferences/subscriptions/