From mboxrd@z Thu Jan  1 00:00:00 1970
Return-Path: <test-report-bounces@dpdk.org>
Received: from mails.dpdk.org (mails.dpdk.org [217.70.189.124])
	by inbox.dpdk.org (Postfix) with ESMTP id 84F8544128
	for <public@inbox.dpdk.org>; Sat,  1 Jun 2024 10:28:51 +0200 (CEST)
Received: from mails.dpdk.org (localhost [127.0.0.1])
	by mails.dpdk.org (Postfix) with ESMTP id 3C5AD40DCB;
	Sat,  1 Jun 2024 10:28:51 +0200 (CEST)
Received: from mail-yw1-f225.google.com (mail-yw1-f225.google.com
 [209.85.128.225])
 by mails.dpdk.org (Postfix) with ESMTP id 067E040270
 for <test-report@dpdk.org>; Sat,  1 Jun 2024 10:28:50 +0200 (CEST)
Received: by mail-yw1-f225.google.com with SMTP id
 00721157ae682-62a087bc74bso26917977b3.2
 for <test-report@dpdk.org>; Sat, 01 Jun 2024 01:28:49 -0700 (PDT)
DKIM-Signature: v=1; a=rsa-sha256; c=relaxed/relaxed;
 d=iol.unh.edu; s=unh-iol; t=1717230529; x=1717835329; darn=dpdk.org;
 h=references:in-reply-to:cc:to:from:subject:message-id:date:from:to
 :cc:subject:date:message-id:reply-to;
 bh=XKk9PFwWvNjNepapStvLIItJ1bECyoCap7aGmAonC4s=;
 b=fzR5O0ruiUEhISTxtP2TMwepeViOYNt0T4AMloucGb1it+tqCtmYOBtP/X0n0WyKIh
 fCI0KK5kFyyXRyIpynTX0gerOsHufnODXVkzIDIbMELOtgKmv3QE9smjZWg9V9SAzv2/
 Xk3V5l6uuM3VKMnQghw6MVL9mJ6UZzMEKh6WU=
X-Google-DKIM-Signature: v=1; a=rsa-sha256; c=relaxed/relaxed;
 d=1e100.net; s=20230601; t=1717230529; x=1717835329;
 h=references:in-reply-to:cc:to:from:subject:message-id:date
 :x-gm-message-state:from:to:cc:subject:date:message-id:reply-to;
 bh=XKk9PFwWvNjNepapStvLIItJ1bECyoCap7aGmAonC4s=;
 b=PQfUhVhexJxSgwRNsqogDsaPf1xDJ6KfhtjOUDaXd/oMqI1aBZr5FMuhgw4kZceuRo
 NXiWDR4urT/tuO8oQNohXxYr1GUGAhMgNNP+GDCJnZk7rSIysrOehjpOOJtZCenHams5
 U0VByxuIs+2hIvC0SWtIVKiGQcLpmYaCLnbO2l3bJht/6XV+/rJNd+05k+99HBVt11P1
 kVCOqPO+lJhIrpcKjLQ4l0zbStWOWkEqcWaWzcHdmXRa2RSU1zgwyUp+TWou8r4+6OJC
 jFN+ftg4wXPgXgxL27aXfludfXBycyIq5D4bscQvQ0wshv/ELm5lTaBSJ0bTFC5cNu8+
 TZOQ==
X-Gm-Message-State: AOJu0YwFZAp9pg2I8jZC7IIAm5BIWnLhtdT9oaQgclHyL2lh57JDYP0g
 u7/evdu8Fk179TTIbRDl5WLLOyAYtiNxg+Ux+cMSUOZIChGnk3PahRTm2NtpPDeD4ehD6JeNb6L
 br/DbPGquWGuOhDojOzBzLxv/4Ma4bkQlRwhydEZX
X-Google-Smtp-Source: AGHT+IHNdu5pkAAhdzNJVzU7RmKHATYxtYwBYvpVrBtQzsAIDhVNCursGhkg/GFA/APF1yMEPxgpf6WRDfCm
X-Received: by 2002:a05:690c:242:b0:61b:1d8d:8c11 with SMTP id
 00721157ae682-62c7967356amr39040967b3.4.1717230529015; 
 Sat, 01 Jun 2024 01:28:49 -0700 (PDT)
Received: from postal.iol.unh.edu (postal.iol.unh.edu. [132.177.123.84])
 by smtp-relay.gmail.com with ESMTPS id
 00721157ae682-62c7662060esm1203057b3.20.2024.06.01.01.28.48
 (version=TLS1_2 cipher=ECDHE-ECDSA-AES128-GCM-SHA256 bits=128/128);
 Sat, 01 Jun 2024 01:28:49 -0700 (PDT)
X-Relaying-Domain: iol.unh.edu
Date: Sat, 01 Jun 2024 01:28:49 -0700 (PDT)
Message-ID: <665adbc1.050a0220.5510f.93a5SMTPIN_ADDED_MISSING@mx.google.com>
Received: from [172.21.0.6] (unknown [172.18.0.240])
 by postal.iol.unh.edu (Postfix) with ESMTP id 9BDC9605C21C;
 Sat,  1 Jun 2024 04:28:48 -0400 (EDT)
Subject: |SUCCESS| pw140469-140470 [PATCH] [v4,2/2] dma/cnxk: remove completi
From: dpdklab@iol.unh.edu
To: Test Report <test-report@dpdk.org>
Cc: dpdk-test-reports@iol.unh.edu
In-Reply-To: <20240530124437.1870-2-pbhagavatula@marvell.com>
References: <20240530124437.1870-2-pbhagavatula@marvell.com>
Content-Type: text/plain
X-BeenThere: test-report@dpdk.org
X-Mailman-Version: 2.1.29
Precedence: list
List-Id: automatic DPDK test reports <test-report.dpdk.org>
List-Unsubscribe: <https://mails.dpdk.org/options/test-report>,
 <mailto:test-report-request@dpdk.org?subject=unsubscribe>
List-Archive: <http://mails.dpdk.org/archives/test-report/>
List-Post: <mailto:test-report@dpdk.org>
List-Help: <mailto:test-report-request@dpdk.org?subject=help>
List-Subscribe: <https://mails.dpdk.org/listinfo/test-report>,
 <mailto:test-report-request@dpdk.org?subject=subscribe>
Errors-To: test-report-bounces@dpdk.org

Test-Label: iol-compile-amd64-testing
Test-Status: SUCCESS
http://dpdk.org/patch/140470

_Testing PASS_

Submitter: Pavan Nikhilesh Bhagavatula <pbhagavatula@marvell.com>
Date: Thursday, May 30 2024 12:44:37 
DPDK git baseline: Repo:dpdk
  Branch: master
  CommitID:76cef1af8bdaeaf67a5c4ca5df3f221df994dc46

140469-140470 --> testing pass

Test environment and result as below:

+---------------------+--------------------+----------------------+-------------------+
|     Environment     | dpdk_meson_compile | dpdk_mingw64_compile | dpdk_msvc_compile |
+=====================+====================+======================+===================+
| FreeBSD 13.3        | PASS               | SKIPPED              | SKIPPED           |
+---------------------+--------------------+----------------------+-------------------+
| FreeBSD 14.0        | PASS               | SKIPPED              | SKIPPED           |
+---------------------+--------------------+----------------------+-------------------+
| Windows Server 2022 | PASS               | PASS                 | PASS              |
+---------------------+--------------------+----------------------+-------------------+
| Windows Server 2019 | PASS               | PASS                 | SKIPPED           |
+---------------------+--------------------+----------------------+-------------------+


FreeBSD 13.3
	Kernel: 13.3-RELEASE-p1
	Compiler: clang 17.0.6

FreeBSD 14.0
	Kernel: 14.0
	Compiler: clang 16.0.6

Windows Server 2022
	Kernel: 10.0.20348.2031
	Compiler: clang 15.0.7, gcc 8.1.0 (MinGW), and MSVC VS 17.9

Windows Server 2019
	Kernel: 10.0.17763
	Compiler: clang 14.0 and gcc 8.1.0 (MinGW)

To view detailed results, visit:
https://lab.dpdk.org/results/dashboard/patchsets/30050/

UNH-IOL DPDK Community Lab

To manage your email subscriptions, visit: 
https://lab.dpdk.org/results/dashboard/preferences/subscriptions/