From mboxrd@z Thu Jan  1 00:00:00 1970
Return-Path: <test-report-bounces@dpdk.org>
Received: from mails.dpdk.org (mails.dpdk.org [217.70.189.124])
	by inbox.dpdk.org (Postfix) with ESMTP id 491D444128
	for <public@inbox.dpdk.org>; Sat,  1 Jun 2024 11:22:38 +0200 (CEST)
Received: from mails.dpdk.org (localhost [127.0.0.1])
	by mails.dpdk.org (Postfix) with ESMTP id 40AAA402B4;
	Sat,  1 Jun 2024 11:22:38 +0200 (CEST)
Received: from mail-pj1-f97.google.com (mail-pj1-f97.google.com
 [209.85.216.97]) by mails.dpdk.org (Postfix) with ESMTP id AE0C840270
 for <test-report@dpdk.org>; Sat,  1 Jun 2024 11:22:36 +0200 (CEST)
Received: by mail-pj1-f97.google.com with SMTP id
 98e67ed59e1d1-2c1a9b151bcso2178022a91.3
 for <test-report@dpdk.org>; Sat, 01 Jun 2024 02:22:36 -0700 (PDT)
DKIM-Signature: v=1; a=rsa-sha256; c=relaxed/relaxed;
 d=iol.unh.edu; s=unh-iol; t=1717233756; x=1717838556; darn=dpdk.org;
 h=references:in-reply-to:cc:to:from:subject:message-id:date:from:to
 :cc:subject:date:message-id:reply-to;
 bh=nr81fWs0TEYFBxmIeI5rghfAFfYNFayaI0GfAejDCqE=;
 b=SalQgxbjAcCEh3ytqC/CH87jmMB+QCUQbvNTm5Hc/CaojRZLJ07KJMNG+D52LmQqG+
 UqoK7eCTo/dr9uyYloCIwNV6pfxzm6M2YbZ+kpVff/7mMrX17UoU29cumiRe6ET9Ryvx
 HDP7p2gKsNzJMZdK8VsHizmq3yX9Vtxw5bUWY=
X-Google-DKIM-Signature: v=1; a=rsa-sha256; c=relaxed/relaxed;
 d=1e100.net; s=20230601; t=1717233756; x=1717838556;
 h=references:in-reply-to:cc:to:from:subject:message-id:date
 :x-gm-message-state:from:to:cc:subject:date:message-id:reply-to;
 bh=nr81fWs0TEYFBxmIeI5rghfAFfYNFayaI0GfAejDCqE=;
 b=dZb2CStB9ldzBiTR1/6u5rO8iB4f35RdgI66Segg4SienElKl/NcyvRxzaw18HsPss
 ZSU8mF3jOnaoebrAnAoicIoLYcCd5tz9y9l1NsasBNFgyNTi+N4B7hVewtDx62wNQrvQ
 BgFaMsvLLZw3Yl5ARyP/TBVg7ywAxVYd6hbA+zOjE3XNyWQhoMCK3auzcJ5j2+aUT0CO
 HaQ8W3bgTW1Ip15BVajBzEfzMqKIn7C173Vv4eOJC4g2cKYHCnhYJpc+kTnT95fCWSMo
 l1UKuQc75KbLxwyXn8eXCeE1AU27nCL9TJ8I+nVqByD0klCD7AnTLBX8Sv49qEZwHktm
 4Aew==
X-Gm-Message-State: AOJu0Yx52L4VWvndncAf29n8+NztcbiGoOG5fAHjBL9vjKZzd0N8KniS
 KIA7Cd6lkm2q/AH/5qIMICBRVT+uMtEEL059bLxoasidbUcHBZILUpDJ9FRd9AG3RKYF6/N/m/c
 lo1JIOVAmLV3V4nIQbhaWFVyFF2CVICZ+TiHghYxR/dzWGrlkMiAh3wtw
X-Google-Smtp-Source: AGHT+IFZRTATYbxEMQHTqpPPkJA/QcDaUHZVZreDlQ+oODTuiYz8WJ3P99SeoAmriGuxDrrLIxYqcOJG1t+6
X-Received: by 2002:a17:90a:db42:b0:2b4:fe80:1b1b with SMTP id
 98e67ed59e1d1-2c1dc5cd183mr3503304a91.43.1717233755896; 
 Sat, 01 Jun 2024 02:22:35 -0700 (PDT)
Received: from postal.iol.unh.edu (postal.iol.unh.edu.
 [2606:4100:3880:1234::84]) by smtp-relay.gmail.com with ESMTPS id
 41be03b00d2f7-6c355528948sm149498a12.10.2024.06.01.02.22.35
 (version=TLS1_2 cipher=ECDHE-ECDSA-AES128-GCM-SHA256 bits=128/128);
 Sat, 01 Jun 2024 02:22:35 -0700 (PDT)
X-Relaying-Domain: iol.unh.edu
Date: Sat, 01 Jun 2024 02:22:35 -0700 (PDT)
Message-ID: <665ae85b.630a0220.adac7.b308SMTPIN_ADDED_MISSING@mx.google.com>
Received: from [172.21.0.6] (unknown [172.18.0.240])
 by postal.iol.unh.edu (Postfix) with ESMTP id 03136605C21C;
 Sat,  1 Jun 2024 05:22:35 -0400 (EDT)
Subject: |SUCCESS| pw140439-140468 [PATCH] [v3,30/30] net/ixgbe/base: add var
From: dpdklab@iol.unh.edu
To: Test Report <test-report@dpdk.org>
Cc: dpdk-test-reports@iol.unh.edu
In-Reply-To: <8f3af229cc5c42dbc83e4c74fbe91bf4aea9fbbd.1717067519.git.anatoly.burakov@intel.com>
References: <8f3af229cc5c42dbc83e4c74fbe91bf4aea9fbbd.1717067519.git.anatoly.burakov@intel.com>
Content-Type: text/plain
X-BeenThere: test-report@dpdk.org
X-Mailman-Version: 2.1.29
Precedence: list
List-Id: automatic DPDK test reports <test-report.dpdk.org>
List-Unsubscribe: <https://mails.dpdk.org/options/test-report>,
 <mailto:test-report-request@dpdk.org?subject=unsubscribe>
List-Archive: <http://mails.dpdk.org/archives/test-report/>
List-Post: <mailto:test-report@dpdk.org>
List-Help: <mailto:test-report-request@dpdk.org?subject=help>
List-Subscribe: <https://mails.dpdk.org/listinfo/test-report>,
 <mailto:test-report-request@dpdk.org?subject=subscribe>
Errors-To: test-report-bounces@dpdk.org

Test-Label: iol-unit-arm64-testing
Test-Status: SUCCESS
http://dpdk.org/patch/140468

_Testing PASS_

Submitter: Anatoly Burakov <anatoly.burakov@intel.com>
Date: Thursday, May 30 2024 11:14:03 
DPDK git baseline: Repo:dpdk
  Branch: master
  CommitID:76cef1af8bdaeaf67a5c4ca5df3f221df994dc46

140439-140468 --> testing pass

Test environment and result as below:

+-----------------------------+---------------------------+------------------------------+----------------+--------------+
|         Environment         | cryptodev_sw_zuc_autotest | cryptodev_sw_snow3g_autotest | dpdk_unit_test | lpm_autotest |
+=============================+===========================+==============================+================+==============+
| Debian 12 (arm)             | PASS                      | PASS                         | PASS           | SKIPPED      |
+-----------------------------+---------------------------+------------------------------+----------------+--------------+
| CentOS Stream 9 (ARM)       | SKIPPED                   | SKIPPED                      | PASS           | SKIPPED      |
+-----------------------------+---------------------------+------------------------------+----------------+--------------+
| 32-bit Ubuntu 20.04.4 (ARM) | SKIPPED                   | SKIPPED                      | PASS           | SKIPPED      |
+-----------------------------+---------------------------+------------------------------+----------------+--------------+
| Debian 11 (Buster) (ARM)    | SKIPPED                   | SKIPPED                      | PASS           | SKIPPED      |
+-----------------------------+---------------------------+------------------------------+----------------+--------------+
| Fedora 37 (ARM)             | SKIPPED                   | SKIPPED                      | PASS           | SKIPPED      |
+-----------------------------+---------------------------+------------------------------+----------------+--------------+
| Fedora 38 (ARM)             | SKIPPED                   | SKIPPED                      | PASS           | SKIPPED      |
+-----------------------------+---------------------------+------------------------------+----------------+--------------+
| Fedora 38 (ARM Clang)       | SKIPPED                   | SKIPPED                      | PASS           | SKIPPED      |
+-----------------------------+---------------------------+------------------------------+----------------+--------------+
| Ubuntu 20.04 (ARM)          | SKIPPED                   | SKIPPED                      | PASS           | SKIPPED      |
+-----------------------------+---------------------------+------------------------------+----------------+--------------+
| Fedora 39 (ARM Clang)       | SKIPPED                   | SKIPPED                      | PASS           | SKIPPED      |
+-----------------------------+---------------------------+------------------------------+----------------+--------------+
| Ubuntu 22.04 (ARM)          | SKIPPED                   | SKIPPED                      | PASS           | SKIPPED      |
+-----------------------------+---------------------------+------------------------------+----------------+--------------+
| Fedora 39 (ARM)             | SKIPPED                   | SKIPPED                      | PASS           | SKIPPED      |
+-----------------------------+---------------------------+------------------------------+----------------+--------------+
| Ubuntu 24.04 (ARM)          | SKIPPED                   | SKIPPED                      | PASS           | SKIPPED      |
+-----------------------------+---------------------------+------------------------------+----------------+--------------+
| Ubuntu 20.04 ARM SVE        | SKIPPED                   | SKIPPED                      | SKIPPED        | PASS         |
+-----------------------------+---------------------------+------------------------------+----------------+--------------+


Debian 12 (arm)
	Kernel: Container Host Kernel
	Compiler: gcc 12.2.0

CentOS Stream 9 (ARM)
	Kernel: Container Host Kernel
	Compiler: gcc 11.4.1

32-bit Ubuntu 20.04.4 (ARM)
	Kernel: 5.4.0-155-generic aarch64
	Compiler: gcc 9.4

Debian 11 (Buster) (ARM)
	Kernel: Container Host Kernel
	Compiler: gcc 10.2.1

Fedora 37 (ARM)
	Kernel: Depends on container host
	Compiler: gcc 12.3.1

Fedora 38 (ARM)
	Kernel: Depends on container host
	Compiler: gcc 13.2.1

Fedora 38 (ARM Clang)
	Kernel: Depends on container host
	Compiler: clang 16.0.6

Ubuntu 20.04 (ARM)
	Kernel: Container Host Kernel
	Compiler: gcc 9.4.0

Fedora 39 (ARM Clang)
	Kernel: Depends on container host
	Compiler: clang 17.0.6

Ubuntu 22.04 (ARM)
	Kernel: Container Host Kernel
	Compiler: gcc 11.4.0

Fedora 39 (ARM)
	Kernel: Depends on container host
	Compiler: gcc 13.2.1

Ubuntu 24.04 (ARM)
	Kernel: 5.4.0-167-generic
	Compiler: gcc 13.2.0

Ubuntu 20.04 ARM SVE
	Kernel: 5.4.0-167-generic
	Compiler: gcc (Ubuntu 10.5.0-1ubuntu1~20.04) 10.5.0

To view detailed results, visit:
https://lab.dpdk.org/results/dashboard/patchsets/30049/

UNH-IOL DPDK Community Lab

To manage your email subscriptions, visit: 
https://lab.dpdk.org/results/dashboard/preferences/subscriptions/