From mboxrd@z Thu Jan  1 00:00:00 1970
Return-Path: <test-report-bounces@dpdk.org>
Received: from mails.dpdk.org (mails.dpdk.org [217.70.189.124])
	by inbox.dpdk.org (Postfix) with ESMTP id 75A8344004
	for <public@inbox.dpdk.org>; Sat,  1 Jun 2024 12:25:43 +0200 (CEST)
Received: from mails.dpdk.org (localhost [127.0.0.1])
	by mails.dpdk.org (Postfix) with ESMTP id 6F7CD402B4;
	Sat,  1 Jun 2024 12:25:43 +0200 (CEST)
Received: from mail-il1-f225.google.com (mail-il1-f225.google.com
 [209.85.166.225])
 by mails.dpdk.org (Postfix) with ESMTP id 09F8140270
 for <test-report@dpdk.org>; Sat,  1 Jun 2024 12:25:42 +0200 (CEST)
Received: by mail-il1-f225.google.com with SMTP id
 e9e14a558f8ab-37491216a2bso2732045ab.1
 for <test-report@dpdk.org>; Sat, 01 Jun 2024 03:25:41 -0700 (PDT)
DKIM-Signature: v=1; a=rsa-sha256; c=relaxed/relaxed;
 d=iol.unh.edu; s=unh-iol; t=1717237541; x=1717842341; darn=dpdk.org;
 h=references:in-reply-to:cc:to:from:subject:message-id:date:from:to
 :cc:subject:date:message-id:reply-to;
 bh=C7rkfWOVZAZFFqdx93j8z+Lrgi+77tpEmBdrA2RCITw=;
 b=cb3LgAtAYdSyKnXeQ24bCDUO4IfamNEsRLrd+mdvKdfU/Rz1+24fiX3UYeM+InnwMg
 1Sz/Zpm4/OFX//nGiQyW/rWLph3HICz47636Tgno+aEKCGnqXICnOIUyxRoCexBmRmKw
 eWGNz38WcioqYFEjFB/kV5v0CURvWxeVLTzrk=
X-Google-DKIM-Signature: v=1; a=rsa-sha256; c=relaxed/relaxed;
 d=1e100.net; s=20230601; t=1717237541; x=1717842341;
 h=references:in-reply-to:cc:to:from:subject:message-id:date
 :x-gm-message-state:from:to:cc:subject:date:message-id:reply-to;
 bh=C7rkfWOVZAZFFqdx93j8z+Lrgi+77tpEmBdrA2RCITw=;
 b=TNc3AQ6ZW+MLyTVGb7y6Cn9kUJiffuPKaqD+oHLjNngV1mkOk6b/r+61ot32hwHgSy
 oa82ZYQw5FxDOyq54rHUcyjHegDrLTZW3NrpCT8035yQQkz0RPxwepDlmU9C1YLJBrBr
 tPYeNALASAM2a7PvC8RkAzAUGG8i2hs1/yCib/xA5cy5a6cC52E5jatQWNQAxKQDsAP0
 SXqa+2qhGul1FPzf1UFyji2gPEtiA9dYOQzw3X5ak0iw/i8qxCMtzSNtYJfL68SRbfy8
 WDSJ1ATpekrU/ta4YKYNrkGXQ2An4+pNQoSDuLnJOH22KCKYVt6afaClvJdzbh7aTES6
 GG5A==
X-Gm-Message-State: AOJu0YwXV3/SuQp4fc0vRDm8SvHTAXH4GX22ohyRovZl1K64O52TUub6
 hkter0G8b1KiOC2/Yq+yEgRm0EC5v+gvcVUiXrD17uH91jXfNwxzlMPElgsYJwNMuV4iCt/OhJ2
 pN+fBn7sl5cVCL4uMjd1lBb3fSmDUAYW103JUZbPP
X-Google-Smtp-Source: AGHT+IEWSStTUwhFp2MPX0dubLLjMKKj2GbaceF5t2POKE7QHrFFLUgdA81CeFOlFoPtdn9R3kzNPOAGLHm7
X-Received: by 2002:a05:6e02:1c22:b0:373:8d65:5d7 with SMTP id
 e9e14a558f8ab-3748b96ecf3mr46156595ab.5.1717237541525; 
 Sat, 01 Jun 2024 03:25:41 -0700 (PDT)
Received: from postal.iol.unh.edu (postal.iol.unh.edu. [132.177.123.84])
 by smtp-relay.gmail.com with ESMTPS id
 e9e14a558f8ab-3749061e69dsm738985ab.48.2024.06.01.03.25.41
 (version=TLS1_2 cipher=ECDHE-ECDSA-AES128-GCM-SHA256 bits=128/128);
 Sat, 01 Jun 2024 03:25:41 -0700 (PDT)
X-Relaying-Domain: iol.unh.edu
Date: Sat, 01 Jun 2024 03:25:41 -0700 (PDT)
Message-ID: <665af725.050a0220.84806.5b3dSMTPIN_ADDED_MISSING@mx.google.com>
Received: from [172.21.0.6] (unknown [172.18.0.240])
 by postal.iol.unh.edu (Postfix) with ESMTP id EE6E8605C21C;
 Sat,  1 Jun 2024 06:25:40 -0400 (EDT)
Subject: |SUCCESS| pw140439-140468 [PATCH] [v3,30/30] net/ixgbe/base: add var
From: dpdklab@iol.unh.edu
To: Test Report <test-report@dpdk.org>
Cc: dpdk-test-reports@iol.unh.edu
In-Reply-To: <8f3af229cc5c42dbc83e4c74fbe91bf4aea9fbbd.1717067519.git.anatoly.burakov@intel.com>
References: <8f3af229cc5c42dbc83e4c74fbe91bf4aea9fbbd.1717067519.git.anatoly.burakov@intel.com>
Content-Type: text/plain
X-BeenThere: test-report@dpdk.org
X-Mailman-Version: 2.1.29
Precedence: list
List-Id: automatic DPDK test reports <test-report.dpdk.org>
List-Unsubscribe: <https://mails.dpdk.org/options/test-report>,
 <mailto:test-report-request@dpdk.org?subject=unsubscribe>
List-Archive: <http://mails.dpdk.org/archives/test-report/>
List-Post: <mailto:test-report@dpdk.org>
List-Help: <mailto:test-report-request@dpdk.org?subject=help>
List-Subscribe: <https://mails.dpdk.org/listinfo/test-report>,
 <mailto:test-report-request@dpdk.org?subject=subscribe>
Errors-To: test-report-bounces@dpdk.org

Test-Label: iol-unit-amd64-testing
Test-Status: SUCCESS
http://dpdk.org/patch/140468

_Testing PASS_

Submitter: Anatoly Burakov <anatoly.burakov@intel.com>
Date: Thursday, May 30 2024 11:14:03 
DPDK git baseline: Repo:dpdk
  Branch: master
  CommitID:76cef1af8bdaeaf67a5c4ca5df3f221df994dc46

140439-140468 --> testing pass

Test environment and result as below:

+------------------+----------------+
|   Environment    | dpdk_unit_test |
+==================+================+
| CentOS Stream 8  | PASS           |
+------------------+----------------+
| Debian Bullseye  | PASS           |
+------------------+----------------+
| CentOS Stream 9  | PASS           |
+------------------+----------------+
| Fedora 38        | PASS           |
+------------------+----------------+
| Fedora 37        | PASS           |
+------------------+----------------+
| Debian 12        | PASS           |
+------------------+----------------+
| openSUSE Leap 15 | PASS           |
+------------------+----------------+
| Fedora 39        | PASS           |
+------------------+----------------+
| RHEL8            | PASS           |
+------------------+----------------+
| Ubuntu 20.04     | PASS           |
+------------------+----------------+
| Ubuntu 22.04     | PASS           |
+------------------+----------------+
| Ubuntu 24.04     | PASS           |
+------------------+----------------+


CentOS Stream 8
	Kernel: 5.4.0-167-generic
	Compiler: gcc 8.5.0 20210514

Debian Bullseye
	Kernel: 5.4.0-167-generic
	Compiler: gcc 10.2.1-6

CentOS Stream 9
	Kernel: 5.4.0-167-generic
	Compiler: gcc 11.4.1 20230605

Fedora 38
	Kernel: Depends on container host
	Compiler: gcc 13.2.1

Fedora 37
	Kernel: Depends on container host system
	Compiler: gcc 12.3.1

Debian 12
	Kernel: Container Host Kernel
	Compiler: gcc 10.2.1

openSUSE Leap 15
	Kernel: 5.4.0-167-generic
	Compiler: gcc 7.5.0

Fedora 39
	Kernel: Depends on container host
	Compiler: gcc 13.2.1

RHEL8
	Kernel: 5.4.0-167-generic
	Compiler: gcc 8.5.0 20210514 (Red Hat 8.5.0-20)

Ubuntu 20.04
	Kernel: 5.4.0-167-generic
	Compiler: gcc 9.4.0-1ubuntu1~20.04.1

Ubuntu 22.04
	Kernel: 5.4.0-167-generic
	Compiler: gcc 11.4.0

Ubuntu 24.04
	Kernel: 5.4.0-167-generic
	Compiler: gcc 13.2.0

To view detailed results, visit:
https://lab.dpdk.org/results/dashboard/patchsets/30049/

UNH-IOL DPDK Community Lab

To manage your email subscriptions, visit: 
https://lab.dpdk.org/results/dashboard/preferences/subscriptions/