From mboxrd@z Thu Jan  1 00:00:00 1970
Return-Path: <test-report-bounces@dpdk.org>
Received: from mails.dpdk.org (mails.dpdk.org [217.70.189.124])
	by inbox.dpdk.org (Postfix) with ESMTP id 5306844004
	for <public@inbox.dpdk.org>; Sat,  1 Jun 2024 12:46:54 +0200 (CEST)
Received: from mails.dpdk.org (localhost [127.0.0.1])
	by mails.dpdk.org (Postfix) with ESMTP id 4EC37402B4;
	Sat,  1 Jun 2024 12:46:54 +0200 (CEST)
Received: from mail-vk1-f225.google.com (mail-vk1-f225.google.com
 [209.85.221.225])
 by mails.dpdk.org (Postfix) with ESMTP id A582940270
 for <test-report@dpdk.org>; Sat,  1 Jun 2024 12:46:52 +0200 (CEST)
Received: by mail-vk1-f225.google.com with SMTP id
 71dfb90a1353d-4eb11869d5bso72656e0c.3
 for <test-report@dpdk.org>; Sat, 01 Jun 2024 03:46:52 -0700 (PDT)
DKIM-Signature: v=1; a=rsa-sha256; c=relaxed/relaxed;
 d=iol.unh.edu; s=unh-iol; t=1717238812; x=1717843612; darn=dpdk.org;
 h=references:in-reply-to:cc:to:from:subject:message-id:date:from:to
 :cc:subject:date:message-id:reply-to;
 bh=ORCKeIDefT5YFC1EzDvzjjB1Gyi17JZlxoBAEmaej7E=;
 b=jtf1bRwcFCxH5cwAzo6YCIw1OISHvWoGsRqtpmpDjI5yxIUQTFMTqFZay9TAUo3cc8
 lm8vMgDh3gicCEKeLhf2uQxYZAnLwDM/giUDnt64UvAGHG9Fes4U3nJ+p2vLnOBmSQYq
 LpGUvOsmrxePos5TN+O/erk/sHa0Jh7G8kb38=
X-Google-DKIM-Signature: v=1; a=rsa-sha256; c=relaxed/relaxed;
 d=1e100.net; s=20230601; t=1717238812; x=1717843612;
 h=references:in-reply-to:cc:to:from:subject:message-id:date
 :x-gm-message-state:from:to:cc:subject:date:message-id:reply-to;
 bh=ORCKeIDefT5YFC1EzDvzjjB1Gyi17JZlxoBAEmaej7E=;
 b=lPcIW9FJO1J5bVf9Ba6ihccjZnfPmd4oxe+kor1s5KjVLhNzG6532uDkmvHWiywEqb
 uMr4RwfwlcOwZgYXkpBs6KDecCIg6xCxZ/hOWzxBrEJn0USz4jJeQUg5s5pHzVnrrJ4D
 Io1B2nWf33ylGsvaM69e0RSETgLFbsydea10h8jcZehHKzC2ka/BZirPy3s9pF5X/fLI
 AbhIpgC0uLing+ueTpIwcLPU3EAUBuVmXMs2n74viHvpfQnW+sTRnxSKHFFF+sNLnyqI
 pHKPiVjZkpFbYaijaNL2e6qxypy4B/yM7HVQ3XUrlz4RpKRkONhX5IG5Gnm1cQg6UWOs
 SSVw==
X-Gm-Message-State: AOJu0Yyw2VmeB8+OJMu148IfRkUnXDBMKWCrga7QZekjlazWapElIr8Y
 DnlnedUK8tHfyFfoCs5wQaDaFNbvANxLpLbTdiJR0D2TlCXvwwsNvJn2VtB+SidE4YipPpRBbCe
 m2oPPfYdJ01fyrA+ITgx0gaDdfuDnSBY6PWbdhMNqU+NOk52bLYSRk4y0
X-Google-Smtp-Source: AGHT+IGOEoW0l85rLwfR1qIBwGECYO1soqhfC8/GXOjz7+cm79xkNYCja4Vc3norUIg9n29Osuw6DQfGoGf4
X-Received: by 2002:a05:6102:303b:b0:47e:b21d:f4a0 with SMTP id
 ada2fe7eead31-48bc2401687mr3919291137.35.1717238810545; 
 Sat, 01 Jun 2024 03:46:50 -0700 (PDT)
Received: from postal.iol.unh.edu (postal.iol.unh.edu.
 [2606:4100:3880:1234::84]) by smtp-relay.gmail.com with ESMTPS id
 a1e0cc1a2514c-80adf164987sm118443241.6.2024.06.01.03.46.50
 (version=TLS1_2 cipher=ECDHE-ECDSA-AES128-GCM-SHA256 bits=128/128);
 Sat, 01 Jun 2024 03:46:50 -0700 (PDT)
X-Relaying-Domain: iol.unh.edu
Date: Sat, 01 Jun 2024 03:46:50 -0700 (PDT)
Message-ID: <665afc1a.b00a0220.13cfef.8e14SMTPIN_ADDED_MISSING@mx.google.com>
Received: from [172.21.0.6] (unknown [172.18.0.240])
 by postal.iol.unh.edu (Postfix) with ESMTP id 315D1605C21C;
 Sat,  1 Jun 2024 06:46:50 -0400 (EDT)
Subject: |SUCCESS| pw140439-140468 [PATCH] [v3,30/30] net/ixgbe/base: add var
From: dpdklab@iol.unh.edu
To: Test Report <test-report@dpdk.org>
Cc: dpdk-test-reports@iol.unh.edu
In-Reply-To: <8f3af229cc5c42dbc83e4c74fbe91bf4aea9fbbd.1717067519.git.anatoly.burakov@intel.com>
References: <8f3af229cc5c42dbc83e4c74fbe91bf4aea9fbbd.1717067519.git.anatoly.burakov@intel.com>
Content-Type: text/plain
X-BeenThere: test-report@dpdk.org
X-Mailman-Version: 2.1.29
Precedence: list
List-Id: automatic DPDK test reports <test-report.dpdk.org>
List-Unsubscribe: <https://mails.dpdk.org/options/test-report>,
 <mailto:test-report-request@dpdk.org?subject=unsubscribe>
List-Archive: <http://mails.dpdk.org/archives/test-report/>
List-Post: <mailto:test-report@dpdk.org>
List-Help: <mailto:test-report-request@dpdk.org?subject=help>
List-Subscribe: <https://mails.dpdk.org/listinfo/test-report>,
 <mailto:test-report-request@dpdk.org?subject=subscribe>
Errors-To: test-report-bounces@dpdk.org

Test-Label: iol-compile-arm64-testing
Test-Status: SUCCESS
http://dpdk.org/patch/140468

_Testing PASS_

Submitter: Anatoly Burakov <anatoly.burakov@intel.com>
Date: Thursday, May 30 2024 11:14:03 
DPDK git baseline: Repo:dpdk
  Branch: master
  CommitID:76cef1af8bdaeaf67a5c4ca5df3f221df994dc46

140439-140468 --> testing pass

Test environment and result as below:

+----------------------------------------+--------------------+
|              Environment               | dpdk_meson_compile |
+========================================+====================+
| Ubuntu 20.04 ARM SVE                   | PASS               |
+----------------------------------------+--------------------+
| Debian 12 with MUSDK                   | PASS               |
+----------------------------------------+--------------------+
| Fedora 38 (ARM)                        | PASS               |
+----------------------------------------+--------------------+
| Ubuntu 22.04 (ARM)                     | PASS               |
+----------------------------------------+--------------------+
| CentOS Stream 9 (ARM)                  | PASS               |
+----------------------------------------+--------------------+
| Fedora 37 (ARM)                        | PASS               |
+----------------------------------------+--------------------+
| Ubuntu 24.04 (ARM)                     | PASS               |
+----------------------------------------+--------------------+
| Debian 12 (arm)                        | PASS               |
+----------------------------------------+--------------------+
| Ubuntu 20.04 (ARM)                     | PASS               |
+----------------------------------------+--------------------+
| Fedora 39 (ARM)                        | PASS               |
+----------------------------------------+--------------------+
| Debian 11 (Buster) (ARM)               | PASS               |
+----------------------------------------+--------------------+
| Ubuntu 20.04 aarch32 GCC Cross Compile | PASS               |
+----------------------------------------+--------------------+
| Ubuntu 20.04 ARM Clang Cross Compile   | PASS               |
+----------------------------------------+--------------------+


Ubuntu 20.04 ARM SVE
	Kernel: 5.4.0-167-generic
	Compiler: gcc (Ubuntu 10.5.0-1ubuntu1~20.04) 10.5.0

Debian 12 with MUSDK
	Kernel: Container Host Kernel
	Compiler: gcc 12.2.0

Fedora 38 (ARM)
	Kernel: Depends on container host
	Compiler: gcc 13.2.1

Ubuntu 22.04 (ARM)
	Kernel: Container Host Kernel
	Compiler: gcc 11.4.0

CentOS Stream 9 (ARM)
	Kernel: Container Host Kernel
	Compiler: gcc 11.4.1

Fedora 37 (ARM)
	Kernel: Depends on container host
	Compiler: gcc 12.3.1

Ubuntu 24.04 (ARM)
	Kernel: 5.4.0-167-generic
	Compiler: gcc 13.2.0

Debian 12 (arm)
	Kernel: Container Host Kernel
	Compiler: gcc 12.2.0

Ubuntu 20.04 (ARM)
	Kernel: Container Host Kernel
	Compiler: gcc 9.4.0

Fedora 39 (ARM)
	Kernel: Depends on container host
	Compiler: gcc 13.2.1

Debian 11 (Buster) (ARM)
	Kernel: Container Host Kernel
	Compiler: gcc 10.2.1

Ubuntu 20.04 aarch32 GCC Cross Compile
	Kernel: 5.4.0-167-generic
	Compiler: gcc 9.4.0

Ubuntu 20.04 ARM Clang Cross Compile
	Kernel: 5.4.0-72-generic
	Compiler: clang 10.0.0-4ubuntu1

To view detailed results, visit:
https://lab.dpdk.org/results/dashboard/patchsets/30049/

UNH-IOL DPDK Community Lab

To manage your email subscriptions, visit: 
https://lab.dpdk.org/results/dashboard/preferences/subscriptions/