From mboxrd@z Thu Jan  1 00:00:00 1970
Return-Path: <test-report-bounces@dpdk.org>
Received: from mails.dpdk.org (mails.dpdk.org [217.70.189.124])
	by inbox.dpdk.org (Postfix) with ESMTP id 0F82944060
	for <public@inbox.dpdk.org>; Sat,  1 Jun 2024 12:49:33 +0200 (CEST)
Received: from mails.dpdk.org (localhost [127.0.0.1])
	by mails.dpdk.org (Postfix) with ESMTP id 0A7F2402B4;
	Sat,  1 Jun 2024 12:49:33 +0200 (CEST)
Received: from mail-il1-f225.google.com (mail-il1-f225.google.com
 [209.85.166.225])
 by mails.dpdk.org (Postfix) with ESMTP id C768740270
 for <test-report@dpdk.org>; Sat,  1 Jun 2024 12:49:31 +0200 (CEST)
Received: by mail-il1-f225.google.com with SMTP id
 e9e14a558f8ab-374891eb5d3so7761485ab.3
 for <test-report@dpdk.org>; Sat, 01 Jun 2024 03:49:31 -0700 (PDT)
DKIM-Signature: v=1; a=rsa-sha256; c=relaxed/relaxed;
 d=iol.unh.edu; s=unh-iol; t=1717238971; x=1717843771; darn=dpdk.org;
 h=references:in-reply-to:cc:to:from:subject:message-id:date:from:to
 :cc:subject:date:message-id:reply-to;
 bh=ORCKeIDefT5YFC1EzDvzjjB1Gyi17JZlxoBAEmaej7E=;
 b=BobcQqWwQUxg2j16vhc4byzsQ5JZZbYkAPmJ9b1mEgMj0EefHneBAoA8sK4t8vOOK6
 RlmueAryk/NclHNAmo/8SEAOly/SBn5Frc+nuy2ljjiQlsj9XiIsd5fkFd+uguGROjg/
 PAhxknEsy+FE7Ym9lmMSEYE2ZdqvNExqnMVwE=
X-Google-DKIM-Signature: v=1; a=rsa-sha256; c=relaxed/relaxed;
 d=1e100.net; s=20230601; t=1717238971; x=1717843771;
 h=references:in-reply-to:cc:to:from:subject:message-id:date
 :x-gm-message-state:from:to:cc:subject:date:message-id:reply-to;
 bh=ORCKeIDefT5YFC1EzDvzjjB1Gyi17JZlxoBAEmaej7E=;
 b=IhfKmfLfsWJPPqGmAHv5jxeUS00xX28KbuKc/szRC+AHzTxSlU/Omh4ZhRpypw+37a
 HIZyNA24c2xUFO+9BaVAC1ZaYg3IHdwIVfHAi16xmQOLU2fp2Z6zeG2ADdnOuQAUCKnz
 Mfd5aIW3Ta5IcK7bImwJvTVwEzYPUKaiGlHBRc9ytyRYdDy/tTJstZ5G3W+miUfpRv4i
 UmATWkwFv+pA8A9WcKIBi3xOYiwZevCSXM8tKLzyEOk77USAPYnV4OtTe5NfQUt7PQ/q
 VZyMkn57VQALD7fDqe6B7R6k0sNFDbAdArhIQGS11XWHklEJPDxlxaWHG4DXrvfrkr//
 LqoQ==
X-Gm-Message-State: AOJu0YyWSNvClfI0wblWn9M7DuqdPMK2h5E9BLMIIQQKe1ppt4klwFkF
 XAWll8zk9XHn6ht+MQ7SxtosXhnvj2XLKNZGXz5vLRFL93UjT8v499SkLCk9+okcDWcx0E72AFh
 FzO6gVyNUP/fn3ZYxgDd7IOGr7iMAr9sI3fLR4w1d
X-Google-Smtp-Source: AGHT+IGVDgAT4/RWa0+VqR8IQ1ixu7Y8LXHtMdjS/O+RLY1CFSqdtLC8GuL84L6EPjTe46O4BBQsA1KiPi67
X-Received: by 2002:a05:6e02:1748:b0:374:8a3a:c176 with SMTP id
 e9e14a558f8ab-3748b97d400mr49943355ab.9.1717238971240; 
 Sat, 01 Jun 2024 03:49:31 -0700 (PDT)
Received: from postal.iol.unh.edu (postal.iol.unh.edu. [132.177.123.84])
 by smtp-relay.gmail.com with ESMTPS id
 e9e14a558f8ab-3748a276347sm1927555ab.62.2024.06.01.03.49.31
 (version=TLS1_2 cipher=ECDHE-ECDSA-AES128-GCM-SHA256 bits=128/128);
 Sat, 01 Jun 2024 03:49:31 -0700 (PDT)
X-Relaying-Domain: iol.unh.edu
Date: Sat, 01 Jun 2024 03:49:31 -0700 (PDT)
Message-ID: <665afcbb.050a0220.41e69.dc85SMTPIN_ADDED_MISSING@mx.google.com>
Received: from [172.21.0.6] (unknown [172.18.0.240])
 by postal.iol.unh.edu (Postfix) with ESMTP id ABE91605C21C;
 Sat,  1 Jun 2024 06:49:30 -0400 (EDT)
Subject: |SUCCESS| pw140439-140468 [PATCH] [v3,30/30] net/ixgbe/base: add var
From: dpdklab@iol.unh.edu
To: Test Report <test-report@dpdk.org>
Cc: dpdk-test-reports@iol.unh.edu
In-Reply-To: <8f3af229cc5c42dbc83e4c74fbe91bf4aea9fbbd.1717067519.git.anatoly.burakov@intel.com>
References: <8f3af229cc5c42dbc83e4c74fbe91bf4aea9fbbd.1717067519.git.anatoly.burakov@intel.com>
Content-Type: text/plain
X-BeenThere: test-report@dpdk.org
X-Mailman-Version: 2.1.29
Precedence: list
List-Id: automatic DPDK test reports <test-report.dpdk.org>
List-Unsubscribe: <https://mails.dpdk.org/options/test-report>,
 <mailto:test-report-request@dpdk.org?subject=unsubscribe>
List-Archive: <http://mails.dpdk.org/archives/test-report/>
List-Post: <mailto:test-report@dpdk.org>
List-Help: <mailto:test-report-request@dpdk.org?subject=help>
List-Subscribe: <https://mails.dpdk.org/listinfo/test-report>,
 <mailto:test-report-request@dpdk.org?subject=subscribe>
Errors-To: test-report-bounces@dpdk.org

Test-Label: iol-compile-arm64-testing
Test-Status: SUCCESS
http://dpdk.org/patch/140468

_Testing PASS_

Submitter: Anatoly Burakov <anatoly.burakov@intel.com>
Date: Thursday, May 30 2024 11:14:03 
DPDK git baseline: Repo:dpdk
  Branch: master
  CommitID:76cef1af8bdaeaf67a5c4ca5df3f221df994dc46

140439-140468 --> testing pass

Test environment and result as below:

+----------------------------------------+--------------------+
|              Environment               | dpdk_meson_compile |
+========================================+====================+
| Ubuntu 20.04 ARM SVE                   | PASS               |
+----------------------------------------+--------------------+
| Debian 12 with MUSDK                   | PASS               |
+----------------------------------------+--------------------+
| Fedora 38 (ARM)                        | PASS               |
+----------------------------------------+--------------------+
| Ubuntu 22.04 (ARM)                     | PASS               |
+----------------------------------------+--------------------+
| CentOS Stream 9 (ARM)                  | PASS               |
+----------------------------------------+--------------------+
| Fedora 37 (ARM)                        | PASS               |
+----------------------------------------+--------------------+
| Ubuntu 24.04 (ARM)                     | PASS               |
+----------------------------------------+--------------------+
| Debian 12 (arm)                        | PASS               |
+----------------------------------------+--------------------+
| Ubuntu 20.04 (ARM)                     | PASS               |
+----------------------------------------+--------------------+
| Fedora 39 (ARM)                        | PASS               |
+----------------------------------------+--------------------+
| Debian 11 (Buster) (ARM)               | PASS               |
+----------------------------------------+--------------------+
| Ubuntu 20.04 aarch32 GCC Cross Compile | PASS               |
+----------------------------------------+--------------------+
| Ubuntu 20.04 ARM Clang Cross Compile   | PASS               |
+----------------------------------------+--------------------+


Ubuntu 20.04 ARM SVE
	Kernel: 5.4.0-167-generic
	Compiler: gcc (Ubuntu 10.5.0-1ubuntu1~20.04) 10.5.0

Debian 12 with MUSDK
	Kernel: Container Host Kernel
	Compiler: gcc 12.2.0

Fedora 38 (ARM)
	Kernel: Depends on container host
	Compiler: gcc 13.2.1

Ubuntu 22.04 (ARM)
	Kernel: Container Host Kernel
	Compiler: gcc 11.4.0

CentOS Stream 9 (ARM)
	Kernel: Container Host Kernel
	Compiler: gcc 11.4.1

Fedora 37 (ARM)
	Kernel: Depends on container host
	Compiler: gcc 12.3.1

Ubuntu 24.04 (ARM)
	Kernel: 5.4.0-167-generic
	Compiler: gcc 13.2.0

Debian 12 (arm)
	Kernel: Container Host Kernel
	Compiler: gcc 12.2.0

Ubuntu 20.04 (ARM)
	Kernel: Container Host Kernel
	Compiler: gcc 9.4.0

Fedora 39 (ARM)
	Kernel: Depends on container host
	Compiler: gcc 13.2.1

Debian 11 (Buster) (ARM)
	Kernel: Container Host Kernel
	Compiler: gcc 10.2.1

Ubuntu 20.04 aarch32 GCC Cross Compile
	Kernel: 5.4.0-167-generic
	Compiler: gcc 9.4.0

Ubuntu 20.04 ARM Clang Cross Compile
	Kernel: 5.4.0-72-generic
	Compiler: clang 10.0.0-4ubuntu1

To view detailed results, visit:
https://lab.dpdk.org/results/dashboard/patchsets/30049/

UNH-IOL DPDK Community Lab

To manage your email subscriptions, visit: 
https://lab.dpdk.org/results/dashboard/preferences/subscriptions/