From mboxrd@z Thu Jan  1 00:00:00 1970
Return-Path: <test-report-bounces@dpdk.org>
Received: from mails.dpdk.org (mails.dpdk.org [217.70.189.124])
	by inbox.dpdk.org (Postfix) with ESMTP id 36AC8440E0
	for <public@inbox.dpdk.org>; Sat,  1 Jun 2024 12:53:01 +0200 (CEST)
Received: from mails.dpdk.org (localhost [127.0.0.1])
	by mails.dpdk.org (Postfix) with ESMTP id 2DB74402B4;
	Sat,  1 Jun 2024 12:53:01 +0200 (CEST)
Received: from mail-il1-f225.google.com (mail-il1-f225.google.com
 [209.85.166.225])
 by mails.dpdk.org (Postfix) with ESMTP id 30AA740270
 for <test-report@dpdk.org>; Sat,  1 Jun 2024 12:53:00 +0200 (CEST)
Received: by mail-il1-f225.google.com with SMTP id
 e9e14a558f8ab-3737b281d89so8119585ab.0
 for <test-report@dpdk.org>; Sat, 01 Jun 2024 03:53:00 -0700 (PDT)
DKIM-Signature: v=1; a=rsa-sha256; c=relaxed/relaxed;
 d=iol.unh.edu; s=unh-iol; t=1717239179; x=1717843979; darn=dpdk.org;
 h=references:in-reply-to:cc:to:from:subject:message-id:date:from:to
 :cc:subject:date:message-id:reply-to;
 bh=4eIldFeFzvnVnEHy69jHIeLZKmFgQAuHu0ItUtRKfYU=;
 b=aAjydZ/AVpO4RIollaxO2Y7BsJ/WvTgLL4mZBtQ043tlVaFqvQYaRW31d0jLioiQpD
 i54nvax7gvLGPkn6hb69Mb1Ah5s8gxaqSY7vbhQJf8bActaxeg5ocYCeKxNo0FoZqxgO
 SCX822fq+a+hNI1gg17QRQ+VDD6WlbsRkyJlA=
X-Google-DKIM-Signature: v=1; a=rsa-sha256; c=relaxed/relaxed;
 d=1e100.net; s=20230601; t=1717239179; x=1717843979;
 h=references:in-reply-to:cc:to:from:subject:message-id:date
 :x-gm-message-state:from:to:cc:subject:date:message-id:reply-to;
 bh=4eIldFeFzvnVnEHy69jHIeLZKmFgQAuHu0ItUtRKfYU=;
 b=GnHBf0DXIkpiCdvG/C9Gq6iiF9sKb2BQpMn2vMjfWy4njQ+F8D7rKtTECrzOqfC7wk
 rvz1rRI+sHEgVbKmiTF4Ro4Q3r88vDT695xkFY4+Co3geuIutkXG7BTHY/dLrxMLqn1Z
 l7vNSdyB0BF+9w3f2T3ERpG4FCFeVHRpPAAzUTwMjxKd5t2XKWB01zcRcqP5vBcOT2lJ
 0BX1zw3zjidDTDy/PNGf9drjOK31FnM0f1jYQct40D77G4XN6cJKHHvsqpUTi6dLYoUM
 twvYzDCD3Qi/34dOoLZxnMhQLiyfilUe7xbpawt1lApZDS0k84eh3W+KVme1z+1wtEWZ
 o8lQ==
X-Gm-Message-State: AOJu0YwFTTsRqgpS+It6E2H8gqIbRTpcMM5MzBatRc5S+sgAQbD/9vu+
 9SV4HBztop6jOOI8wCVg3/EI7SaSBKQBDzyoDrh0cW5+5WX72UWHBLFYzHkBFpeHK6UzBnpQpKu
 6cPJEAov5F6gJK4+eWjew1mWsoxk4/hURf+ZUm3QA
X-Google-Smtp-Source: AGHT+IGZraJ8qMpAVFY9GuBthnMxPp+j5HLse/Q1LYkMXlpbr0dpJ3+VKfytd2RWSxtF5zyaVcU2wxAJ6K4F
X-Received: by 2002:a05:6e02:1384:b0:374:81d1:cd0b with SMTP id
 e9e14a558f8ab-3748b987afbmr50860755ab.14.1717239179654; 
 Sat, 01 Jun 2024 03:52:59 -0700 (PDT)
Received: from postal.iol.unh.edu (postal.iol.unh.edu. [132.177.123.84])
 by smtp-relay.gmail.com with ESMTPS id
 e9e14a558f8ab-3748a20c998sm1127555ab.38.2024.06.01.03.52.59
 (version=TLS1_2 cipher=ECDHE-ECDSA-AES128-GCM-SHA256 bits=128/128);
 Sat, 01 Jun 2024 03:52:59 -0700 (PDT)
X-Relaying-Domain: iol.unh.edu
Date: Sat, 01 Jun 2024 03:52:59 -0700 (PDT)
Message-ID: <665afd8b.050a0220.16931b.843eSMTPIN_ADDED_MISSING@mx.google.com>
Received: from [172.21.0.6] (unknown [172.18.0.240])
 by postal.iol.unh.edu (Postfix) with ESMTP id 10A5A605C21C;
 Sat,  1 Jun 2024 06:52:59 -0400 (EDT)
Subject: |SUCCESS| pw140469-140470 [PATCH] [v4,2/2] dma/cnxk: remove completi
From: dpdklab@iol.unh.edu
To: Test Report <test-report@dpdk.org>
Cc: dpdk-test-reports@iol.unh.edu
In-Reply-To: <20240530124437.1870-2-pbhagavatula@marvell.com>
References: <20240530124437.1870-2-pbhagavatula@marvell.com>
Content-Type: text/plain
X-BeenThere: test-report@dpdk.org
X-Mailman-Version: 2.1.29
Precedence: list
List-Id: automatic DPDK test reports <test-report.dpdk.org>
List-Unsubscribe: <https://mails.dpdk.org/options/test-report>,
 <mailto:test-report-request@dpdk.org?subject=unsubscribe>
List-Archive: <http://mails.dpdk.org/archives/test-report/>
List-Post: <mailto:test-report@dpdk.org>
List-Help: <mailto:test-report-request@dpdk.org?subject=help>
List-Subscribe: <https://mails.dpdk.org/listinfo/test-report>,
 <mailto:test-report-request@dpdk.org?subject=subscribe>
Errors-To: test-report-bounces@dpdk.org

Test-Label: iol-compile-arm64-testing
Test-Status: SUCCESS
http://dpdk.org/patch/140470

_Testing PASS_

Submitter: Pavan Nikhilesh Bhagavatula <pbhagavatula@marvell.com>
Date: Thursday, May 30 2024 12:44:37 
DPDK git baseline: Repo:dpdk
  Branch: master
  CommitID:76cef1af8bdaeaf67a5c4ca5df3f221df994dc46

140469-140470 --> testing pass

Test environment and result as below:

+----------------------------------------+--------------------+
|              Environment               | dpdk_meson_compile |
+========================================+====================+
| Ubuntu 20.04 ARM SVE                   | PASS               |
+----------------------------------------+--------------------+
| Debian 12 with MUSDK                   | PASS               |
+----------------------------------------+--------------------+
| Fedora 37 (ARM)                        | PASS               |
+----------------------------------------+--------------------+
| Fedora 38 (ARM)                        | PASS               |
+----------------------------------------+--------------------+
| Ubuntu 22.04 (ARM)                     | PASS               |
+----------------------------------------+--------------------+
| Fedora 39 (ARM)                        | PASS               |
+----------------------------------------+--------------------+
| Ubuntu 20.04 (ARM)                     | PASS               |
+----------------------------------------+--------------------+
| Debian 11 (Buster) (ARM)               | PASS               |
+----------------------------------------+--------------------+
| Ubuntu 24.04 (ARM)                     | PASS               |
+----------------------------------------+--------------------+
| CentOS Stream 9 (ARM)                  | PASS               |
+----------------------------------------+--------------------+
| Debian 12 (arm)                        | PASS               |
+----------------------------------------+--------------------+
| Ubuntu 20.04 aarch32 GCC Cross Compile | PASS               |
+----------------------------------------+--------------------+


Ubuntu 20.04 ARM SVE
	Kernel: 5.4.0-167-generic
	Compiler: gcc (Ubuntu 10.5.0-1ubuntu1~20.04) 10.5.0

Debian 12 with MUSDK
	Kernel: Container Host Kernel
	Compiler: gcc 12.2.0

Fedora 37 (ARM)
	Kernel: Depends on container host
	Compiler: gcc 12.3.1

Fedora 38 (ARM)
	Kernel: Depends on container host
	Compiler: gcc 13.2.1

Ubuntu 22.04 (ARM)
	Kernel: Container Host Kernel
	Compiler: gcc 11.4.0

Fedora 39 (ARM)
	Kernel: Depends on container host
	Compiler: gcc 13.2.1

Ubuntu 20.04 (ARM)
	Kernel: Container Host Kernel
	Compiler: gcc 9.4.0

Debian 11 (Buster) (ARM)
	Kernel: Container Host Kernel
	Compiler: gcc 10.2.1

Ubuntu 24.04 (ARM)
	Kernel: 5.4.0-167-generic
	Compiler: gcc 13.2.0

CentOS Stream 9 (ARM)
	Kernel: Container Host Kernel
	Compiler: gcc 11.4.1

Debian 12 (arm)
	Kernel: Container Host Kernel
	Compiler: gcc 12.2.0

Ubuntu 20.04 aarch32 GCC Cross Compile
	Kernel: 5.4.0-167-generic
	Compiler: gcc 9.4.0

To view detailed results, visit:
https://lab.dpdk.org/results/dashboard/patchsets/30050/

UNH-IOL DPDK Community Lab

To manage your email subscriptions, visit: 
https://lab.dpdk.org/results/dashboard/preferences/subscriptions/