From mboxrd@z Thu Jan  1 00:00:00 1970
Return-Path: <test-report-bounces@dpdk.org>
Received: from mails.dpdk.org (mails.dpdk.org [217.70.189.124])
	by inbox.dpdk.org (Postfix) with ESMTP id 2493B44116
	for <public@inbox.dpdk.org>; Sat,  1 Jun 2024 13:04:55 +0200 (CEST)
Received: from mails.dpdk.org (localhost [127.0.0.1])
	by mails.dpdk.org (Postfix) with ESMTP id 20858402B4;
	Sat,  1 Jun 2024 13:04:55 +0200 (CEST)
Received: from mail-pf1-f227.google.com (mail-pf1-f227.google.com
 [209.85.210.227])
 by mails.dpdk.org (Postfix) with ESMTP id 542A740270
 for <test-report@dpdk.org>; Sat,  1 Jun 2024 13:04:54 +0200 (CEST)
Received: by mail-pf1-f227.google.com with SMTP id
 d2e1a72fcca58-70259bdcf7cso189702b3a.0
 for <test-report@dpdk.org>; Sat, 01 Jun 2024 04:04:54 -0700 (PDT)
DKIM-Signature: v=1; a=rsa-sha256; c=relaxed/relaxed;
 d=iol.unh.edu; s=unh-iol; t=1717239893; x=1717844693; darn=dpdk.org;
 h=references:in-reply-to:cc:to:from:subject:message-id:date:from:to
 :cc:subject:date:message-id:reply-to;
 bh=QhxWLAqrkYghK88dBfeN5PahHgrU4a8/DYZMPwDhXy0=;
 b=PHrt0yVMjbhRko3dP88AlC8rHqu3mBONuA0dOFuGev3Jn5wD0QjjVaoaleehojPIDM
 MpPNy8eNooW7LGEW7jwLvVlqhevW+2blhO3PgJXt1o8Zmo8fyU3keVnPLb2849xQpH+o
 NARxqJ+sLIX+Rau+/G3JIXW9MElt5y3hENHqU=
X-Google-DKIM-Signature: v=1; a=rsa-sha256; c=relaxed/relaxed;
 d=1e100.net; s=20230601; t=1717239893; x=1717844693;
 h=references:in-reply-to:cc:to:from:subject:message-id:date
 :x-gm-message-state:from:to:cc:subject:date:message-id:reply-to;
 bh=QhxWLAqrkYghK88dBfeN5PahHgrU4a8/DYZMPwDhXy0=;
 b=QznhGQgUXa0S/pYnmHBd8fwwRI8cn7l7ivmKxhRcbcuAhHE6nkLdMyRShYlUiIBx6E
 LwnJ3JsqUGROIO7ypxcI2XhHMyVlwdQ9Knat7Yb4FoCjCUQDEMSyQBiT7/XUoCYSFQG8
 DtysPiTnHTvhFEhY3MkcBC2uPMufIx10CCrj45oPGRW6V05w0+3HM4KjLRzTWntQixCK
 AKauCPV/MfTh7Zq/2OLuV+bhjP7PrIX4Fz2EsLo0U2Iyt3xkk27LG1Wx7hdTa+ezDh1b
 Clbi1l/ih2WOoJv3G3kxAsN5PYrwpCFePB5KtV1AN6r04H1tnszkQh+Q67M8L3jerGsx
 lrcg==
X-Gm-Message-State: AOJu0Ywhe8AKUmlmoyhQ8PFwSiHdcJmpK4DBYFSLmKF7PpnQMm3yOYQB
 DnU9F8nDfxL0w/KZrzQ+/DGTrAoiqQSgbu+j08wTuscEo0dC04/4Y7gMbBwVVHBDUC39xpYNqTr
 CUh2w5sGTieopQvbPuL6a/PMrhw1NFsOg/5Mk1MIC6/Sx/rY4OVuYsbVK
X-Google-Smtp-Source: AGHT+IEtGtbITGMowfxnghng8+a6b9DoPuailA7F+E9GpN/9NDkXy+9BxoayqyIcIYXbbW0s5INFt8iZr202
X-Received: by 2002:a05:6a20:158b:b0:1af:cb7c:cc98 with SMTP id
 adf61e73a8af0-1b26f316d87mr4888633637.55.1717239893492; 
 Sat, 01 Jun 2024 04:04:53 -0700 (PDT)
Received: from postal.iol.unh.edu (postal.iol.unh.edu.
 [2606:4100:3880:1234::84]) by smtp-relay.gmail.com with ESMTPS id
 98e67ed59e1d1-2c1c2799e70sm206521a91.2.2024.06.01.04.04.53
 (version=TLS1_2 cipher=ECDHE-ECDSA-AES128-GCM-SHA256 bits=128/128);
 Sat, 01 Jun 2024 04:04:53 -0700 (PDT)
X-Relaying-Domain: iol.unh.edu
Date: Sat, 01 Jun 2024 04:04:53 -0700 (PDT)
Message-ID: <665b0055.170a0220.331a4.f518SMTPIN_ADDED_MISSING@mx.google.com>
Received: from [172.21.0.6] (unknown [172.18.0.240])
 by postal.iol.unh.edu (Postfix) with ESMTP id 7746D605C21C;
 Sat,  1 Jun 2024 07:04:52 -0400 (EDT)
Subject: |SUCCESS| pw140439-140468 [PATCH] [v3,30/30] net/ixgbe/base: add var
From: dpdklab@iol.unh.edu
To: Test Report <test-report@dpdk.org>
Cc: dpdk-test-reports@iol.unh.edu
In-Reply-To: <8f3af229cc5c42dbc83e4c74fbe91bf4aea9fbbd.1717067519.git.anatoly.burakov@intel.com>
References: <8f3af229cc5c42dbc83e4c74fbe91bf4aea9fbbd.1717067519.git.anatoly.burakov@intel.com>
Content-Type: text/plain
X-BeenThere: test-report@dpdk.org
X-Mailman-Version: 2.1.29
Precedence: list
List-Id: automatic DPDK test reports <test-report.dpdk.org>
List-Unsubscribe: <https://mails.dpdk.org/options/test-report>,
 <mailto:test-report-request@dpdk.org?subject=unsubscribe>
List-Archive: <http://mails.dpdk.org/archives/test-report/>
List-Post: <mailto:test-report@dpdk.org>
List-Help: <mailto:test-report-request@dpdk.org?subject=help>
List-Subscribe: <https://mails.dpdk.org/listinfo/test-report>,
 <mailto:test-report-request@dpdk.org?subject=subscribe>
Errors-To: test-report-bounces@dpdk.org

Test-Label: iol-compile-amd64-testing
Test-Status: SUCCESS
http://dpdk.org/patch/140468

_Testing PASS_

Submitter: Anatoly Burakov <anatoly.burakov@intel.com>
Date: Thursday, May 30 2024 11:14:03 
DPDK git baseline: Repo:dpdk
  Branch: master
  CommitID:76cef1af8bdaeaf67a5c4ca5df3f221df994dc46

140439-140468 --> testing pass

Test environment and result as below:

+---------------------+--------------------+----------------------+-------------------+------------------+
|     Environment     | dpdk_meson_compile | dpdk_mingw64_compile | dpdk_msvc_compile | dpdk_compile_ovs |
+=====================+====================+======================+===================+==================+
| FreeBSD 13.3        | PASS               | SKIPPED              | SKIPPED           | SKIPPED          |
+---------------------+--------------------+----------------------+-------------------+------------------+
| Windows Server 2019 | PASS               | PASS                 | SKIPPED           | SKIPPED          |
+---------------------+--------------------+----------------------+-------------------+------------------+
| FreeBSD 14.0        | PASS               | SKIPPED              | SKIPPED           | SKIPPED          |
+---------------------+--------------------+----------------------+-------------------+------------------+
| Windows Server 2022 | PASS               | PASS                 | PASS              | SKIPPED          |
+---------------------+--------------------+----------------------+-------------------+------------------+
| Debian Bullseye     | PASS               | SKIPPED              | SKIPPED           | PASS             |
+---------------------+--------------------+----------------------+-------------------+------------------+
| Debian 12           | PASS               | SKIPPED              | SKIPPED           | PASS             |
+---------------------+--------------------+----------------------+-------------------+------------------+
| CentOS Stream 9     | PASS               | SKIPPED              | SKIPPED           | PASS             |
+---------------------+--------------------+----------------------+-------------------+------------------+
| Ubuntu 20.04        | PASS               | SKIPPED              | SKIPPED           | PASS             |
+---------------------+--------------------+----------------------+-------------------+------------------+
| Fedora 38           | PASS               | SKIPPED              | SKIPPED           | PASS             |
+---------------------+--------------------+----------------------+-------------------+------------------+
| Ubuntu 24.04        | PASS               | SKIPPED              | SKIPPED           | PASS             |
+---------------------+--------------------+----------------------+-------------------+------------------+
| RHEL8               | PASS               | SKIPPED              | SKIPPED           | PASS             |
+---------------------+--------------------+----------------------+-------------------+------------------+
| Fedora 39           | PASS               | SKIPPED              | SKIPPED           | PASS             |
+---------------------+--------------------+----------------------+-------------------+------------------+
| openSUSE Leap 15    | PASS               | SKIPPED              | SKIPPED           | PASS             |
+---------------------+--------------------+----------------------+-------------------+------------------+
| Fedora 37           | PASS               | SKIPPED              | SKIPPED           | PASS             |
+---------------------+--------------------+----------------------+-------------------+------------------+
| Ubuntu 22.04        | PASS               | SKIPPED              | SKIPPED           | PASS             |
+---------------------+--------------------+----------------------+-------------------+------------------+
| Alpine              | PASS               | SKIPPED              | SKIPPED           | PASS             |
+---------------------+--------------------+----------------------+-------------------+------------------+


FreeBSD 13.3
	Kernel: 13.3-RELEASE-p1
	Compiler: clang 17.0.6

Windows Server 2019
	Kernel: 10.0.17763
	Compiler: clang 14.0 and gcc 8.1.0 (MinGW)

FreeBSD 14.0
	Kernel: 14.0
	Compiler: clang 16.0.6

Windows Server 2022
	Kernel: 10.0.20348.2031
	Compiler: clang 15.0.7, gcc 8.1.0 (MinGW), and MSVC VS 17.9

Debian Bullseye
	Kernel: 5.4.0-167-generic
	Compiler: gcc 10.2.1-6

Debian 12
	Kernel: Container Host Kernel
	Compiler: gcc 10.2.1

CentOS Stream 9
	Kernel: 5.4.0-167-generic
	Compiler: gcc 11.4.1 20230605

Ubuntu 20.04
	Kernel: 5.4.0-167-generic
	Compiler: gcc 9.4.0-1ubuntu1~20.04.1

Fedora 38
	Kernel: Depends on container host
	Compiler: clang 16.0.6

Ubuntu 24.04
	Kernel: 5.4.0-167-generic
	Compiler: gcc 13.2.0

RHEL8
	Kernel: 5.4.0-167-generic
	Compiler: gcc 8.5.0 20210514 (Red Hat 8.5.0-20)

Fedora 39
	Kernel: Depends on container host
	Compiler: gcc 13.2.1

openSUSE Leap 15
	Kernel: 5.4.0-167-generic
	Compiler: gcc 7.5.0

Fedora 37
	Kernel: Depends on container host system
	Compiler: gcc 12.3.1

Ubuntu 22.04
	Kernel: 5.4.0-167-generic
	Compiler: gcc 11.4.0

Alpine
	Kernel: 5.4.0-167-generic
	Compiler: gcc (Alpine 13.2.1_git20231014) 13.2.1 20231014

To view detailed results, visit:
https://lab.dpdk.org/results/dashboard/patchsets/30049/

UNH-IOL DPDK Community Lab

To manage your email subscriptions, visit: 
https://lab.dpdk.org/results/dashboard/preferences/subscriptions/