From mboxrd@z Thu Jan  1 00:00:00 1970
Return-Path: <test-report-bounces@dpdk.org>
Received: from mails.dpdk.org (mails.dpdk.org [217.70.189.124])
	by inbox.dpdk.org (Postfix) with ESMTP id 45122440E0
	for <public@inbox.dpdk.org>; Sat,  1 Jun 2024 15:34:55 +0200 (CEST)
Received: from mails.dpdk.org (localhost [127.0.0.1])
	by mails.dpdk.org (Postfix) with ESMTP id 29376402B4;
	Sat,  1 Jun 2024 15:34:55 +0200 (CEST)
Received: from mail-qv1-f97.google.com (mail-qv1-f97.google.com
 [209.85.219.97]) by mails.dpdk.org (Postfix) with ESMTP id 1494640270
 for <test-report@dpdk.org>; Sat,  1 Jun 2024 15:34:54 +0200 (CEST)
Received: by mail-qv1-f97.google.com with SMTP id
 6a1803df08f44-6af46bc6750so1066116d6.3
 for <test-report@dpdk.org>; Sat, 01 Jun 2024 06:34:54 -0700 (PDT)
DKIM-Signature: v=1; a=rsa-sha256; c=relaxed/relaxed;
 d=iol.unh.edu; s=unh-iol; t=1717248893; x=1717853693; darn=dpdk.org;
 h=references:in-reply-to:cc:to:from:subject:message-id:date:from:to
 :cc:subject:date:message-id:reply-to;
 bh=Hi85TSUXZopx6s9HpydNzknaIz/uNdYKE2TJK2Xh1rc=;
 b=CS41QWCP2PB4RiYf5Kwfk+7zXhUC8dEo1Cp8zCSPw1DHhmfE70bbrHNrMPdJDUWBn5
 +XLkpSvHD7Bo4jeVLzQ2scA7MvtLTFKywXRtXkT2h9ySSRyzNMDnuzI2M5SsMyuD/Ri1
 MUQtKJ+/o0/DVLhPIo1iDJEhECLwurunzKkRE=
X-Google-DKIM-Signature: v=1; a=rsa-sha256; c=relaxed/relaxed;
 d=1e100.net; s=20230601; t=1717248893; x=1717853693;
 h=references:in-reply-to:cc:to:from:subject:message-id:date
 :x-gm-message-state:from:to:cc:subject:date:message-id:reply-to;
 bh=Hi85TSUXZopx6s9HpydNzknaIz/uNdYKE2TJK2Xh1rc=;
 b=dXL0Qz1iigiqy7lsLtc5XO7mpDcOazMYxCBmNnixhjO8n/ihxNLmD7brxRkvgQVpNo
 +u1GmGXhwCUkyTqHeZfhc2knS1AXwxh1CVAZ09XqjFvq8+B+Qjg+/YukgvwB4L7ik/AD
 thFu3211D6l5c5TIrLqN6e0CRRxvkE6Xg5kNry7zZiXYINDuOl42wQZU8huIDqcoubdU
 qW74dABm5A0j2RPSYi4sFSY34b4d4PAAogEGTlvojn4iZsDblRJD7DopZigRwwSNLcM/
 ue9yhR+NK2T4M/rHHl8CJII05E48ZED22IfTPyvIpPKeTkWaNhZ8aFfL94MnpdS42/aj
 4Y3g==
X-Gm-Message-State: AOJu0YxqetKsd5qUTPkiWINSMRFROduLgRogmI5rEuwxQo9h9HVFJtmJ
 810GmPOPR2ef+sAWsUqBxETniYAoYfouqrSuHCehjZDg3frcgEeVbHJjhOoDGrVD8jDo1dy9xsZ
 dk1Fk0tqGTyX2p0bIL0nQVlgX1N9VL1StYHh+Q3Ja
X-Google-Smtp-Source: AGHT+IFZKcQTFPodRsjaIkL+iKl+AGA12EzhsdclLJdoiVNWqyyZXj0bJTiQG9FcXDOe97LYnnXGDd+QnScN
X-Received: by 2002:a05:6214:21ed:b0:6ae:d3a7:aab with SMTP id
 6a1803df08f44-6aed3a70af3mr52151426d6.9.1717248893344; 
 Sat, 01 Jun 2024 06:34:53 -0700 (PDT)
Received: from postal.iol.unh.edu (postal.iol.unh.edu. [132.177.123.84])
 by smtp-relay.gmail.com with ESMTPS id
 6a1803df08f44-6ae4b403bb5sm1538576d6.64.2024.06.01.06.34.53
 (version=TLS1_2 cipher=ECDHE-ECDSA-AES128-GCM-SHA256 bits=128/128);
 Sat, 01 Jun 2024 06:34:53 -0700 (PDT)
X-Relaying-Domain: iol.unh.edu
Date: Sat, 01 Jun 2024 06:34:53 -0700 (PDT)
Message-ID: <665b237d.050a0220.386a69.cb16SMTPIN_ADDED_MISSING@mx.google.com>
Received: from [172.21.0.8] (unknown [172.18.0.240])
 by postal.iol.unh.edu (Postfix) with ESMTP id DEA76605C373;
 Sat,  1 Jun 2024 09:34:52 -0400 (EDT)
Subject: |SUCCESS| pw140409-140428 [PATCH] [v10,20/20] drivers: remove use of
From: dpdklab@iol.unh.edu
To: Test Report <test-report@dpdk.org>
Cc: dpdk-test-reports@iol.unh.edu
In-Reply-To: <20240529233811.663211-21-stephen@networkplumber.org>
References: <20240529233811.663211-21-stephen@networkplumber.org>
Content-Type: text/plain
X-BeenThere: test-report@dpdk.org
X-Mailman-Version: 2.1.29
Precedence: list
List-Id: automatic DPDK test reports <test-report.dpdk.org>
List-Unsubscribe: <https://mails.dpdk.org/options/test-report>,
 <mailto:test-report-request@dpdk.org?subject=unsubscribe>
List-Archive: <http://mails.dpdk.org/archives/test-report/>
List-Post: <mailto:test-report@dpdk.org>
List-Help: <mailto:test-report-request@dpdk.org?subject=help>
List-Subscribe: <https://mails.dpdk.org/listinfo/test-report>,
 <mailto:test-report-request@dpdk.org?subject=subscribe>
Errors-To: test-report-bounces@dpdk.org

Test-Label: iol-unit-amd64-testing
Test-Status: SUCCESS
http://dpdk.org/patch/140428

_Testing PASS_

Submitter: Stephen Hemminger <stephen@networkplumber.org>
Date: Wednesday, May 29 2024 23:33:54 
DPDK git baseline: Repo:dpdk
  Branch: master
  CommitID:76cef1af8bdaeaf67a5c4ca5df3f221df994dc46

140409-140428 --> testing pass

Test environment and result as below:

+------------------+----------------+
|   Environment    | dpdk_unit_test |
+==================+================+
| CentOS Stream 9  | PASS           |
+------------------+----------------+
| CentOS Stream 8  | PASS           |
+------------------+----------------+
| Fedora 38        | PASS           |
+------------------+----------------+
| Debian Bullseye  | PASS           |
+------------------+----------------+
| Fedora 37        | PASS           |
+------------------+----------------+
| Debian 12        | PASS           |
+------------------+----------------+
| Fedora 39        | PASS           |
+------------------+----------------+
| RHEL8            | PASS           |
+------------------+----------------+
| openSUSE Leap 15 | PASS           |
+------------------+----------------+
| Ubuntu 22.04     | PASS           |
+------------------+----------------+
| Ubuntu 20.04     | PASS           |
+------------------+----------------+
| Ubuntu 24.04     | PASS           |
+------------------+----------------+


CentOS Stream 9
	Kernel: 5.4.0-167-generic
	Compiler: gcc 11.4.1 20230605

CentOS Stream 8
	Kernel: 5.4.0-167-generic
	Compiler: gcc 8.5.0 20210514

Fedora 38
	Kernel: Depends on container host
	Compiler: gcc 13.2.1

Debian Bullseye
	Kernel: 5.4.0-167-generic
	Compiler: gcc 10.2.1-6

Fedora 37
	Kernel: Depends on container host system
	Compiler: gcc 12.3.1

Debian 12
	Kernel: Container Host Kernel
	Compiler: gcc 10.2.1

Fedora 39
	Kernel: Depends on container host
	Compiler: gcc 13.2.1

RHEL8
	Kernel: 5.4.0-167-generic
	Compiler: gcc 8.5.0 20210514 (Red Hat 8.5.0-20)

openSUSE Leap 15
	Kernel: 5.4.0-167-generic
	Compiler: gcc 7.5.0

Ubuntu 22.04
	Kernel: 5.4.0-167-generic
	Compiler: gcc 11.4.0

Ubuntu 20.04
	Kernel: 5.4.0-167-generic
	Compiler: gcc 9.4.0-1ubuntu1~20.04.1

Ubuntu 24.04
	Kernel: 5.4.0-167-generic
	Compiler: gcc 13.2.0

To view detailed results, visit:
https://lab.dpdk.org/results/dashboard/patchsets/30044/

UNH-IOL DPDK Community Lab

To manage your email subscriptions, visit: 
https://lab.dpdk.org/results/dashboard/preferences/subscriptions/