From mboxrd@z Thu Jan  1 00:00:00 1970
Return-Path: <test-report-bounces@dpdk.org>
Received: from mails.dpdk.org (mails.dpdk.org [217.70.189.124])
	by inbox.dpdk.org (Postfix) with ESMTP id B8ABE440E4
	for <public@inbox.dpdk.org>; Sat,  1 Jun 2024 16:28:43 +0200 (CEST)
Received: from mails.dpdk.org (localhost [127.0.0.1])
	by mails.dpdk.org (Postfix) with ESMTP id B4A40402B4;
	Sat,  1 Jun 2024 16:28:43 +0200 (CEST)
Received: from mail-yw1-f226.google.com (mail-yw1-f226.google.com
 [209.85.128.226])
 by mails.dpdk.org (Postfix) with ESMTP id 3731B40270
 for <test-report@dpdk.org>; Sat,  1 Jun 2024 16:28:43 +0200 (CEST)
Received: by mail-yw1-f226.google.com with SMTP id
 00721157ae682-62a080a171dso17919587b3.0
 for <test-report@dpdk.org>; Sat, 01 Jun 2024 07:28:43 -0700 (PDT)
DKIM-Signature: v=1; a=rsa-sha256; c=relaxed/relaxed;
 d=iol.unh.edu; s=unh-iol; t=1717252122; x=1717856922; darn=dpdk.org;
 h=references:in-reply-to:cc:to:from:subject:message-id:date:from:to
 :cc:subject:date:message-id:reply-to;
 bh=FLzXb5vQvUzHe2eBlokpTl7v6eQAKbgA5lXIVyMdj/Y=;
 b=ed7AlolvPWevVvSnoJoTJC8B2ufmamsIfFsja61Jxb8zz5pbC28Ey8YbGCmXlYC8R9
 teY2GqtHxZpxKfdwNO6JVKJ0TjyKhZuQ4WHOxTJSq6h54oi025wILLkn7IEvXZtvJAzS
 SP42qMB4uArnSD+MYM68yh4yWBlMfVqHvPHRc=
X-Google-DKIM-Signature: v=1; a=rsa-sha256; c=relaxed/relaxed;
 d=1e100.net; s=20230601; t=1717252122; x=1717856922;
 h=references:in-reply-to:cc:to:from:subject:message-id:date
 :x-gm-message-state:from:to:cc:subject:date:message-id:reply-to;
 bh=FLzXb5vQvUzHe2eBlokpTl7v6eQAKbgA5lXIVyMdj/Y=;
 b=gKxI+wdVT/KMOoTGfPN4/s93Pq+DH2wXJmhbOcunr1qct62uMCTuvyXQhHzm25osNc
 MmsZjNymQHVa+MN6V8hKGC8lIcR9vwPm00YhyY/01RhAe3t9VV+C7FqeTOxvKwbZyfgO
 fooIe6T3J21XpbV7NS584xWpqYXQi00hsfLrTH/KCQqQ9XvK2Wcp4FB9qxO2LDt2GhnR
 U0leFEOSA6wqEvQOH2etDp+0xo61CPXbwMH0NhSpHNW2a5aPR7ulrogSmlnsYV/7BTIZ
 rD8AvXyb4/fSndfDG6k9ozuIpwQFQKhSHz9x3uOkli4clfSo3xFy+IRsurzRqNeHn6Dj
 uD/g==
X-Gm-Message-State: AOJu0Yy8T4bD6eeMjRhxRNaDMsdIqc1DAVcZVbACJ14/fmROZguOkFxz
 yt3JsVgiMjbjpEnh4pOXNgA7MCkKKkxNHX/11wHKTWNEc6SVkAbcmKYf2eBX29vckaBQjQhG+F0
 WTbUsuhCYp6ngmfAo4H/vczAkS59wjBnV2rUvCIAc
X-Google-Smtp-Source: AGHT+IEvFuK9HCtX+DmGuge0qsZ6UPmOQA8Ea1L8Lr4wuvr87rvXQZOs2qtEECkKUSCWIhj4w5ua9DlqTHcx
X-Received: by 2002:a0d:cc4a:0:b0:61a:da7e:1f66 with SMTP id
 00721157ae682-62c79666aefmr50516047b3.2.1717252122611; 
 Sat, 01 Jun 2024 07:28:42 -0700 (PDT)
Received: from postal.iol.unh.edu (postal.iol.unh.edu. [132.177.123.84])
 by smtp-relay.gmail.com with ESMTPS id
 00721157ae682-62c766cc42bsm1350297b3.58.2024.06.01.07.28.42
 (version=TLS1_2 cipher=ECDHE-ECDSA-AES128-GCM-SHA256 bits=128/128);
 Sat, 01 Jun 2024 07:28:42 -0700 (PDT)
X-Relaying-Domain: iol.unh.edu
Date: Sat, 01 Jun 2024 07:28:42 -0700 (PDT)
Message-ID: <665b301a.050a0220.acca4.b011SMTPIN_ADDED_MISSING@mx.google.com>
Received: from [172.21.0.6] (unknown [172.18.0.240])
 by postal.iol.unh.edu (Postfix) with ESMTP id 428AF605C373;
 Sat,  1 Jun 2024 10:28:41 -0400 (EDT)
Subject: |SUCCESS| pw140395-140396 [PATCH] [v2,2/2] app/pdump: handle SIGTERM
From: dpdklab@iol.unh.edu
To: Test Report <test-report@dpdk.org>
Cc: dpdk-test-reports@iol.unh.edu
In-Reply-To: <20240529160933.282846-3-stephen@networkplumber.org>
References: <20240529160933.282846-3-stephen@networkplumber.org>
Content-Type: text/plain
X-BeenThere: test-report@dpdk.org
X-Mailman-Version: 2.1.29
Precedence: list
List-Id: automatic DPDK test reports <test-report.dpdk.org>
List-Unsubscribe: <https://mails.dpdk.org/options/test-report>,
 <mailto:test-report-request@dpdk.org?subject=unsubscribe>
List-Archive: <http://mails.dpdk.org/archives/test-report/>
List-Post: <mailto:test-report@dpdk.org>
List-Help: <mailto:test-report-request@dpdk.org?subject=help>
List-Subscribe: <https://mails.dpdk.org/listinfo/test-report>,
 <mailto:test-report-request@dpdk.org?subject=subscribe>
Errors-To: test-report-bounces@dpdk.org

Test-Label: iol-abi-testing
Test-Status: SUCCESS
http://dpdk.org/patch/140396

_Testing PASS_

Submitter: Stephen Hemminger <stephen@networkplumber.org>
Date: Wednesday, May 29 2024 16:08:07 
DPDK git baseline: Repo:dpdk
  Branch: master
  CommitID:76cef1af8bdaeaf67a5c4ca5df3f221df994dc46

140395-140396 --> testing pass

Test environment and result as below:

+------------------+----------+
|   Environment    | abi_test |
+==================+==========+
| openSUSE Leap 15 | PASS     |
+------------------+----------+
| CentOS Stream 8  | PASS     |
+------------------+----------+
| Debian Bullseye  | PASS     |
+------------------+----------+
| RHEL8            | PASS     |
+------------------+----------+
| Fedora 37        | PASS     |
+------------------+----------+
| CentOS Stream 9  | PASS     |
+------------------+----------+
| Fedora 39        | PASS     |
+------------------+----------+
| Debian 12        | PASS     |
+------------------+----------+
| Fedora 38        | PASS     |
+------------------+----------+
| Ubuntu 24.04     | PASS     |
+------------------+----------+
| Ubuntu 22.04     | PASS     |
+------------------+----------+


openSUSE Leap 15
	Kernel: 5.4.0-167-generic
	Compiler: gcc 7.5.0

CentOS Stream 8
	Kernel: 5.4.0-167-generic
	Compiler: gcc 8.5.0 20210514

Debian Bullseye
	Kernel: 5.4.0-167-generic
	Compiler: gcc 10.2.1-6

RHEL8
	Kernel: 5.4.0-167-generic
	Compiler: gcc 8.5.0 20210514 (Red Hat 8.5.0-20)

Fedora 37
	Kernel: Depends on container host system
	Compiler: gcc 12.3.1

CentOS Stream 9
	Kernel: 5.4.0-167-generic
	Compiler: gcc 11.4.1 20230605

Fedora 39
	Kernel: Depends on container host
	Compiler: clang 17.0.6

Debian 12
	Kernel: Container Host Kernel
	Compiler: gcc 10.2.1

Fedora 38
	Kernel: Depends on container host
	Compiler: gcc 13.2.1

Ubuntu 24.04
	Kernel: 5.4.0-167-generic
	Compiler: gcc 13.2.0

Ubuntu 22.04
	Kernel: 5.4.0-167-generic
	Compiler: gcc 11.4.0

To view detailed results, visit:
https://lab.dpdk.org/results/dashboard/patchsets/30040/

UNH-IOL DPDK Community Lab

To manage your email subscriptions, visit: 
https://lab.dpdk.org/results/dashboard/preferences/subscriptions/