From mboxrd@z Thu Jan  1 00:00:00 1970
Return-Path: <test-report-bounces@dpdk.org>
Received: from mails.dpdk.org (mails.dpdk.org [217.70.189.124])
	by inbox.dpdk.org (Postfix) with ESMTP id D742D440E4
	for <public@inbox.dpdk.org>; Sat,  1 Jun 2024 17:27:16 +0200 (CEST)
Received: from mails.dpdk.org (localhost [127.0.0.1])
	by mails.dpdk.org (Postfix) with ESMTP id D07C0402BD;
	Sat,  1 Jun 2024 17:27:16 +0200 (CEST)
Received: from mail-io1-f100.google.com (mail-io1-f100.google.com
 [209.85.166.100])
 by mails.dpdk.org (Postfix) with ESMTP id 53AC2402B4
 for <test-report@dpdk.org>; Sat,  1 Jun 2024 17:27:15 +0200 (CEST)
Received: by mail-io1-f100.google.com with SMTP id
 ca18e2360f4ac-7eac76bec3aso128032639f.1
 for <test-report@dpdk.org>; Sat, 01 Jun 2024 08:27:15 -0700 (PDT)
DKIM-Signature: v=1; a=rsa-sha256; c=relaxed/relaxed;
 d=iol.unh.edu; s=unh-iol; t=1717255634; x=1717860434; darn=dpdk.org;
 h=references:in-reply-to:cc:to:from:subject:message-id:date:from:to
 :cc:subject:date:message-id:reply-to;
 bh=NGzPu/94pZKmk9EWASq84F3wnhZA1ewl5FAyJFL6mzc=;
 b=ccTytilxMhtoF+WN8HhVTzhvjt7EiBIudAZbaMMS8UnDgB0E7hsyUL3udEdCrWUMp9
 5qINMuv85HBxn0hLLPKi5yjW4w7rh0whMQI/gl0VKMHYWJ4w9Ozb+obY8vD5PZlnpx/x
 R370BgRxyxZf3aoahC/KPauC8saPyNhkhA5A4=
X-Google-DKIM-Signature: v=1; a=rsa-sha256; c=relaxed/relaxed;
 d=1e100.net; s=20230601; t=1717255634; x=1717860434;
 h=references:in-reply-to:cc:to:from:subject:message-id:date
 :x-gm-message-state:from:to:cc:subject:date:message-id:reply-to;
 bh=NGzPu/94pZKmk9EWASq84F3wnhZA1ewl5FAyJFL6mzc=;
 b=q1qMeZunbW7W90ewIek0aMvx8x408gEVh/tgYI2ZYsQJ7pLr/cLXwEC7KZyDUZO6J8
 OPy8HhmPJsxdqKyF412ZZoMdPKz44UhFGJv/mpwL3T1YEMeB4nx6K2u7VGFiskx6u9W6
 fpmWfAOEg+Dlr1G4ziILvYqN8tkJfJ1mrZBGIjBrU3ou9mCPcJ/wLTt8APxpCbcSKXvP
 4rTxrawl117UERyYnWeyjSQNksHkZnGidb2TjG7X+9zSoqos6qw4HQ1tu8Ew9vq3/teh
 OqvjmlERfMWT7CMEMOGMIbCoyHL/KE9vMZZ6i5qvOFDVD8Fv1BnBVcg4Avyzbrk4ocJs
 99dg==
X-Gm-Message-State: AOJu0Yzx8mWK5eqVydObdRErFT2uu3fnqztN197Z3Dez5H8quO5VWvIk
 JgTCDjfJWddYifglh5zGcDMdG1KxoOGiAHnX+1Gw2zP4QKGx8HEIAilDhlmOLvi2BUzydbkDhdR
 LJMIpPTnlHju4pdAqULgZ4oMd9tDPuwbJD7PEGfpAKJR7qLsS4C/DylOS
X-Google-Smtp-Source: AGHT+IHygDvtfYwzeMpLvGwfVjb01tLEl+wd2bfAgCOMYf+Vx/CgJFUsM37c1nM2Dk8aBh04Wbz/xDAAcT9z
X-Received: by 2002:a05:6602:1688:b0:7e1:8078:3f57 with SMTP id
 ca18e2360f4ac-7eaffe7775bmr604182139f.2.1717255634779; 
 Sat, 01 Jun 2024 08:27:14 -0700 (PDT)
Received: from postal.iol.unh.edu (postal.iol.unh.edu.
 [2606:4100:3880:1234::84]) by smtp-relay.gmail.com with ESMTPS id
 ca18e2360f4ac-7eafe6468e7sm18481739f.32.2024.06.01.08.27.14
 (version=TLS1_2 cipher=ECDHE-ECDSA-AES128-GCM-SHA256 bits=128/128);
 Sat, 01 Jun 2024 08:27:14 -0700 (PDT)
X-Relaying-Domain: iol.unh.edu
Date: Sat, 01 Jun 2024 08:27:14 -0700 (PDT)
Message-ID: <665b3dd2.5d0a0220.33c2c.d971SMTPIN_ADDED_MISSING@mx.google.com>
Received: from [172.21.0.6] (unknown [172.18.0.240])
 by postal.iol.unh.edu (Postfix) with ESMTP id 3B9B6605C373;
 Sat,  1 Jun 2024 11:27:14 -0400 (EDT)
Subject: |SUCCESS| pw140401-140408 [PATCH] [v6,8/8] test: update to latencyst
From: dpdklab@iol.unh.edu
To: Test Report <test-report@dpdk.org>
Cc: dpdk-test-reports@iol.unh.edu
In-Reply-To: <20240529225732.442539-9-stephen@networkplumber.org>
References: <20240529225732.442539-9-stephen@networkplumber.org>
Content-Type: text/plain
X-BeenThere: test-report@dpdk.org
X-Mailman-Version: 2.1.29
Precedence: list
List-Id: automatic DPDK test reports <test-report.dpdk.org>
List-Unsubscribe: <https://mails.dpdk.org/options/test-report>,
 <mailto:test-report-request@dpdk.org?subject=unsubscribe>
List-Archive: <http://mails.dpdk.org/archives/test-report/>
List-Post: <mailto:test-report@dpdk.org>
List-Help: <mailto:test-report-request@dpdk.org?subject=help>
List-Subscribe: <https://mails.dpdk.org/listinfo/test-report>,
 <mailto:test-report-request@dpdk.org?subject=subscribe>
Errors-To: test-report-bounces@dpdk.org

Test-Label: iol-unit-arm64-testing
Test-Status: SUCCESS
http://dpdk.org/patch/140408

_Testing PASS_

Submitter: Stephen Hemminger <stephen@networkplumber.org>
Date: Wednesday, May 29 2024 22:54:45 
DPDK git baseline: Repo:dpdk
  Branch: master
  CommitID:76cef1af8bdaeaf67a5c4ca5df3f221df994dc46

140401-140408 --> testing pass

Test environment and result as below:

+-----------------------------+----------------+---------------------------+------------------------------+
|         Environment         | dpdk_unit_test | cryptodev_sw_zuc_autotest | cryptodev_sw_snow3g_autotest |
+=============================+================+===========================+==============================+
| 32-bit Ubuntu 20.04.4 (ARM) | PASS           | SKIPPED                   | SKIPPED                      |
+-----------------------------+----------------+---------------------------+------------------------------+
| CentOS Stream 9 (ARM)       | PASS           | SKIPPED                   | SKIPPED                      |
+-----------------------------+----------------+---------------------------+------------------------------+
| Debian 11 (Buster) (ARM)    | PASS           | SKIPPED                   | SKIPPED                      |
+-----------------------------+----------------+---------------------------+------------------------------+
| Debian 12 (arm)             | PASS           | PASS                      | PASS                         |
+-----------------------------+----------------+---------------------------+------------------------------+
| Fedora 39 (ARM)             | PASS           | SKIPPED                   | SKIPPED                      |
+-----------------------------+----------------+---------------------------+------------------------------+
| Fedora 38 (ARM)             | PASS           | SKIPPED                   | SKIPPED                      |
+-----------------------------+----------------+---------------------------+------------------------------+
| Fedora 37 (ARM)             | PASS           | SKIPPED                   | SKIPPED                      |
+-----------------------------+----------------+---------------------------+------------------------------+
| Fedora 39 (ARM Clang)       | PASS           | SKIPPED                   | SKIPPED                      |
+-----------------------------+----------------+---------------------------+------------------------------+
| Ubuntu 24.04 (ARM)          | PASS           | SKIPPED                   | SKIPPED                      |
+-----------------------------+----------------+---------------------------+------------------------------+
| Ubuntu 20.04 (ARM)          | PASS           | SKIPPED                   | SKIPPED                      |
+-----------------------------+----------------+---------------------------+------------------------------+
| Ubuntu 22.04 (ARM)          | PASS           | SKIPPED                   | SKIPPED                      |
+-----------------------------+----------------+---------------------------+------------------------------+
| Fedora 38 (ARM Clang)       | PASS           | SKIPPED                   | SKIPPED                      |
+-----------------------------+----------------+---------------------------+------------------------------+


32-bit Ubuntu 20.04.4 (ARM)
	Kernel: 5.4.0-155-generic aarch64
	Compiler: gcc 9.4

CentOS Stream 9 (ARM)
	Kernel: Container Host Kernel
	Compiler: gcc 11.4.1

Debian 11 (Buster) (ARM)
	Kernel: Container Host Kernel
	Compiler: gcc 10.2.1

Debian 12 (arm)
	Kernel: Container Host Kernel
	Compiler: gcc 12.2.0

Fedora 39 (ARM)
	Kernel: Depends on container host
	Compiler: gcc 13.2.1

Fedora 38 (ARM)
	Kernel: Depends on container host
	Compiler: gcc 13.2.1

Fedora 37 (ARM)
	Kernel: Depends on container host
	Compiler: gcc 12.3.1

Fedora 39 (ARM Clang)
	Kernel: Depends on container host
	Compiler: clang 17.0.6

Ubuntu 24.04 (ARM)
	Kernel: 5.4.0-167-generic
	Compiler: gcc 13.2.0

Ubuntu 20.04 (ARM)
	Kernel: Container Host Kernel
	Compiler: gcc 9.4.0

Ubuntu 22.04 (ARM)
	Kernel: Container Host Kernel
	Compiler: gcc 11.4.0

Fedora 38 (ARM Clang)
	Kernel: Depends on container host
	Compiler: clang 16.0.6

To view detailed results, visit:
https://lab.dpdk.org/results/dashboard/patchsets/30043/

UNH-IOL DPDK Community Lab

To manage your email subscriptions, visit: 
https://lab.dpdk.org/results/dashboard/preferences/subscriptions/