From mboxrd@z Thu Jan  1 00:00:00 1970
Return-Path: <test-report-bounces@dpdk.org>
Received: from mails.dpdk.org (mails.dpdk.org [217.70.189.124])
	by inbox.dpdk.org (Postfix) with ESMTP id 55C11440E4
	for <public@inbox.dpdk.org>; Sat,  1 Jun 2024 17:50:28 +0200 (CEST)
Received: from mails.dpdk.org (localhost [127.0.0.1])
	by mails.dpdk.org (Postfix) with ESMTP id 503EC402BD;
	Sat,  1 Jun 2024 17:50:28 +0200 (CEST)
Received: from mail-oi1-f227.google.com (mail-oi1-f227.google.com
 [209.85.167.227])
 by mails.dpdk.org (Postfix) with ESMTP id 0F624402B4
 for <test-report@dpdk.org>; Sat,  1 Jun 2024 17:50:27 +0200 (CEST)
Received: by mail-oi1-f227.google.com with SMTP id
 5614622812f47-3d1b7ad2283so1141455b6e.3
 for <test-report@dpdk.org>; Sat, 01 Jun 2024 08:50:27 -0700 (PDT)
DKIM-Signature: v=1; a=rsa-sha256; c=relaxed/relaxed;
 d=iol.unh.edu; s=unh-iol; t=1717257026; x=1717861826; darn=dpdk.org;
 h=references:in-reply-to:cc:to:from:subject:message-id:date:from:to
 :cc:subject:date:message-id:reply-to;
 bh=qazYmYUKF//xHzRjsNKR+PZMTg+jBTLsyotz4mAS084=;
 b=gADop5uo3WUWrLY8KoHmbhTH6jXHWjCLEExjXI3oLG/wL809Pcn0rC7luGYel51aFA
 C9d4u9aIQdr4TPUGvp7UO+NlFU9rL6J5LaS4ASGE9GeRJ7Tu5FEO6YhTWn1zTyEvLvSr
 dYIY+dJ5OLfULlntv1oopVu6cSb+BcncOcsqk=
X-Google-DKIM-Signature: v=1; a=rsa-sha256; c=relaxed/relaxed;
 d=1e100.net; s=20230601; t=1717257026; x=1717861826;
 h=references:in-reply-to:cc:to:from:subject:message-id:date
 :x-gm-message-state:from:to:cc:subject:date:message-id:reply-to;
 bh=qazYmYUKF//xHzRjsNKR+PZMTg+jBTLsyotz4mAS084=;
 b=OZm0eVRWMtGk1+f4XwfIhRd8NufjQMt662hbXHYDfHz6LhNvzSIOF0VdwShBSJRnls
 PWfewwxZIYQzrUq3zlr/CZsPCJntsYNz9BSxFxvR2MYoe491GNo25KVUIr6GdMSf8g9q
 fs1lDqd1hajIf5p4i5B1gDsS5xYZY0Acotyn15yYiiQ8/cVFxrGpNfRCU4IChp7GuNzC
 Yw2A14GQzqwaYamNNEOHY2/QfZfPJax+5x1u1fLR6skCirj876ij85G0wJweoh1aPVmK
 +GJhvkub8rIQP0iS6cU0WrsW2SjRlOvGR5friwmS9usmL6qKCohOEIIIWYorHU95DhqN
 GSZA==
X-Gm-Message-State: AOJu0YwSJx8+8lMQ+VBBjZ+IpoZzjx7nSX1hxxnSrJK42ERPKKCqku/y
 Ue40DV7BSlQFR1gHBcnDBs37bz9IGajYJHBLawY7kNwD5uPnW/GK96qKu8qcmJ0izefFAPZ/iVd
 ER3bVHkkVjEDgmLtLUKx7owGM5/okd1NyRuvy+81eLb54MwCC8fCsB99b
X-Google-Smtp-Source: AGHT+IFxpWIVSZ9hwfBU3h0R0hSJzci0EUC92Wh/4aOfK84O4QcMpmF4olwMSC38sfN9ibzbAVrrmGWIaNwV
X-Received: by 2002:a05:6808:34d:b0:3c9:6017:1f03 with SMTP id
 5614622812f47-3d1e35c5046mr4244131b6e.58.1717257026425; 
 Sat, 01 Jun 2024 08:50:26 -0700 (PDT)
Received: from postal.iol.unh.edu (postal.iol.unh.edu.
 [2606:4100:3880:1234::84]) by smtp-relay.gmail.com with ESMTPS id
 6a1803df08f44-6ae4a748431sm2362646d6.42.2024.06.01.08.50.26
 (version=TLS1_2 cipher=ECDHE-ECDSA-AES128-GCM-SHA256 bits=128/128);
 Sat, 01 Jun 2024 08:50:26 -0700 (PDT)
X-Relaying-Domain: iol.unh.edu
Date: Sat, 01 Jun 2024 08:50:26 -0700 (PDT)
Message-ID: <665b4342.050a0220.eb0ff.0cd7SMTPIN_ADDED_MISSING@mx.google.com>
Received: from [172.21.0.6] (unknown [172.18.0.240])
 by postal.iol.unh.edu (Postfix) with ESMTP id 25D9E605C373;
 Sat,  1 Jun 2024 11:50:26 -0400 (EDT)
Subject: |SUCCESS| pw140397-140399 [PATCH] [v3,3/3] dts: Improve logging for 
From: dpdklab@iol.unh.edu
To: Test Report <test-report@dpdk.org>
Cc: dpdk-test-reports@iol.unh.edu
In-Reply-To: <20240529194910.26803-4-jspewock@iol.unh.edu>
References: <20240529194910.26803-4-jspewock@iol.unh.edu>
Content-Type: text/plain
X-BeenThere: test-report@dpdk.org
X-Mailman-Version: 2.1.29
Precedence: list
List-Id: automatic DPDK test reports <test-report.dpdk.org>
List-Unsubscribe: <https://mails.dpdk.org/options/test-report>,
 <mailto:test-report-request@dpdk.org?subject=unsubscribe>
List-Archive: <http://mails.dpdk.org/archives/test-report/>
List-Post: <mailto:test-report@dpdk.org>
List-Help: <mailto:test-report-request@dpdk.org?subject=help>
List-Subscribe: <https://mails.dpdk.org/listinfo/test-report>,
 <mailto:test-report-request@dpdk.org?subject=subscribe>
Errors-To: test-report-bounces@dpdk.org

Test-Label: iol-compile-amd64-testing
Test-Status: SUCCESS
http://dpdk.org/patch/140399

_Testing PASS_

Submitter: Jeremy Spewock <jspewock@iol.unh.edu>
Date: Wednesday, May 29 2024 19:49:10 
DPDK git baseline: Repo:dpdk
  Branch: master
  CommitID:76cef1af8bdaeaf67a5c4ca5df3f221df994dc46

140397-140399 --> testing pass

Test environment and result as below:

+---------------------+--------------------+----------------------+
|     Environment     | dpdk_meson_compile | dpdk_mingw64_compile |
+=====================+====================+======================+
| FreeBSD 13.3        | PASS               | SKIPPED              |
+---------------------+--------------------+----------------------+
| Windows Server 2019 | PASS               | PASS                 |
+---------------------+--------------------+----------------------+
| FreeBSD 14.0        | PASS               | SKIPPED              |
+---------------------+--------------------+----------------------+
| Windows Server 2022 | PASS               | PASS                 |
+---------------------+--------------------+----------------------+


FreeBSD 13.3
	Kernel: 13.3-RELEASE-p1
	Compiler: clang 17.0.6

Windows Server 2019
	Kernel: 10.0.17763
	Compiler: clang 14.0 and gcc 8.1.0 (MinGW)

FreeBSD 14.0
	Kernel: 14.0
	Compiler: clang 16.0.6

Windows Server 2022
	Kernel: 10.0.20348.2031
	Compiler: clang 15.0.7, gcc 8.1.0 (MinGW), and MSVC VS 17.9

To view detailed results, visit:
https://lab.dpdk.org/results/dashboard/patchsets/30041/

UNH-IOL DPDK Community Lab

To manage your email subscriptions, visit: 
https://lab.dpdk.org/results/dashboard/preferences/subscriptions/