From mboxrd@z Thu Jan  1 00:00:00 1970
Return-Path: <test-report-bounces@dpdk.org>
Received: from mails.dpdk.org (mails.dpdk.org [217.70.189.124])
	by inbox.dpdk.org (Postfix) with ESMTP id E4EDE4411E
	for <public@inbox.dpdk.org>; Sat,  1 Jun 2024 18:09:05 +0200 (CEST)
Received: from mails.dpdk.org (localhost [127.0.0.1])
	by mails.dpdk.org (Postfix) with ESMTP id E0D0D402B4;
	Sat,  1 Jun 2024 18:09:05 +0200 (CEST)
Received: from mail-qv1-f98.google.com (mail-qv1-f98.google.com
 [209.85.219.98]) by mails.dpdk.org (Postfix) with ESMTP id F1B8A40270
 for <test-report@dpdk.org>; Sat,  1 Jun 2024 18:09:03 +0200 (CEST)
Received: by mail-qv1-f98.google.com with SMTP id
 6a1803df08f44-6ae1059a62fso15583366d6.1
 for <test-report@dpdk.org>; Sat, 01 Jun 2024 09:09:03 -0700 (PDT)
DKIM-Signature: v=1; a=rsa-sha256; c=relaxed/relaxed;
 d=iol.unh.edu; s=unh-iol; t=1717258143; x=1717862943; darn=dpdk.org;
 h=references:in-reply-to:cc:to:from:subject:message-id:date:from:to
 :cc:subject:date:message-id:reply-to;
 bh=qXWefWSZNGdBpJCjpCQeOobiXeJp5+V+KlbjWAEAbFs=;
 b=JXAGrBHcfkIONXTDCHU4a834N1ejxKgHJzJvjxAjuSbQbcVEhlDU77z3uDj+sF5sjC
 ZzP0zeXJYXNJWC6facXmFy0CCscX0D9yD1mO9QIOeujXkiPCrMCL4t3acblZU5qSaubc
 sWKyRPSrtz3Ccw3XQwKwUdG3wXJD7hzxJ8f4Y=
X-Google-DKIM-Signature: v=1; a=rsa-sha256; c=relaxed/relaxed;
 d=1e100.net; s=20230601; t=1717258143; x=1717862943;
 h=references:in-reply-to:cc:to:from:subject:message-id:date
 :x-gm-message-state:from:to:cc:subject:date:message-id:reply-to;
 bh=qXWefWSZNGdBpJCjpCQeOobiXeJp5+V+KlbjWAEAbFs=;
 b=hVUvWS/udACDd8WlzdjnXtIKHVVMyyf4wGi19X+Jhd5nKrgnH3LhmzGlUH9a7P5XUA
 wx0ny53cM0+tyZtApKA23kqCXxdFzqjU2Kd493idl7oCfIJGbT0DqK10zFSojurPYVEb
 yLqOayG4JiFtUJ0J+1jYwcpLI7zhLzMUmJwVbcYmW3oYE2lbREu4oO6V6tKekreE4UgW
 2BWJYIE7Ul7+dDzFYfpT6eY4RMCVicQH3p4Y7VevitueLM0sIEew3efkDcQA7XTC7LFr
 ohM9l8E7Av5dkLNWF3D9EwAaAAdL6ErM5RjDV4JcMczwr2DVjuhDlU7jebww1kMIAz7h
 bdiQ==
X-Gm-Message-State: AOJu0YwjDqAVGhfhpLN34UPAjK4KdNHXTzCXUrY1uoIol044EW8sxI9p
 5ApjyYgaflt5RZJUUi8b9xf1QGwfxG6akQawLoF3mIzr0FoVa3RTIgOj2nQBy4pftriITeYn+Jn
 3FJTSPpWE9qw08/zETbN5wrAW3zS+6J+vf1MsbnOi
X-Google-Smtp-Source: AGHT+IHxn35N+HxDNpT27Pd9OvdJ6vt2VOn0DhQIVOilifliokZ0/ylM58ImtjgSsWz13oMUKZsWGr9FTvI8
X-Received: by 2002:a05:6214:4905:b0:6ae:33e4:d9e5 with SMTP id
 6a1803df08f44-6aecd6d9a9cmr66910796d6.40.1717258143384; 
 Sat, 01 Jun 2024 09:09:03 -0700 (PDT)
Received: from postal.iol.unh.edu (postal.iol.unh.edu. [132.177.123.84])
 by smtp-relay.gmail.com with ESMTPS id
 6a1803df08f44-6ae4a730db9sm1560546d6.8.2024.06.01.09.09.03
 (version=TLS1_2 cipher=ECDHE-ECDSA-AES128-GCM-SHA256 bits=128/128);
 Sat, 01 Jun 2024 09:09:03 -0700 (PDT)
X-Relaying-Domain: iol.unh.edu
Date: Sat, 01 Jun 2024 09:09:03 -0700 (PDT)
Message-ID: <665b479f.050a0220.84417.bfa0SMTPIN_ADDED_MISSING@mx.google.com>
Received: from [172.21.0.7] (unknown [172.18.0.240])
 by postal.iol.unh.edu (Postfix) with ESMTP id 0ED32605C373;
 Sat,  1 Jun 2024 12:09:03 -0400 (EDT)
Subject: |SUCCESS| pw140391 [PATCH] maintainers: update for networking mlx5 d
From: dpdklab@iol.unh.edu
To: Test Report <test-report@dpdk.org>
Cc: dpdk-test-reports@iol.unh.edu
In-Reply-To: <20240529112038.12904-1-dsosnowski@nvidia.com>
References: <20240529112038.12904-1-dsosnowski@nvidia.com>
Content-Type: text/plain
X-BeenThere: test-report@dpdk.org
X-Mailman-Version: 2.1.29
Precedence: list
List-Id: automatic DPDK test reports <test-report.dpdk.org>
List-Unsubscribe: <https://mails.dpdk.org/options/test-report>,
 <mailto:test-report-request@dpdk.org?subject=unsubscribe>
List-Archive: <http://mails.dpdk.org/archives/test-report/>
List-Post: <mailto:test-report@dpdk.org>
List-Help: <mailto:test-report-request@dpdk.org?subject=help>
List-Subscribe: <https://mails.dpdk.org/listinfo/test-report>,
 <mailto:test-report-request@dpdk.org?subject=subscribe>
Errors-To: test-report-bounces@dpdk.org

Test-Label: iol-compile-amd64-testing
Test-Status: SUCCESS
http://dpdk.org/patch/140391

_Testing PASS_

Submitter: Dariusz Sosnowski <dsosnowski@nvidia.com>
Date: Wednesday, May 29 2024 11:20:38 
DPDK git baseline: Repo:dpdk
  Branch: master
  CommitID:76cef1af8bdaeaf67a5c4ca5df3f221df994dc46

140391 --> testing pass

Test environment and result as below:

+---------------------+--------------------+----------------------+
|     Environment     | dpdk_meson_compile | dpdk_mingw64_compile |
+=====================+====================+======================+
| FreeBSD 13.3        | PASS               | SKIPPED              |
+---------------------+--------------------+----------------------+
| FreeBSD 14.0        | PASS               | SKIPPED              |
+---------------------+--------------------+----------------------+
| Windows Server 2019 | PASS               | PASS                 |
+---------------------+--------------------+----------------------+
| Windows Server 2022 | PASS               | PASS                 |
+---------------------+--------------------+----------------------+


FreeBSD 13.3
	Kernel: 13.3-RELEASE-p1
	Compiler: clang 17.0.6

FreeBSD 14.0
	Kernel: 14.0
	Compiler: clang 16.0.6

Windows Server 2019
	Kernel: 10.0.17763
	Compiler: clang 14.0 and gcc 8.1.0 (MinGW)

Windows Server 2022
	Kernel: 10.0.20348.2031
	Compiler: clang 15.0.7, gcc 8.1.0 (MinGW), and MSVC VS 17.9

To view detailed results, visit:
https://lab.dpdk.org/results/dashboard/patchsets/30037/

UNH-IOL DPDK Community Lab

To manage your email subscriptions, visit: 
https://lab.dpdk.org/results/dashboard/preferences/subscriptions/