From mboxrd@z Thu Jan  1 00:00:00 1970
Return-Path: <test-report-bounces@dpdk.org>
Received: from mails.dpdk.org (mails.dpdk.org [217.70.189.124])
	by inbox.dpdk.org (Postfix) with ESMTP id 31C2C4411E
	for <public@inbox.dpdk.org>; Sat,  1 Jun 2024 18:11:17 +0200 (CEST)
Received: from mails.dpdk.org (localhost [127.0.0.1])
	by mails.dpdk.org (Postfix) with ESMTP id 2E081402B4;
	Sat,  1 Jun 2024 18:11:17 +0200 (CEST)
Received: from mail-qt1-f227.google.com (mail-qt1-f227.google.com
 [209.85.160.227])
 by mails.dpdk.org (Postfix) with ESMTP id CCAFE42E4E
 for <test-report@dpdk.org>; Sat,  1 Jun 2024 18:11:15 +0200 (CEST)
Received: by mail-qt1-f227.google.com with SMTP id
 d75a77b69052e-43fb909d45cso16127491cf.3
 for <test-report@dpdk.org>; Sat, 01 Jun 2024 09:11:15 -0700 (PDT)
DKIM-Signature: v=1; a=rsa-sha256; c=relaxed/relaxed;
 d=iol.unh.edu; s=unh-iol; t=1717258275; x=1717863075; darn=dpdk.org;
 h=references:in-reply-to:cc:to:from:subject:message-id:date:from:to
 :cc:subject:date:message-id:reply-to;
 bh=qXWefWSZNGdBpJCjpCQeOobiXeJp5+V+KlbjWAEAbFs=;
 b=e7Vndr2pybgHAPX2rFlnOs332aspF7GEnmJ+YUnsK7rT4jE0qfT3zDtd8Xogf+gctU
 2Zj1BLHOX8dlgiJ2AAouqNhx8tBeLKS/Pf3kUrWXtKBwqacmivdLCo08YEhHqoKLfe7u
 l+hsz+6VfQkWMQBuNV16b5ZiF1qMiLShBevWY=
X-Google-DKIM-Signature: v=1; a=rsa-sha256; c=relaxed/relaxed;
 d=1e100.net; s=20230601; t=1717258275; x=1717863075;
 h=references:in-reply-to:cc:to:from:subject:message-id:date
 :x-gm-message-state:from:to:cc:subject:date:message-id:reply-to;
 bh=qXWefWSZNGdBpJCjpCQeOobiXeJp5+V+KlbjWAEAbFs=;
 b=a1nraKFZIpuqn9mDGX2G/uuVNsklRcvpWeQUfAKn1Hrw06CdL+iE9KyxYl1MJaE5Bw
 6kPOG3Cb0kv8H4mbel74WbBBqY0gnf+kVhUXEMUi1VcbssfbnYfNmv4n6FWzjYGkHj+c
 EN5M08hJHwlPS/gr9u2R1WF+3dG2OQJ+3bNus/TuScVFcTyEcv3LAmfBenes6qziI6Z0
 qARUMpvw45Qmdqi9MPqqbPNfT7DH0VsefytENsI9ZnYAoPhnUbl9N+rnZZMM785PS5Eu
 MsRveI2QfgysJyFxFHn75FJelIYkOp//L9fvSJ6yyVkwRTMucLNO78JCO+jwJ6ydJcDf
 QZuw==
X-Gm-Message-State: AOJu0Ywzr5wsP1CnQgbvsmu5C/YufQMgaJSDn3KBLhqG7lDBJ6OVblsF
 3FdquMP1R6eyxmbwVfoqaxTOjvzAKzSubHPgtBf5IWuHENoC+9GNFsQwdI2sZcq0wE+n2hH2sP7
 j1FE+aoRnV7MIdAiSNy4cCYBMm6AxclJequ6Wx0W7
X-Google-Smtp-Source: AGHT+IFD+WOfxRbMHXQuqZ9pwQopuAdP1Mcq+vFv34q/tOtfWvk7aXc+p1KjCjfkB4f6rdkoW4Mj274w1pyj
X-Received: by 2002:a05:622a:20b:b0:43e:f5b:7a78 with SMTP id
 d75a77b69052e-43ff54f73c3mr50406801cf.43.1717258275261; 
 Sat, 01 Jun 2024 09:11:15 -0700 (PDT)
Received: from postal.iol.unh.edu (postal.iol.unh.edu. [132.177.123.84])
 by smtp-relay.gmail.com with ESMTPS id
 d75a77b69052e-43ff23a85f0sm1274321cf.4.2024.06.01.09.11.15
 (version=TLS1_2 cipher=ECDHE-ECDSA-AES128-GCM-SHA256 bits=128/128);
 Sat, 01 Jun 2024 09:11:15 -0700 (PDT)
X-Relaying-Domain: iol.unh.edu
Date: Sat, 01 Jun 2024 09:11:15 -0700 (PDT)
Message-ID: <665b4823.050a0220.a87d8.9053SMTPIN_ADDED_MISSING@mx.google.com>
Received: from [172.21.0.7] (unknown [172.18.0.240])
 by postal.iol.unh.edu (Postfix) with ESMTP id ED1B7605C373;
 Sat,  1 Jun 2024 12:11:14 -0400 (EDT)
Subject: |SUCCESS| pw140391 [PATCH] maintainers: update for networking mlx5 d
From: dpdklab@iol.unh.edu
To: Test Report <test-report@dpdk.org>
Cc: dpdk-test-reports@iol.unh.edu
In-Reply-To: <20240529112038.12904-1-dsosnowski@nvidia.com>
References: <20240529112038.12904-1-dsosnowski@nvidia.com>
Content-Type: text/plain
X-BeenThere: test-report@dpdk.org
X-Mailman-Version: 2.1.29
Precedence: list
List-Id: automatic DPDK test reports <test-report.dpdk.org>
List-Unsubscribe: <https://mails.dpdk.org/options/test-report>,
 <mailto:test-report-request@dpdk.org?subject=unsubscribe>
List-Archive: <http://mails.dpdk.org/archives/test-report/>
List-Post: <mailto:test-report@dpdk.org>
List-Help: <mailto:test-report-request@dpdk.org?subject=help>
List-Subscribe: <https://mails.dpdk.org/listinfo/test-report>,
 <mailto:test-report-request@dpdk.org?subject=subscribe>
Errors-To: test-report-bounces@dpdk.org

Test-Label: iol-compile-amd64-testing
Test-Status: SUCCESS
http://dpdk.org/patch/140391

_Testing PASS_

Submitter: Dariusz Sosnowski <dsosnowski@nvidia.com>
Date: Wednesday, May 29 2024 11:20:38 
DPDK git baseline: Repo:dpdk
  Branch: master
  CommitID:76cef1af8bdaeaf67a5c4ca5df3f221df994dc46

140391 --> testing pass

Test environment and result as below:

+---------------------+--------------------+----------------------+
|     Environment     | dpdk_meson_compile | dpdk_mingw64_compile |
+=====================+====================+======================+
| FreeBSD 13.3        | PASS               | SKIPPED              |
+---------------------+--------------------+----------------------+
| FreeBSD 14.0        | PASS               | SKIPPED              |
+---------------------+--------------------+----------------------+
| Windows Server 2019 | PASS               | PASS                 |
+---------------------+--------------------+----------------------+
| Windows Server 2022 | PASS               | PASS                 |
+---------------------+--------------------+----------------------+


FreeBSD 13.3
	Kernel: 13.3-RELEASE-p1
	Compiler: clang 17.0.6

FreeBSD 14.0
	Kernel: 14.0
	Compiler: clang 16.0.6

Windows Server 2019
	Kernel: 10.0.17763
	Compiler: clang 14.0 and gcc 8.1.0 (MinGW)

Windows Server 2022
	Kernel: 10.0.20348.2031
	Compiler: clang 15.0.7, gcc 8.1.0 (MinGW), and MSVC VS 17.9

To view detailed results, visit:
https://lab.dpdk.org/results/dashboard/patchsets/30037/

UNH-IOL DPDK Community Lab

To manage your email subscriptions, visit: 
https://lab.dpdk.org/results/dashboard/preferences/subscriptions/