From mboxrd@z Thu Jan  1 00:00:00 1970
Return-Path: <test-report-bounces@dpdk.org>
Received: from mails.dpdk.org (mails.dpdk.org [217.70.189.124])
	by inbox.dpdk.org (Postfix) with ESMTP id 370D04411E
	for <public@inbox.dpdk.org>; Sat,  1 Jun 2024 18:58:32 +0200 (CEST)
Received: from mails.dpdk.org (localhost [127.0.0.1])
	by mails.dpdk.org (Postfix) with ESMTP id 2ED59402B4;
	Sat,  1 Jun 2024 18:58:32 +0200 (CEST)
Received: from mail-io1-f97.google.com (mail-io1-f97.google.com
 [209.85.166.97]) by mails.dpdk.org (Postfix) with ESMTP id 21F6240270
 for <test-report@dpdk.org>; Sat,  1 Jun 2024 18:58:31 +0200 (CEST)
Received: by mail-io1-f97.google.com with SMTP id
 ca18e2360f4ac-7eb0f538d28so22056339f.0
 for <test-report@dpdk.org>; Sat, 01 Jun 2024 09:58:31 -0700 (PDT)
DKIM-Signature: v=1; a=rsa-sha256; c=relaxed/relaxed;
 d=iol.unh.edu; s=unh-iol; t=1717261110; x=1717865910; darn=dpdk.org;
 h=references:in-reply-to:cc:to:from:subject:message-id:date:from:to
 :cc:subject:date:message-id:reply-to;
 bh=TQqMZ8YyRcGTYh7S4+5gGEQq+fkwAXR3mIZsXNZRLTk=;
 b=D/XQUVQ/kz0ZtqOLqg9kpslbZQyuTIPOzKbAZ03nCSRZjn4c4RCC1SL0q6/fjX5vS0
 4JQk0OH53MLswwZuNSCsZ1VMyE86a+OvIP6obZ/NNThkNryGmL/AQe0V0N6MvTAYaECX
 G9wWvae895JwtbwTnTE73YXX6jP2VYZ7/NIzU=
X-Google-DKIM-Signature: v=1; a=rsa-sha256; c=relaxed/relaxed;
 d=1e100.net; s=20230601; t=1717261110; x=1717865910;
 h=references:in-reply-to:cc:to:from:subject:message-id:date
 :x-gm-message-state:from:to:cc:subject:date:message-id:reply-to;
 bh=TQqMZ8YyRcGTYh7S4+5gGEQq+fkwAXR3mIZsXNZRLTk=;
 b=J+0IzGhQP8tK/64QiMjvyfs4XEfQQMsguulZJEVJKhP03Be7YEDCD4G3/aUmMwcYmW
 2SryU7ae6WeSMtaWyW61DjaGz8+N14N8P2Y0cpfRYtYr3VJRBHw0LSQK74h7r0tkQnfI
 fpoPUy1I6D5e7qqK2KD9xgN1FenXzcz/5Kk8A7e/6QLbaNFiBVR0bRRMsMaxjU5pB0Jc
 YGN0BrMCmMbYQWUoW6DbQG4LPcJ5Niif31Mj4ZyQOCq+dQCGY4YXbGIZlIk55gHqbfEp
 E6s3THouY6w2wn9DeZcWmoaQcAvB6ymHKhcei0B4tabyFVK9osAeQGTowyZLiiBMHvDX
 IP5g==
X-Gm-Message-State: AOJu0Yzx6cOKTHh/GzowAe02j35uEs78eJinvyg02VzmTdOUljM0LQ4y
 TChPcGqjCQCPeSJswvu/b8nR+nZcCQMCK1l3P2bmV3sDvw3njpxl6R/J3GdW4FRlazXWPRmhHA8
 1cvfzqxAaCBitTfxPvqs8EnJnVqrp8L/R+5sVE6nY
X-Google-Smtp-Source: AGHT+IHMvFq1l+JFLtLnHNGysVk+WH/oquT1BMHZoqIdwiTGTzbofYuAC/PWgutbfwv+Iwqzydp1bexHvrvc
X-Received: by 2002:a05:6602:1541:b0:7ea:e1b8:e74d with SMTP id
 ca18e2360f4ac-7eafff0a89fmr585915539f.16.1717261110497; 
 Sat, 01 Jun 2024 09:58:30 -0700 (PDT)
Received: from postal.iol.unh.edu (postal.iol.unh.edu. [132.177.123.84])
 by smtp-relay.gmail.com with ESMTPS id
 8926c6da1cb9f-4b488e4b4b9sm167330173.47.2024.06.01.09.58.30
 (version=TLS1_2 cipher=ECDHE-ECDSA-AES128-GCM-SHA256 bits=128/128);
 Sat, 01 Jun 2024 09:58:30 -0700 (PDT)
X-Relaying-Domain: iol.unh.edu
Date: Sat, 01 Jun 2024 09:58:30 -0700 (PDT)
Message-ID: <665b5336.050a0220.ce04f.ccadSMTPIN_ADDED_MISSING@mx.google.com>
Received: from [172.21.0.6] (unknown [172.18.0.240])
 by postal.iol.unh.edu (Postfix) with ESMTP id 0C330605C373;
 Sat,  1 Jun 2024 12:58:30 -0400 (EDT)
Subject: |SUCCESS| pw140401-140408 [PATCH] [v6,8/8] test: update to latencyst
From: dpdklab@iol.unh.edu
To: Test Report <test-report@dpdk.org>
Cc: dpdk-test-reports@iol.unh.edu
In-Reply-To: <20240529225732.442539-9-stephen@networkplumber.org>
References: <20240529225732.442539-9-stephen@networkplumber.org>
Content-Type: text/plain
X-BeenThere: test-report@dpdk.org
X-Mailman-Version: 2.1.29
Precedence: list
List-Id: automatic DPDK test reports <test-report.dpdk.org>
List-Unsubscribe: <https://mails.dpdk.org/options/test-report>,
 <mailto:test-report-request@dpdk.org?subject=unsubscribe>
List-Archive: <http://mails.dpdk.org/archives/test-report/>
List-Post: <mailto:test-report@dpdk.org>
List-Help: <mailto:test-report-request@dpdk.org?subject=help>
List-Subscribe: <https://mails.dpdk.org/listinfo/test-report>,
 <mailto:test-report-request@dpdk.org?subject=subscribe>
Errors-To: test-report-bounces@dpdk.org

Test-Label: iol-unit-amd64-testing
Test-Status: SUCCESS
http://dpdk.org/patch/140408

_Testing PASS_

Submitter: Stephen Hemminger <stephen@networkplumber.org>
Date: Wednesday, May 29 2024 22:54:45 
DPDK git baseline: Repo:dpdk
  Branch: master
  CommitID:76cef1af8bdaeaf67a5c4ca5df3f221df994dc46

140401-140408 --> testing pass

Test environment and result as below:

+-----------------+----------------+
|   Environment   | dpdk_unit_test |
+=================+================+
| Debian Bullseye | PASS           |
+-----------------+----------------+
| CentOS Stream 8 | PASS           |
+-----------------+----------------+
| CentOS Stream 9 | PASS           |
+-----------------+----------------+
| Fedora 38       | PASS           |
+-----------------+----------------+
| Debian 12       | PASS           |
+-----------------+----------------+


Debian Bullseye
	Kernel: 5.4.0-167-generic
	Compiler: gcc 10.2.1-6

CentOS Stream 8
	Kernel: 5.4.0-167-generic
	Compiler: gcc 8.5.0 20210514

CentOS Stream 9
	Kernel: 5.4.0-167-generic
	Compiler: gcc 11.4.1 20230605

Fedora 38
	Kernel: Depends on container host
	Compiler: gcc 13.2.1

Debian 12
	Kernel: Container Host Kernel
	Compiler: gcc 10.2.1

To view detailed results, visit:
https://lab.dpdk.org/results/dashboard/patchsets/30043/

UNH-IOL DPDK Community Lab

To manage your email subscriptions, visit: 
https://lab.dpdk.org/results/dashboard/preferences/subscriptions/