From mboxrd@z Thu Jan  1 00:00:00 1970
Return-Path: <test-report-bounces@dpdk.org>
Received: from mails.dpdk.org (mails.dpdk.org [217.70.189.124])
	by inbox.dpdk.org (Postfix) with ESMTP id CBE2C4411E
	for <public@inbox.dpdk.org>; Sat,  1 Jun 2024 19:48:56 +0200 (CEST)
Received: from mails.dpdk.org (localhost [127.0.0.1])
	by mails.dpdk.org (Postfix) with ESMTP id C77DE402B4;
	Sat,  1 Jun 2024 19:48:56 +0200 (CEST)
Received: from mail-pg1-f228.google.com (mail-pg1-f228.google.com
 [209.85.215.228])
 by mails.dpdk.org (Postfix) with ESMTP id DB40B40270
 for <test-report@dpdk.org>; Sat,  1 Jun 2024 19:48:55 +0200 (CEST)
Received: by mail-pg1-f228.google.com with SMTP id
 41be03b00d2f7-6c3b5c5e32cso1241296a12.1
 for <test-report@dpdk.org>; Sat, 01 Jun 2024 10:48:55 -0700 (PDT)
DKIM-Signature: v=1; a=rsa-sha256; c=relaxed/relaxed;
 d=iol.unh.edu; s=unh-iol; t=1717264135; x=1717868935; darn=dpdk.org;
 h=references:in-reply-to:cc:to:from:subject:message-id:date:from:to
 :cc:subject:date:message-id:reply-to;
 bh=/UvqQiPmP+ingFNVCelNaJuWMWWAGFQqIdvgY5egll8=;
 b=cXX+XOpiqCpdWFOEDNgGTRhRUnQ40bD9QrRt/XRLrOg5ok2sDL77ywNVFZ6d5JGY7H
 VnfS42vW8K/bAqgIKgJ+qFLcCtk7u/CHSyuPq4/LdSF7HxDr9pr4lv3IKGd/YNhzHs1z
 jA5yAMPhddZPwXDZCY4lIE1wtswr/dBYfTGnw=
X-Google-DKIM-Signature: v=1; a=rsa-sha256; c=relaxed/relaxed;
 d=1e100.net; s=20230601; t=1717264135; x=1717868935;
 h=references:in-reply-to:cc:to:from:subject:message-id:date
 :x-gm-message-state:from:to:cc:subject:date:message-id:reply-to;
 bh=/UvqQiPmP+ingFNVCelNaJuWMWWAGFQqIdvgY5egll8=;
 b=aPkDmYCxpFThdfFrMV70rQsrBepwVK008Dxinj2aWajkPQjvbyQnqS41mi4niEZeKM
 KwLdUDaNhmyafur3syTBcI2hnmz4Uk+Mu1k1v7ACbL7YcXtQrH4l1EQHm8zs2lEGgfnp
 GICF0GKPuGJiSYcz5YmpfXZJup4esl6lcja4UO3duCPwPHvznmjs7MCrDcufz+mIyG2q
 TaLHlQ8B/5xa1/8cozR89zDxSa90bDxazHqGnKJQcWnc5UrlOz/rVqqQvhrD4BHVrbD7
 SqNzvQEV2RjU7l34nV/Viq3Cpq8aH0qfYVbkOZEIz1PiFr8E5yP9Qpj1pZnMDpNJVhn4
 NGBA==
X-Gm-Message-State: AOJu0YzqIBUDsr2GtsEfJoiTDmxNZj3s0xBCl3ribrcAc+TALuS1+L0l
 gmqhMeGyVygVJSuuvsYa3eUBafNxP0arfYreNohlFieopWX0pcu4gyUUTgLiuwgYJv9RCQjRURR
 X336xEovwnAFdRA/vaDxJjKnd/SMPtzeRWP84i/oymAfl1pdrjHMeUFX8
X-Google-Smtp-Source: AGHT+IE9Y04JZDKjpXpgGwZ52cG4q2wW1LiY1QufUE0tL4mYHujrvYXX5hbNbmDWwrM6/CasVI0sK++lElS1
X-Received: by 2002:a05:6a20:1001:b0:1af:fcbf:df2d with SMTP id
 adf61e73a8af0-1b26f29dffemr4651458637.60.1717264135111; 
 Sat, 01 Jun 2024 10:48:55 -0700 (PDT)
Received: from postal.iol.unh.edu (postal.iol.unh.edu.
 [2606:4100:3880:1234::84]) by smtp-relay.gmail.com with ESMTPS id
 98e67ed59e1d1-2c1a77b09f0sm204425a91.11.2024.06.01.10.48.54
 (version=TLS1_2 cipher=ECDHE-ECDSA-AES128-GCM-SHA256 bits=128/128);
 Sat, 01 Jun 2024 10:48:55 -0700 (PDT)
X-Relaying-Domain: iol.unh.edu
Date: Sat, 01 Jun 2024 10:48:55 -0700 (PDT)
Message-ID: <665b5f07.170a0220.2285ae.ee95SMTPIN_ADDED_MISSING@mx.google.com>
Received: from [172.21.0.7] (unknown [172.18.0.240])
 by postal.iol.unh.edu (Postfix) with ESMTP id 18D58605C373;
 Sat,  1 Jun 2024 13:48:54 -0400 (EDT)
Subject: |SUCCESS| pw140394 [PATCH] [v4] lib/hash: add siphash
From: dpdklab@iol.unh.edu
To: Test Report <test-report@dpdk.org>
Cc: dpdk-test-reports@iol.unh.edu
In-Reply-To: <20240529154842.224329-1-stephen@networkplumber.org>
References: <20240529154842.224329-1-stephen@networkplumber.org>
Content-Type: text/plain
X-BeenThere: test-report@dpdk.org
X-Mailman-Version: 2.1.29
Precedence: list
List-Id: automatic DPDK test reports <test-report.dpdk.org>
List-Unsubscribe: <https://mails.dpdk.org/options/test-report>,
 <mailto:test-report-request@dpdk.org?subject=unsubscribe>
List-Archive: <http://mails.dpdk.org/archives/test-report/>
List-Post: <mailto:test-report@dpdk.org>
List-Help: <mailto:test-report-request@dpdk.org?subject=help>
List-Subscribe: <https://mails.dpdk.org/listinfo/test-report>,
 <mailto:test-report-request@dpdk.org?subject=subscribe>
Errors-To: test-report-bounces@dpdk.org

Test-Label: iol-unit-amd64-testing
Test-Status: SUCCESS
http://dpdk.org/patch/140394

_Testing PASS_

Submitter: Stephen Hemminger <stephen@networkplumber.org>
Date: Wednesday, May 29 2024 15:47:28 
DPDK git baseline: Repo:dpdk
  Branch: master
  CommitID:76cef1af8bdaeaf67a5c4ca5df3f221df994dc46

140394 --> testing pass

Test environment and result as below:

+------------------+----------------+
|   Environment    | dpdk_unit_test |
+==================+================+
| CentOS Stream 8  | PASS           |
+------------------+----------------+
| CentOS Stream 9  | PASS           |
+------------------+----------------+
| Debian 12        | PASS           |
+------------------+----------------+
| Debian Bullseye  | PASS           |
+------------------+----------------+
| Fedora 37        | PASS           |
+------------------+----------------+
| Fedora 39        | PASS           |
+------------------+----------------+
| Fedora 38        | PASS           |
+------------------+----------------+
| openSUSE Leap 15 | PASS           |
+------------------+----------------+
| Ubuntu 20.04     | PASS           |
+------------------+----------------+
| Ubuntu 22.04     | PASS           |
+------------------+----------------+
| RHEL8            | PASS           |
+------------------+----------------+


CentOS Stream 8
	Kernel: 5.4.0-167-generic
	Compiler: gcc 8.5.0 20210514

CentOS Stream 9
	Kernel: 5.4.0-167-generic
	Compiler: gcc 11.4.1 20230605

Debian 12
	Kernel: Container Host Kernel
	Compiler: gcc 10.2.1

Debian Bullseye
	Kernel: 5.4.0-167-generic
	Compiler: gcc 10.2.1-6

Fedora 37
	Kernel: Depends on container host system
	Compiler: gcc 12.3.1

Fedora 39
	Kernel: Depends on container host
	Compiler: gcc 13.2.1

Fedora 38
	Kernel: Depends on container host
	Compiler: gcc 13.2.1

openSUSE Leap 15
	Kernel: 5.4.0-167-generic
	Compiler: gcc 7.5.0

Ubuntu 20.04
	Kernel: 5.4.0-167-generic
	Compiler: gcc 9.4.0-1ubuntu1~20.04.1

Ubuntu 22.04
	Kernel: 5.4.0-167-generic
	Compiler: gcc 11.4.0

RHEL8
	Kernel: 5.4.0-167-generic
	Compiler: gcc 8.5.0 20210514 (Red Hat 8.5.0-20)

To view detailed results, visit:
https://lab.dpdk.org/results/dashboard/patchsets/30039/

UNH-IOL DPDK Community Lab

To manage your email subscriptions, visit: 
https://lab.dpdk.org/results/dashboard/preferences/subscriptions/