From mboxrd@z Thu Jan  1 00:00:00 1970
Return-Path: <test-report-bounces@dpdk.org>
Received: from mails.dpdk.org (mails.dpdk.org [217.70.189.124])
	by inbox.dpdk.org (Postfix) with ESMTP id 48F1A44129
	for <public@inbox.dpdk.org>; Sat,  1 Jun 2024 20:06:55 +0200 (CEST)
Received: from mails.dpdk.org (localhost [127.0.0.1])
	by mails.dpdk.org (Postfix) with ESMTP id 43AAC40270;
	Sat,  1 Jun 2024 20:06:55 +0200 (CEST)
Received: from mail-oo1-f100.google.com (mail-oo1-f100.google.com
 [209.85.161.100])
 by mails.dpdk.org (Postfix) with ESMTP id 0B8BD4025F
 for <test-report@dpdk.org>; Sat,  1 Jun 2024 20:06:54 +0200 (CEST)
Received: by mail-oo1-f100.google.com with SMTP id
 006d021491bc7-5b997b8a7efso1223025eaf.0
 for <test-report@dpdk.org>; Sat, 01 Jun 2024 11:06:53 -0700 (PDT)
DKIM-Signature: v=1; a=rsa-sha256; c=relaxed/relaxed;
 d=iol.unh.edu; s=unh-iol; t=1717265213; x=1717870013; darn=dpdk.org;
 h=references:in-reply-to:cc:to:from:subject:message-id:date:from:to
 :cc:subject:date:message-id:reply-to;
 bh=C3koHzT7OntfsViCf/Ms4EX3H/SW4ivgyPxOvJgEjdI=;
 b=bTGjHap7F22ZiVDm3BWNiHoMQeRv7HxNQ4M+ydezYq8jAAcaMfRtx2X1PEvnS6Msy+
 jDfaESTs3hfYJvri18cbtRa9VQi3iEcY2JwMEBxidviYLXfzRj9YAkizqKG1aik+BPop
 c/aKkN24iNzz+cjfdMZZ6O5oiVFHDlaLhPaWQ=
X-Google-DKIM-Signature: v=1; a=rsa-sha256; c=relaxed/relaxed;
 d=1e100.net; s=20230601; t=1717265213; x=1717870013;
 h=references:in-reply-to:cc:to:from:subject:message-id:date
 :x-gm-message-state:from:to:cc:subject:date:message-id:reply-to;
 bh=C3koHzT7OntfsViCf/Ms4EX3H/SW4ivgyPxOvJgEjdI=;
 b=wAnN0yO/OyGTF7XpRh35AAd0ntDZvNZf+MMeWGGxJhXmodpGiCzaBhWr0knTZImS5D
 eoJwlmDfUCaTEimLOJkcaKrCLBD2QMI43s0+JsiC0NcfCvaZc+XQON0CyFVsgbJzLV2i
 43SuDz4haPbdddh3PWStO3rWwCNYdYY83xgxCHQ5GZf9M+Z4hnLzYWSlAlYsKpge0FJO
 3fnHbcD+e/s+cSMYkxhB5BK8v+e7qZmjK3kxwxsPVON9u79h1gZjmbV2PLSVTCaLZhTz
 ldZTO1KsnYqiJQsmw0s37w0whQ2+wr7BwGyf5Va5h2F58sMnlDE+Z6JWBOjZw1VTEUfF
 wxnQ==
X-Gm-Message-State: AOJu0YxJ9v0ozZJdikYaPb8TxpoMrIGSgXqw3o+fKDyvljvcPDRgOQkn
 8p2g0yW/1ZwBI7FMCcPBM4Rut8ZLWL1luxTK1Yv5KUN2YmlMg9ZZCMgUEKiHHetwFyEOXK184Bt
 LlivHqy8y/93CSAObRRbmhwVeewxVEE1i7EtmdiPA
X-Google-Smtp-Source: AGHT+IEDo77zdR3UHPfB6DuCn5z3T0oXt+sUgu1CR01T7LNcL3Of+1KNImjsNKUKzajDqPrkpbHNLjJ7pIg7
X-Received: by 2002:a05:6820:16a6:b0:5b9:f11e:d8b9 with SMTP id
 006d021491bc7-5ba05af1632mr5613262eaf.3.1717265213411; 
 Sat, 01 Jun 2024 11:06:53 -0700 (PDT)
Received: from postal.iol.unh.edu (postal.iol.unh.edu. [132.177.123.84])
 by smtp-relay.gmail.com with ESMTPS id
 006d021491bc7-5ba003a4392sm338592eaf.8.2024.06.01.11.06.53
 (version=TLS1_2 cipher=ECDHE-ECDSA-AES128-GCM-SHA256 bits=128/128);
 Sat, 01 Jun 2024 11:06:53 -0700 (PDT)
X-Relaying-Domain: iol.unh.edu
Date: Sat, 01 Jun 2024 11:06:53 -0700 (PDT)
Message-ID: <665b633d.4a0a0220.12c7d.ac07SMTPIN_ADDED_MISSING@mx.google.com>
Received: from [172.21.0.6] (unknown [172.18.0.240])
 by postal.iol.unh.edu (Postfix) with ESMTP id CD07D605C373;
 Sat,  1 Jun 2024 14:06:52 -0400 (EDT)
Subject: |SUCCESS| pw140397-140399 [PATCH] [v3,3/3] dts: Improve logging for 
From: dpdklab@iol.unh.edu
To: Test Report <test-report@dpdk.org>
Cc: dpdk-test-reports@iol.unh.edu
In-Reply-To: <20240529194910.26803-4-jspewock@iol.unh.edu>
References: <20240529194910.26803-4-jspewock@iol.unh.edu>
Content-Type: text/plain
X-BeenThere: test-report@dpdk.org
X-Mailman-Version: 2.1.29
Precedence: list
List-Id: automatic DPDK test reports <test-report.dpdk.org>
List-Unsubscribe: <https://mails.dpdk.org/options/test-report>,
 <mailto:test-report-request@dpdk.org?subject=unsubscribe>
List-Archive: <http://mails.dpdk.org/archives/test-report/>
List-Post: <mailto:test-report@dpdk.org>
List-Help: <mailto:test-report-request@dpdk.org?subject=help>
List-Subscribe: <https://mails.dpdk.org/listinfo/test-report>,
 <mailto:test-report-request@dpdk.org?subject=subscribe>
Errors-To: test-report-bounces@dpdk.org

Test-Label: iol-abi-testing
Test-Status: SUCCESS
http://dpdk.org/patch/140399

_Testing PASS_

Submitter: Jeremy Spewock <jspewock@iol.unh.edu>
Date: Wednesday, May 29 2024 19:49:10 
DPDK git baseline: Repo:dpdk
  Branch: master
  CommitID:76cef1af8bdaeaf67a5c4ca5df3f221df994dc46

140397-140399 --> testing pass

Test environment and result as below:

+------------------+----------+
|   Environment    | abi_test |
+==================+==========+
| openSUSE Leap 15 | PASS     |
+------------------+----------+
| Fedora 38        | PASS     |
+------------------+----------+
| Fedora 39        | PASS     |
+------------------+----------+
| Debian 12        | PASS     |
+------------------+----------+
| Fedora 37        | PASS     |
+------------------+----------+
| CentOS Stream 8  | PASS     |
+------------------+----------+


openSUSE Leap 15
	Kernel: 5.4.0-167-generic
	Compiler: gcc 7.5.0

Fedora 38
	Kernel: Depends on container host
	Compiler: clang 16.0.6

Fedora 39
	Kernel: Depends on container host
	Compiler: clang 17.0.6

Debian 12
	Kernel: Container Host Kernel
	Compiler: gcc 10.2.1

Fedora 37
	Kernel: Depends on container host system
	Compiler: gcc 12.3.1

CentOS Stream 8
	Kernel: 5.4.0-167-generic
	Compiler: gcc 8.5.0 20210514

To view detailed results, visit:
https://lab.dpdk.org/results/dashboard/patchsets/30041/

UNH-IOL DPDK Community Lab

To manage your email subscriptions, visit: 
https://lab.dpdk.org/results/dashboard/preferences/subscriptions/