From mboxrd@z Thu Jan  1 00:00:00 1970
Return-Path: <test-report-bounces@dpdk.org>
Received: from mails.dpdk.org (mails.dpdk.org [217.70.189.124])
	by inbox.dpdk.org (Postfix) with ESMTP id 3EB5744129
	for <public@inbox.dpdk.org>; Sat,  1 Jun 2024 20:16:06 +0200 (CEST)
Received: from mails.dpdk.org (localhost [127.0.0.1])
	by mails.dpdk.org (Postfix) with ESMTP id 3AA1B42DD9;
	Sat,  1 Jun 2024 20:16:06 +0200 (CEST)
Received: from mail-il1-f228.google.com (mail-il1-f228.google.com
 [209.85.166.228])
 by mails.dpdk.org (Postfix) with ESMTP id 028CE40270
 for <test-report@dpdk.org>; Sat,  1 Jun 2024 20:16:05 +0200 (CEST)
Received: by mail-il1-f228.google.com with SMTP id
 e9e14a558f8ab-3737dc4a669so14157115ab.0
 for <test-report@dpdk.org>; Sat, 01 Jun 2024 11:16:04 -0700 (PDT)
DKIM-Signature: v=1; a=rsa-sha256; c=relaxed/relaxed;
 d=iol.unh.edu; s=unh-iol; t=1717265764; x=1717870564; darn=dpdk.org;
 h=references:in-reply-to:cc:to:from:subject:message-id:date:from:to
 :cc:subject:date:message-id:reply-to;
 bh=sqruECss2I6hk0AakxhYUEnV4Vmnarh9Py0OL2A+K80=;
 b=cUvOUTealbJWdxpSdtgSOGxjSqiTnDSIl5ng/JxcsQvuWg44qM5mT09Zs7s45XIt9E
 VawI0Po77HH1E0wHMFTiisWDz+fMAwCYQmUVpSX5pCDUUkkthyx0mvBjoQF/iB8werZU
 2iUYrZyS8tsdy/qHTQP99ddD2hXu1zLq6G09w=
X-Google-DKIM-Signature: v=1; a=rsa-sha256; c=relaxed/relaxed;
 d=1e100.net; s=20230601; t=1717265764; x=1717870564;
 h=references:in-reply-to:cc:to:from:subject:message-id:date
 :x-gm-message-state:from:to:cc:subject:date:message-id:reply-to;
 bh=sqruECss2I6hk0AakxhYUEnV4Vmnarh9Py0OL2A+K80=;
 b=et0fqjbcKo6ALY0udVO2wZY4RGP4sx3nHuHfPh3Va3TnwYUJOKfHNp9EKQIj2Ppxmg
 TkPKPVlWzqjTFHbIeVSIMDERmcVXo1YMaJEixskoCcG33N2p1hCZPZcTcbH9X/S8mICH
 kUVpBnbVO1gSBreztTHC4Ci+y4MiMDhCpicmwAOn30l9vpo4cODx3GJzGogJAUR5eXpy
 hjWqIYRw10xTOVOT+oxU7zTwe+sQy3igV/X9jywsh3o/cXvJrglkiBnxyWJUOpF8JjeO
 wcy+5XGb5WOHzA4v8xbgxoQFND0dwXHOWT7yRDwdxCbsKnyB+BfJ0EyQw7EPmOa8o/bU
 q+zA==
X-Gm-Message-State: AOJu0YwYK6FyfxvIHDVFHwEzhDHAtUjUiKlsfvyWNZe/UzQwN9JbcYb8
 GYv/qtl47hku2VUG5hepAc4S1ONImbPVWRl45vuAYMsTPAUs4OlBadC3FJS0ZNhU7A+4IdxXevC
 9QniIKpefd/sSifF+rWbnNMPtApo3Yys+Uo9i6kKk
X-Google-Smtp-Source: AGHT+IHSsH+fFP8SWT9tgh9Vfo39kOmk4h/2bcsEm/H15B/H4vRMR8Djwro6HechQW1gMWC1MYnS3CdLQRrM
X-Received: by 2002:a05:6e02:2167:b0:36d:a8ac:5e25 with SMTP id
 e9e14a558f8ab-3748b9d0218mr56045775ab.24.1717265764435; 
 Sat, 01 Jun 2024 11:16:04 -0700 (PDT)
Received: from postal.iol.unh.edu (postal.iol.unh.edu. [132.177.123.84])
 by smtp-relay.gmail.com with ESMTPS id
 e9e14a558f8ab-3748a223416sm2196965ab.42.2024.06.01.11.16.04
 (version=TLS1_2 cipher=ECDHE-ECDSA-AES128-GCM-SHA256 bits=128/128);
 Sat, 01 Jun 2024 11:16:04 -0700 (PDT)
X-Relaying-Domain: iol.unh.edu
Date: Sat, 01 Jun 2024 11:16:04 -0700 (PDT)
Message-ID: <665b6564.050a0220.7946b.0a78SMTPIN_ADDED_MISSING@mx.google.com>
Received: from [172.21.0.6] (unknown [172.18.0.240])
 by postal.iol.unh.edu (Postfix) with ESMTP id E9632605C373;
 Sat,  1 Jun 2024 14:16:03 -0400 (EDT)
Subject: |SUCCESS| pw140391 [PATCH] maintainers: update for networking mlx5 d
From: dpdklab@iol.unh.edu
To: Test Report <test-report@dpdk.org>
Cc: dpdk-test-reports@iol.unh.edu
In-Reply-To: <20240529112038.12904-1-dsosnowski@nvidia.com>
References: <20240529112038.12904-1-dsosnowski@nvidia.com>
Content-Type: text/plain
X-BeenThere: test-report@dpdk.org
X-Mailman-Version: 2.1.29
Precedence: list
List-Id: automatic DPDK test reports <test-report.dpdk.org>
List-Unsubscribe: <https://mails.dpdk.org/options/test-report>,
 <mailto:test-report-request@dpdk.org?subject=unsubscribe>
List-Archive: <http://mails.dpdk.org/archives/test-report/>
List-Post: <mailto:test-report@dpdk.org>
List-Help: <mailto:test-report-request@dpdk.org?subject=help>
List-Subscribe: <https://mails.dpdk.org/listinfo/test-report>,
 <mailto:test-report-request@dpdk.org?subject=subscribe>
Errors-To: test-report-bounces@dpdk.org

Test-Label: iol-unit-arm64-testing
Test-Status: SUCCESS
http://dpdk.org/patch/140391

_Testing PASS_

Submitter: Dariusz Sosnowski <dsosnowski@nvidia.com>
Date: Wednesday, May 29 2024 11:20:38 
DPDK git baseline: Repo:dpdk
  Branch: master
  CommitID:76cef1af8bdaeaf67a5c4ca5df3f221df994dc46

140391 --> testing pass

Test environment and result as below:

+-----------------------------+----------------+
|         Environment         | dpdk_unit_test |
+=============================+================+
| 32-bit Ubuntu 20.04.4 (ARM) | PASS           |
+-----------------------------+----------------+
| CentOS Stream 9 (ARM)       | PASS           |
+-----------------------------+----------------+
| Debian 12 (arm)             | PASS           |
+-----------------------------+----------------+
| Debian 11 (Buster) (ARM)    | PASS           |
+-----------------------------+----------------+
| Fedora 37 (ARM)             | PASS           |
+-----------------------------+----------------+
| Fedora 38 (ARM)             | PASS           |
+-----------------------------+----------------+
| Fedora 39 (ARM)             | PASS           |
+-----------------------------+----------------+
| Ubuntu 20.04 (ARM)          | PASS           |
+-----------------------------+----------------+
| Ubuntu 22.04 (ARM)          | PASS           |
+-----------------------------+----------------+
| Fedora 38 (ARM Clang)       | PASS           |
+-----------------------------+----------------+


32-bit Ubuntu 20.04.4 (ARM)
	Kernel: 5.4.0-155-generic aarch64
	Compiler: gcc 9.4

CentOS Stream 9 (ARM)
	Kernel: Container Host Kernel
	Compiler: gcc 11.4.1

Debian 12 (arm)
	Kernel: Container Host Kernel
	Compiler: gcc 12.2.0

Debian 11 (Buster) (ARM)
	Kernel: Container Host Kernel
	Compiler: gcc 10.2.1

Fedora 37 (ARM)
	Kernel: Depends on container host
	Compiler: gcc 12.3.1

Fedora 38 (ARM)
	Kernel: Depends on container host
	Compiler: gcc 13.2.1

Fedora 39 (ARM)
	Kernel: Depends on container host
	Compiler: gcc 13.2.1

Ubuntu 20.04 (ARM)
	Kernel: Container Host Kernel
	Compiler: gcc 9.4.0

Ubuntu 22.04 (ARM)
	Kernel: Container Host Kernel
	Compiler: gcc 11.4.0

Fedora 38 (ARM Clang)
	Kernel: Depends on container host
	Compiler: clang 16.0.6

To view detailed results, visit:
https://lab.dpdk.org/results/dashboard/patchsets/30037/

UNH-IOL DPDK Community Lab

To manage your email subscriptions, visit: 
https://lab.dpdk.org/results/dashboard/preferences/subscriptions/