From mboxrd@z Thu Jan  1 00:00:00 1970
Return-Path: <test-report-bounces@dpdk.org>
Received: from mails.dpdk.org (mails.dpdk.org [217.70.189.124])
	by inbox.dpdk.org (Postfix) with ESMTP id D13F344129
	for <public@inbox.dpdk.org>; Sat,  1 Jun 2024 20:40:53 +0200 (CEST)
Received: from mails.dpdk.org (localhost [127.0.0.1])
	by mails.dpdk.org (Postfix) with ESMTP id CBD6140270;
	Sat,  1 Jun 2024 20:40:53 +0200 (CEST)
Received: from mail-il1-f227.google.com (mail-il1-f227.google.com
 [209.85.166.227])
 by mails.dpdk.org (Postfix) with ESMTP id 9DF604025F
 for <test-report@dpdk.org>; Sat,  1 Jun 2024 20:40:52 +0200 (CEST)
Received: by mail-il1-f227.google.com with SMTP id
 e9e14a558f8ab-371c97913cdso8852325ab.3
 for <test-report@dpdk.org>; Sat, 01 Jun 2024 11:40:52 -0700 (PDT)
DKIM-Signature: v=1; a=rsa-sha256; c=relaxed/relaxed;
 d=iol.unh.edu; s=unh-iol; t=1717267252; x=1717872052; darn=dpdk.org;
 h=references:in-reply-to:cc:to:from:subject:message-id:date:from:to
 :cc:subject:date:message-id:reply-to;
 bh=rw0C3NJfeaurQvVkN/KYi7mHBj9daeQbh9ECz9RuG98=;
 b=YeBYnrJ1z9F7SXB0sNtutsQa7dPbNccx86lfNQbHmJdBljJ2I5DLjGaoGrJ1EYzDXr
 XqAwCt7A+kq8K189Z9i7q+zGLuuuHozvM5UpeNloXfeqov+2vEdgSGqHn7wUAlBZ/z7+
 L2a64BH6O0Kj0NLLrNMoOVrpcpTVekrSXlGlI=
X-Google-DKIM-Signature: v=1; a=rsa-sha256; c=relaxed/relaxed;
 d=1e100.net; s=20230601; t=1717267252; x=1717872052;
 h=references:in-reply-to:cc:to:from:subject:message-id:date
 :x-gm-message-state:from:to:cc:subject:date:message-id:reply-to;
 bh=rw0C3NJfeaurQvVkN/KYi7mHBj9daeQbh9ECz9RuG98=;
 b=PcVYbgOQZj/U+FkkPmtcZ1L3gbpTyPPX+Yx3v5fHFm1O/gdQ3/h79h/OGGOft4un7J
 FxWixjWDKgULRFSppensPDsOGCyO0LOPIBNqMb4TCOA1xeuYdrzpz/yzhwTusdmIKH81
 wh9Dp6Cn67G9WMrirR3lM/ZTkqJgxK6OjQ7XHGUcy7kRsXn2rDpj8/3HhczyrP9gxD4s
 /tiLXcn32OYFM3dIl4/T/3dWkIoC5KLgJ4Cblt09S3AkfQJC5eUvAvrb5ShtEwdllGP0
 3eqW6EIPOT2vgmrzjgflF17NWcHEwNxUBOg41KIo9Suti8tK5VEkV4l+3ZuI9zRCd4Dy
 GAaw==
X-Gm-Message-State: AOJu0YyBJA9+Ju5vcPBSa3TgWdRWHfW1oR4LkOmnOj/10tLYmclSrWrS
 E1ikS0Ugdw9VYvbtnSzR+txmAcyyNfYs4uWCxsrXfDA3KOsh/4ZPCPloLkxPZx4Q/ONrVFVqgbt
 FR4NdAgNwaN2ION/HteshwZsjOIaz1EDvNblaG8hqCJs2pzRxms1ai3aC
X-Google-Smtp-Source: AGHT+IENl/J0Mfu2S8uFNc/AkouAfD5Y6aZRJVrX9JKPVhDED5rFGluCx7SKKVvDnNW/dvI8hl7mBmcXhqbI
X-Received: by 2002:a05:6e02:1a8f:b0:374:968e:7ee6 with SMTP id
 e9e14a558f8ab-374968e831bmr12941565ab.30.1717267252075; 
 Sat, 01 Jun 2024 11:40:52 -0700 (PDT)
Received: from postal.iol.unh.edu (postal.iol.unh.edu.
 [2606:4100:3880:1234::84]) by smtp-relay.gmail.com with ESMTPS id
 e9e14a558f8ab-3748a1f1daasm2178395ab.26.2024.06.01.11.40.51
 (version=TLS1_2 cipher=ECDHE-ECDSA-AES128-GCM-SHA256 bits=128/128);
 Sat, 01 Jun 2024 11:40:52 -0700 (PDT)
X-Relaying-Domain: iol.unh.edu
Date: Sat, 01 Jun 2024 11:40:52 -0700 (PDT)
Message-ID: <665b6b34.050a0220.ca57e.1ec7SMTPIN_ADDED_MISSING@mx.google.com>
Received: from [172.21.0.6] (unknown [172.18.0.240])
 by postal.iol.unh.edu (Postfix) with ESMTP id 9F5A0605C373;
 Sat,  1 Jun 2024 14:40:51 -0400 (EDT)
Subject: |SUCCESS| pw140397-140399 [PATCH] [v3,3/3] dts: Improve logging for 
From: dpdklab@iol.unh.edu
To: Test Report <test-report@dpdk.org>
Cc: dpdk-test-reports@iol.unh.edu
In-Reply-To: <20240529194910.26803-4-jspewock@iol.unh.edu>
References: <20240529194910.26803-4-jspewock@iol.unh.edu>
Content-Type: text/plain
X-BeenThere: test-report@dpdk.org
X-Mailman-Version: 2.1.29
Precedence: list
List-Id: automatic DPDK test reports <test-report.dpdk.org>
List-Unsubscribe: <https://mails.dpdk.org/options/test-report>,
 <mailto:test-report-request@dpdk.org?subject=unsubscribe>
List-Archive: <http://mails.dpdk.org/archives/test-report/>
List-Post: <mailto:test-report@dpdk.org>
List-Help: <mailto:test-report-request@dpdk.org?subject=help>
List-Subscribe: <https://mails.dpdk.org/listinfo/test-report>,
 <mailto:test-report-request@dpdk.org?subject=subscribe>
Errors-To: test-report-bounces@dpdk.org

Test-Label: iol-unit-amd64-testing
Test-Status: SUCCESS
http://dpdk.org/patch/140399

_Testing PASS_

Submitter: Jeremy Spewock <jspewock@iol.unh.edu>
Date: Wednesday, May 29 2024 19:49:10 
DPDK git baseline: Repo:dpdk
  Branch: master
  CommitID:76cef1af8bdaeaf67a5c4ca5df3f221df994dc46

140397-140399 --> testing pass

Test environment and result as below:

+-----------------+----------------+
|   Environment   | dpdk_unit_test |
+=================+================+
| Debian Bullseye | PASS           |
+-----------------+----------------+
| CentOS Stream 8 | PASS           |
+-----------------+----------------+
| CentOS Stream 9 | PASS           |
+-----------------+----------------+


Debian Bullseye
	Kernel: 5.4.0-167-generic
	Compiler: gcc 10.2.1-6

CentOS Stream 8
	Kernel: 5.4.0-167-generic
	Compiler: gcc 8.5.0 20210514

CentOS Stream 9
	Kernel: 5.4.0-167-generic
	Compiler: gcc 11.4.1 20230605

To view detailed results, visit:
https://lab.dpdk.org/results/dashboard/patchsets/30041/

UNH-IOL DPDK Community Lab

To manage your email subscriptions, visit: 
https://lab.dpdk.org/results/dashboard/preferences/subscriptions/