From mboxrd@z Thu Jan  1 00:00:00 1970
Return-Path: <test-report-bounces@dpdk.org>
Received: from mails.dpdk.org (mails.dpdk.org [217.70.189.124])
	by inbox.dpdk.org (Postfix) with ESMTP id EFB1644129
	for <public@inbox.dpdk.org>; Sat,  1 Jun 2024 20:52:30 +0200 (CEST)
Received: from mails.dpdk.org (localhost [127.0.0.1])
	by mails.dpdk.org (Postfix) with ESMTP id 2654E40270;
	Sat,  1 Jun 2024 20:52:30 +0200 (CEST)
Received: from mail-yw1-f226.google.com (mail-yw1-f226.google.com
 [209.85.128.226])
 by mails.dpdk.org (Postfix) with ESMTP id 5DD8B4025F
 for <test-report@dpdk.org>; Sat,  1 Jun 2024 20:52:28 +0200 (CEST)
Received: by mail-yw1-f226.google.com with SMTP id
 00721157ae682-62a087bc74bso29852217b3.2
 for <test-report@dpdk.org>; Sat, 01 Jun 2024 11:52:28 -0700 (PDT)
DKIM-Signature: v=1; a=rsa-sha256; c=relaxed/relaxed;
 d=iol.unh.edu; s=unh-iol; t=1717267948; x=1717872748; darn=dpdk.org;
 h=references:in-reply-to:cc:to:from:subject:message-id:date:from:to
 :cc:subject:date:message-id:reply-to;
 bh=J4anIbcooAg6wyv5WPmZcWLT7AGXE1uXKwagSdyhmpM=;
 b=Z100aTOeERtCHJEvmX9SpfdRlHnjNhsm6U9WbMsbyJm0VIMRmfnRRfwy7A3bzF5OgF
 lgA7uMDuPV5i08ohulsBBx1+uWo8RyZBWVW2Gi8IhRp//KtGy/FvPO6lxgURGzJMM+4i
 fgqjGUv+B8hD6ixjdQknthPH53fY3nFMOUKRY=
X-Google-DKIM-Signature: v=1; a=rsa-sha256; c=relaxed/relaxed;
 d=1e100.net; s=20230601; t=1717267948; x=1717872748;
 h=references:in-reply-to:cc:to:from:subject:message-id:date
 :x-gm-message-state:from:to:cc:subject:date:message-id:reply-to;
 bh=J4anIbcooAg6wyv5WPmZcWLT7AGXE1uXKwagSdyhmpM=;
 b=emfHNasGZhwAdFfSRKzATbhwOUIeFrkUwmrsqG/xlyacS7eyRwuJQSf94BlOJy3ibo
 UjDu38lERIxWB7q8PFlFdHl+C3fFc4ozC7bWy1LXSPkiE9dWMQXx/KoIFZcyEq6+bF1N
 Z78hZE+AYR8EDYW05eSuNZXcoU+7pacAW7jUh8EvWssVrBxBQfCimsmpYnKd8WXAvJoc
 cNX6jA74O0n4dmTn9j0AOzpt0J1WBXG+FCv0h837ZhBPzLKthUhNVQ8JYoXnZR6aWwRs
 2dF9APiWkg2W/2sSKoRWY0yxLPbLofbF03bcmGnv2DL6+F3DuRdnL3ujpwt5Tnz/jMeb
 X71A==
X-Gm-Message-State: AOJu0Yy94bKkV/FFZb7R52z9oOqRY/Ia1PG7fyAZ2tlpUbhli+iHljO8
 CqU1kvoBxWxm924s185Wr1JyDgkpsvGtJvk5e+GPQ8RqM8A1kqTjM3dddY+rI52HPlgqxXxNO3W
 r28L9vJJWQ/vJNn+ioqZQ/ulJyHVjMreCtJttwsyH28jl//khBhG1YtSB
X-Google-Smtp-Source: AGHT+IHMhICCJAwFnNY6tYkWOyF0d29yb2AVAnPzWwHzA7VYtfuu1jdYCn8CC0WpdFr/VzBi4f7nkqHQ+zCx
X-Received: by 2002:a81:b710:0:b0:61b:92d9:f7e8 with SMTP id
 00721157ae682-62c79708759mr56482297b3.23.1717267947785; 
 Sat, 01 Jun 2024 11:52:27 -0700 (PDT)
Received: from postal.iol.unh.edu (postal.iol.unh.edu.
 [2606:4100:3880:1234::84]) by smtp-relay.gmail.com with ESMTPS id
 00721157ae682-62c766c7059sm1606347b3.62.2024.06.01.11.52.27
 (version=TLS1_2 cipher=ECDHE-ECDSA-AES128-GCM-SHA256 bits=128/128);
 Sat, 01 Jun 2024 11:52:27 -0700 (PDT)
X-Relaying-Domain: iol.unh.edu
Date: Sat, 01 Jun 2024 11:52:27 -0700 (PDT)
Message-ID: <665b6deb.050a0220.ca8f1.cdb0SMTPIN_ADDED_MISSING@mx.google.com>
Received: from [172.21.0.7] (unknown [172.18.0.240])
 by postal.iol.unh.edu (Postfix) with ESMTP id 6C280605C373;
 Sat,  1 Jun 2024 14:52:27 -0400 (EDT)
Subject: |SUCCESS| pw140397-140399 [PATCH] [v3,3/3] dts: Improve logging for 
From: dpdklab@iol.unh.edu
To: Test Report <test-report@dpdk.org>
Cc: dpdk-test-reports@iol.unh.edu
In-Reply-To: <20240529194910.26803-4-jspewock@iol.unh.edu>
References: <20240529194910.26803-4-jspewock@iol.unh.edu>
Content-Type: text/plain
X-BeenThere: test-report@dpdk.org
X-Mailman-Version: 2.1.29
Precedence: list
List-Id: automatic DPDK test reports <test-report.dpdk.org>
List-Unsubscribe: <https://mails.dpdk.org/options/test-report>,
 <mailto:test-report-request@dpdk.org?subject=unsubscribe>
List-Archive: <http://mails.dpdk.org/archives/test-report/>
List-Post: <mailto:test-report@dpdk.org>
List-Help: <mailto:test-report-request@dpdk.org?subject=help>
List-Subscribe: <https://mails.dpdk.org/listinfo/test-report>,
 <mailto:test-report-request@dpdk.org?subject=subscribe>
Errors-To: test-report-bounces@dpdk.org

Test-Label: iol-unit-amd64-testing
Test-Status: SUCCESS
http://dpdk.org/patch/140399

_Testing PASS_

Submitter: Jeremy Spewock <jspewock@iol.unh.edu>
Date: Wednesday, May 29 2024 19:49:10 
DPDK git baseline: Repo:dpdk
  Branch: master
  CommitID:76cef1af8bdaeaf67a5c4ca5df3f221df994dc46

140397-140399 --> testing pass

Test environment and result as below:

+-----------------+----------------+
|   Environment   | dpdk_unit_test |
+=================+================+
| Debian Bullseye | PASS           |
+-----------------+----------------+
| CentOS Stream 8 | PASS           |
+-----------------+----------------+
| CentOS Stream 9 | PASS           |
+-----------------+----------------+
| Fedora 38       | PASS           |
+-----------------+----------------+
| Debian 12       | PASS           |
+-----------------+----------------+
| Fedora 37       | PASS           |
+-----------------+----------------+
| Fedora 39       | PASS           |
+-----------------+----------------+
| Ubuntu 20.04    | PASS           |
+-----------------+----------------+


Debian Bullseye
	Kernel: 5.4.0-167-generic
	Compiler: gcc 10.2.1-6

CentOS Stream 8
	Kernel: 5.4.0-167-generic
	Compiler: gcc 8.5.0 20210514

CentOS Stream 9
	Kernel: 5.4.0-167-generic
	Compiler: gcc 11.4.1 20230605

Fedora 38
	Kernel: Depends on container host
	Compiler: gcc 13.2.1

Debian 12
	Kernel: Container Host Kernel
	Compiler: gcc 10.2.1

Fedora 37
	Kernel: Depends on container host system
	Compiler: gcc 12.3.1

Fedora 39
	Kernel: Depends on container host
	Compiler: gcc 13.2.1

Ubuntu 20.04
	Kernel: 5.4.0-167-generic
	Compiler: gcc 9.4.0-1ubuntu1~20.04.1

To view detailed results, visit:
https://lab.dpdk.org/results/dashboard/patchsets/30041/

UNH-IOL DPDK Community Lab

To manage your email subscriptions, visit: 
https://lab.dpdk.org/results/dashboard/preferences/subscriptions/