From mboxrd@z Thu Jan  1 00:00:00 1970
Return-Path: <test-report-bounces@dpdk.org>
Received: from mails.dpdk.org (mails.dpdk.org [217.70.189.124])
	by inbox.dpdk.org (Postfix) with ESMTP id D332C4412D
	for <public@inbox.dpdk.org>; Sun,  2 Jun 2024 06:16:24 +0200 (CEST)
Received: from mails.dpdk.org (localhost [127.0.0.1])
	by mails.dpdk.org (Postfix) with ESMTP id CB1684028C;
	Sun,  2 Jun 2024 06:16:24 +0200 (CEST)
Received: from mail-oa1-f100.google.com (mail-oa1-f100.google.com
 [209.85.160.100])
 by mails.dpdk.org (Postfix) with ESMTP id 897034028A
 for <test-report@dpdk.org>; Sun,  2 Jun 2024 06:16:23 +0200 (CEST)
Received: by mail-oa1-f100.google.com with SMTP id
 586e51a60fabf-24cbb884377so1941083fac.0
 for <test-report@dpdk.org>; Sat, 01 Jun 2024 21:16:23 -0700 (PDT)
DKIM-Signature: v=1; a=rsa-sha256; c=relaxed/relaxed;
 d=iol.unh.edu; s=unh-iol; t=1717301783; x=1717906583; darn=dpdk.org;
 h=references:in-reply-to:cc:to:from:subject:message-id:date:from:to
 :cc:subject:date:message-id:reply-to;
 bh=0Y9eXHNHV6ykY6T+thLhdVmOcgR2YjOHooWpFwIdJq4=;
 b=Z+3MbIr/xaI5zwbxlQdOSzuJwhGqqFgBhYjfLoDCzadR+Fw2JBsOSqU14JT83dMJyW
 n+5fFw9TCvXrS6XqQqB3+K7kPHpHgmG18vIKS4qM4Ny7nl16g5MT9Bl9zmWFsjtRpbM5
 Qs4hF1zJROWjU0Wok3yNI12SOXTHoImNIGgxI=
X-Google-DKIM-Signature: v=1; a=rsa-sha256; c=relaxed/relaxed;
 d=1e100.net; s=20230601; t=1717301783; x=1717906583;
 h=references:in-reply-to:cc:to:from:subject:message-id:date
 :x-gm-message-state:from:to:cc:subject:date:message-id:reply-to;
 bh=0Y9eXHNHV6ykY6T+thLhdVmOcgR2YjOHooWpFwIdJq4=;
 b=Qb79syHZBv7ApDBV5UEguAdnbBcE/hzBXSSJeRZItnJ7Z0XJIG+QessBM81cgzPnJm
 95Rr5PptFspKRVpWbRBe/itXJFkeG7K5SDpwhAOVc6TRwcFThui2n24KNc9+xB2HbwJW
 RRuPqWO842GGk3OgeZ6+ljyjFwyy5FWNhpPLsavlrI8WcjrAonxbdzlOlDVVo6etmfFM
 R/fqxUYz5BjN+r8G99sPJGLWqX2aaat4pHhSXRf/o/SgKYA6rE4Xwwm9OMtWxwPVMCoS
 +Lm38+rVujR1iYqyWsNM/z26bgR4Vxk9tD+duv0r/BO5kSztd4CUrfbVDw+G8ZCWH72v
 0z7Q==
X-Gm-Message-State: AOJu0YzVkoZ2J/tv7EBGiSLLF8xmRNAgH7HpVfQr3AsKxCtDqlDYIrc2
 hXIigvuFzM6csggLwinGXnIq+jOIAdoOyhuHwA61O1wwKDFcDzJj8wHgKTJPIahNmgLSx5BABoj
 e4S2HB5WK71Zphu2i9mSE2qY6p8VWghACCLGFDYAi
X-Google-Smtp-Source: AGHT+IE8ZvtBUjoz21DHxQKqSULPVqlSo6JA/mGAoa8//Hd/Wc1/qZsP7dZZi8zA/7uQbb+yvL/l1Bt+0OYq
X-Received: by 2002:a05:6870:548c:b0:24f:dc76:f6d2 with SMTP id
 586e51a60fabf-2508c120a20mr6551458fac.45.1717301782896; 
 Sat, 01 Jun 2024 21:16:22 -0700 (PDT)
Received: from postal.iol.unh.edu (postal.iol.unh.edu. [132.177.123.84])
 by smtp-relay.gmail.com with ESMTPS id
 41be03b00d2f7-6c3559f2c97sm225569a12.12.2024.06.01.21.16.22
 (version=TLS1_2 cipher=ECDHE-ECDSA-AES128-GCM-SHA256 bits=128/128);
 Sat, 01 Jun 2024 21:16:22 -0700 (PDT)
X-Relaying-Domain: iol.unh.edu
Date: Sat, 01 Jun 2024 21:16:22 -0700 (PDT)
Message-ID: <665bf216.630a0220.84a08.19a4SMTPIN_ADDED_MISSING@mx.google.com>
Received: from [172.17.0.2] (unknown [172.18.0.217])
 by postal.iol.unh.edu (Postfix) with ESMTP id E069E605C373;
 Sun,  2 Jun 2024 00:16:21 -0400 (EDT)
Subject: |SUCCESS| pw140541-140544 [PATCH] [v2,4/4] testpmd: add support for 
From: dpdklab@iol.unh.edu
To: Test Report <test-report@dpdk.org>
Cc: dpdk-test-reports@iol.unh.edu
In-Reply-To: <20240602024504.179506-5-damodharam.ammepalli@broadcom.com>
References: <20240602024504.179506-5-damodharam.ammepalli@broadcom.com>
Content-Type: text/plain
X-BeenThere: test-report@dpdk.org
X-Mailman-Version: 2.1.29
Precedence: list
List-Id: automatic DPDK test reports <test-report.dpdk.org>
List-Unsubscribe: <https://mails.dpdk.org/options/test-report>,
 <mailto:test-report-request@dpdk.org?subject=unsubscribe>
List-Archive: <http://mails.dpdk.org/archives/test-report/>
List-Post: <mailto:test-report@dpdk.org>
List-Help: <mailto:test-report-request@dpdk.org?subject=help>
List-Subscribe: <https://mails.dpdk.org/listinfo/test-report>,
 <mailto:test-report-request@dpdk.org?subject=subscribe>
Errors-To: test-report-bounces@dpdk.org

Test-Label: iol-unit-amd64-testing
Test-Status: SUCCESS
http://dpdk.org/patch/140544

_Testing PASS_

Submitter: Damodharam Ammepalli <damodharam.ammepalli@broadcom.com>
Date: Sunday, June 02 2024 02:45:04 
DPDK git baseline: Repo:dpdk
  Branch: master
  CommitID:2dbb63594a9a985e2c8639b57f9fcd1468b9de97

140541-140544 --> testing pass

Test environment and result as below:

+---------------------+----------------+
|     Environment     | dpdk_unit_test |
+=====================+================+
| Windows Server 2019 | PASS           |
+---------------------+----------------+
| Windows Server 2022 | PASS           |
+---------------------+----------------+
| CentOS Stream 8     | PASS           |
+---------------------+----------------+
| Fedora 38           | PASS           |
+---------------------+----------------+
| CentOS Stream 9     | PASS           |
+---------------------+----------------+
| Debian Bullseye     | PASS           |
+---------------------+----------------+
| Fedora 39           | PASS           |
+---------------------+----------------+
| Ubuntu 20.04        | PASS           |
+---------------------+----------------+
| Fedora 37           | PASS           |
+---------------------+----------------+


Windows Server 2019
	Kernel: 10.0.17763
	Compiler: clang 14.0 and gcc 8.1.0 (MinGW)

Windows Server 2022
	Kernel: 10.0.20348.2031
	Compiler: clang 15.0.7, gcc 8.1.0 (MinGW), and MSVC VS 17.9

CentOS Stream 8
	Kernel: 5.4.0-167-generic
	Compiler: gcc 8.5.0 20210514

Fedora 38
	Kernel: Depends on container host
	Compiler: gcc 13.2.1

CentOS Stream 9
	Kernel: 5.4.0-167-generic
	Compiler: gcc 11.4.1 20230605

Debian Bullseye
	Kernel: 5.4.0-167-generic
	Compiler: gcc 10.2.1-6

Fedora 39
	Kernel: Depends on container host
	Compiler: gcc 13.2.1

Ubuntu 20.04
	Kernel: 5.4.0-167-generic
	Compiler: gcc 9.4.0-1ubuntu1~20.04.1

Fedora 37
	Kernel: Depends on container host system
	Compiler: gcc 12.3.1

To view detailed results, visit:
https://lab.dpdk.org/results/dashboard/patchsets/30069/

UNH-IOL DPDK Community Lab

To manage your email subscriptions, visit: 
https://lab.dpdk.org/results/dashboard/preferences/subscriptions/