From mboxrd@z Thu Jan  1 00:00:00 1970
Return-Path: <test-report-bounces@dpdk.org>
Received: from mails.dpdk.org (mails.dpdk.org [217.70.189.124])
	by inbox.dpdk.org (Postfix) with ESMTP id 116134412F
	for <public@inbox.dpdk.org>; Sun,  2 Jun 2024 09:00:36 +0200 (CEST)
Received: from mails.dpdk.org (localhost [127.0.0.1])
	by mails.dpdk.org (Postfix) with ESMTP id 0CE6740298;
	Sun,  2 Jun 2024 09:00:36 +0200 (CEST)
Received: from mail-pg1-f228.google.com (mail-pg1-f228.google.com
 [209.85.215.228])
 by mails.dpdk.org (Postfix) with ESMTP id 107C74028C
 for <test-report@dpdk.org>; Sun,  2 Jun 2024 09:00:34 +0200 (CEST)
Received: by mail-pg1-f228.google.com with SMTP id
 41be03b00d2f7-6cb6b9ada16so186532a12.0
 for <test-report@dpdk.org>; Sun, 02 Jun 2024 00:00:34 -0700 (PDT)
DKIM-Signature: v=1; a=rsa-sha256; c=relaxed/relaxed;
 d=iol.unh.edu; s=unh-iol; t=1717311633; x=1717916433; darn=dpdk.org;
 h=references:in-reply-to:cc:to:from:subject:message-id:date:from:to
 :cc:subject:date:message-id:reply-to;
 bh=f4cbbVi3PoJU/uMw6YAgBStNIvsEhjoj/vV+vNgB3TY=;
 b=Ief2/375FYYnlbiBZlaNKt9OHebj9+wS5nwSS6AuWgsKuP0jW009ZGWkJ8ZvnS/32q
 GPyeytA0fz3Iee27NZUy8asVHYmqxa7aCtVsy1nr7uXVhM/HhiNF8EcFG3RtoNL9DkhY
 i7dtL6PXbcsnbkLfJDWhRnX0nnreK/C+B9UmA=
X-Google-DKIM-Signature: v=1; a=rsa-sha256; c=relaxed/relaxed;
 d=1e100.net; s=20230601; t=1717311633; x=1717916433;
 h=references:in-reply-to:cc:to:from:subject:message-id:date
 :x-gm-message-state:from:to:cc:subject:date:message-id:reply-to;
 bh=f4cbbVi3PoJU/uMw6YAgBStNIvsEhjoj/vV+vNgB3TY=;
 b=cADb0ZIJeTUshN024zELYkYMmzq1jUMZR25tMP1mVHJwPoQNwlB0aDAn2qtUvNgLi0
 QoBCl/iQlp4UrD+AVS8pas8ODmzEZU7WIrJWSKYRZA/+d/9cQ/Qd56epb7kwpD8l310E
 4SZ5NXsJauAKyiSKLifn2Bj42nAtue0VxtjSDc6611UK1bgvPbI5Hjb0n+KxQUN+TeD2
 a7YKG6iSZE9vRSldcnyEerubMGrya6OJrWmH+qQuQrrsFtL4SGtUhnN5gb6sIF2O37Wl
 uG/xixsuLhsBwhL5GhTDvn9zDgPOXx6SgVq388+2yve7t+fOdEXFKQRNOMSf1X9GaDeM
 xvfw==
X-Gm-Message-State: AOJu0YzdkQarCF/AxL6oXr9NL3sKM/jQKumcH7xE6FnxwmjYlEAXRxKH
 KQ4coSzkU0tMkcBRfzW4e0bjx3sGPUgtekstrdgws/XNWUIIEBvQjCQxkXahLzvyn0IpsXRaxj1
 ZE2auxkrbTM058C9091MTUP7nbK/01NT0ZyN/03pe
X-Google-Smtp-Source: AGHT+IFnPPMG+F4JId1jq3WZIUqv0SrB2+mboTI5z/RxHbAwovtbS6dp3A093h/RJ8H2RTnnwPhIUSwDN7vT
X-Received: by 2002:a05:6a20:7495:b0:1b2:1fdb:1678 with SMTP id
 adf61e73a8af0-1b26f185925mr7078237637.35.1717311633233; 
 Sun, 02 Jun 2024 00:00:33 -0700 (PDT)
Received: from postal.iol.unh.edu (postal.iol.unh.edu. [132.177.123.84])
 by smtp-relay.gmail.com with ESMTPS id
 98e67ed59e1d1-2c1a74e6fd5sm466985a91.0.2024.06.02.00.00.33
 (version=TLS1_2 cipher=ECDHE-ECDSA-AES128-GCM-SHA256 bits=128/128);
 Sun, 02 Jun 2024 00:00:33 -0700 (PDT)
X-Relaying-Domain: iol.unh.edu
Date: Sun, 02 Jun 2024 00:00:33 -0700 (PDT)
Message-ID: <665c1891.170a0220.f3ee.4c9eSMTPIN_ADDED_MISSING@mx.google.com>
Received: from [172.21.0.7] (unknown [172.18.0.240])
 by postal.iol.unh.edu (Postfix) with ESMTP id 33591605C373;
 Sun,  2 Jun 2024 03:00:32 -0400 (EDT)
Subject: |SUCCESS| pw140545-140546 [PATCH] [2/2] net/mlx5: validate flow acti
From: dpdklab@iol.unh.edu
To: Test Report <test-report@dpdk.org>
Cc: dpdk-test-reports@iol.unh.edu
In-Reply-To: <20240602060051.42910-3-getelson@nvidia.com>
References: <20240602060051.42910-3-getelson@nvidia.com>
Content-Type: text/plain
X-BeenThere: test-report@dpdk.org
X-Mailman-Version: 2.1.29
Precedence: list
List-Id: automatic DPDK test reports <test-report.dpdk.org>
List-Unsubscribe: <https://mails.dpdk.org/options/test-report>,
 <mailto:test-report-request@dpdk.org?subject=unsubscribe>
List-Archive: <http://mails.dpdk.org/archives/test-report/>
List-Post: <mailto:test-report@dpdk.org>
List-Help: <mailto:test-report-request@dpdk.org?subject=help>
List-Subscribe: <https://mails.dpdk.org/listinfo/test-report>,
 <mailto:test-report-request@dpdk.org?subject=subscribe>
Errors-To: test-report-bounces@dpdk.org

Test-Label: iol-unit-arm64-testing
Test-Status: SUCCESS
http://dpdk.org/patch/140546

_Testing PASS_

Submitter: Gregory Etelson <getelson@nvidia.com>
Date: Sunday, June 02 2024 06:00:50 
DPDK git baseline: Repo:dpdk
  Branch: master
  CommitID:5d185b9afaca3c98d8fd779e97d83e571660f4cf

140545-140546 --> testing pass

Test environment and result as below:

+--------------------------+---------------------------+------------------------------+----------------+
|       Environment        | cryptodev_sw_zuc_autotest | cryptodev_sw_snow3g_autotest | dpdk_unit_test |
+==========================+===========================+==============================+================+
| Debian 12 (arm)          | PASS                      | PASS                         | PASS           |
+--------------------------+---------------------------+------------------------------+----------------+
| Debian 11 (Buster) (ARM) | SKIPPED                   | SKIPPED                      | PASS           |
+--------------------------+---------------------------+------------------------------+----------------+
| CentOS Stream 9 (ARM)    | SKIPPED                   | SKIPPED                      | PASS           |
+--------------------------+---------------------------+------------------------------+----------------+


Debian 12 (arm)
	Kernel: Container Host Kernel
	Compiler: gcc 12.2.0

Debian 11 (Buster) (ARM)
	Kernel: Container Host Kernel
	Compiler: gcc 10.2.1

CentOS Stream 9 (ARM)
	Kernel: Container Host Kernel
	Compiler: gcc 11.4.1

To view detailed results, visit:
https://lab.dpdk.org/results/dashboard/patchsets/30070/

UNH-IOL DPDK Community Lab

To manage your email subscriptions, visit: 
https://lab.dpdk.org/results/dashboard/preferences/subscriptions/