From mboxrd@z Thu Jan  1 00:00:00 1970
Return-Path: <test-report-bounces@dpdk.org>
Received: from mails.dpdk.org (mails.dpdk.org [217.70.189.124])
	by inbox.dpdk.org (Postfix) with ESMTP id 17E8A4412F
	for <public@inbox.dpdk.org>; Sun,  2 Jun 2024 09:08:06 +0200 (CEST)
Received: from mails.dpdk.org (localhost [127.0.0.1])
	by mails.dpdk.org (Postfix) with ESMTP id 0BCC340298;
	Sun,  2 Jun 2024 09:08:06 +0200 (CEST)
Received: from mail-pj1-f98.google.com (mail-pj1-f98.google.com
 [209.85.216.98]) by mails.dpdk.org (Postfix) with ESMTP id A0C944028C
 for <test-report@dpdk.org>; Sun,  2 Jun 2024 09:08:04 +0200 (CEST)
Received: by mail-pj1-f98.google.com with SMTP id
 98e67ed59e1d1-2c20eed350fso416230a91.0
 for <test-report@dpdk.org>; Sun, 02 Jun 2024 00:08:04 -0700 (PDT)
DKIM-Signature: v=1; a=rsa-sha256; c=relaxed/relaxed;
 d=iol.unh.edu; s=unh-iol; t=1717312084; x=1717916884; darn=dpdk.org;
 h=references:in-reply-to:cc:to:from:subject:message-id:date:from:to
 :cc:subject:date:message-id:reply-to;
 bh=8OWRrfrK4Z2KiM3OLGkCjYOjDLwtwzdU6RGCnrIbXfI=;
 b=ENGjguDMenqaUDOyBvFuBfJSvy1uZBV0KeKtMOMOLWA8IdrUWHlKwbi/xr3Lc6FLsR
 VqVt6LshW0V+MCbmiN0F8Luou9R+PV9JON8ZZNRvoDZkDdJAUm7GEfqsjKWU2V82/R/B
 DEnYjUEhEZH4UCE0UQc11ipM3Gk+JX4isSMjI=
X-Google-DKIM-Signature: v=1; a=rsa-sha256; c=relaxed/relaxed;
 d=1e100.net; s=20230601; t=1717312084; x=1717916884;
 h=references:in-reply-to:cc:to:from:subject:message-id:date
 :x-gm-message-state:from:to:cc:subject:date:message-id:reply-to;
 bh=8OWRrfrK4Z2KiM3OLGkCjYOjDLwtwzdU6RGCnrIbXfI=;
 b=p681g/Xbtq1RqkAER+2w81DXkXm+dsn8JSnRe/IMLiSYfO2vvlDBjV/6sTkKju6v+j
 1P+hq1MdWWn/KtDdtJ7Ol3GafdT3Iu+4pCDdMqZBt8MSOQSPxBcb8Gsxfl9Zo3SDTP0u
 mXEeeldEdiEStKmL4ZnJBaY6W6nopM00amsBFdoZ/mRb3a93UfTLNkIcB32/1BB8UY9g
 mK27MOdN6E3P0w7bIUzWbUGN8QoMKXvCuoW5RE9Do6URq5V5ClvoBjsxIHq/i2oBAGMy
 dNXVU5jjiUsRc/u7T8y/v7gB62RI4pfgIAkvz11xou8OiaDfyr1bxNL2qmJ57P52bGYw
 U2zQ==
X-Gm-Message-State: AOJu0Ywii2R3lujQfETmzaHL95DmwraKTIcIPNg8ONi08KvehpVnqw1f
 mOe3pfpExTlMsv/3tnmKddkqnMaPtnL0vpNROMscdz3Bg6qC9cZuK1hUMEafSpvyJXeB0k6LGKz
 MnslBONEU5qILjwoYNV6jh/DN634MtAssZ1MF7zuy3liv1IBbb5ZxrsRB
X-Google-Smtp-Source: AGHT+IGa7aIoGr/MW5ord8ublEE8sP3iufKgDjyad1qFA+FLHENRBXLaN9Zq8Unvjl0oGc4T4Ql7TRYnsEGe
X-Received: by 2002:a17:90b:19d6:b0:2bd:dbfe:817d with SMTP id
 98e67ed59e1d1-2c1dc585efcmr5415728a91.21.1717312083863; 
 Sun, 02 Jun 2024 00:08:03 -0700 (PDT)
Received: from postal.iol.unh.edu (postal.iol.unh.edu.
 [2606:4100:3880:1234::84]) by smtp-relay.gmail.com with ESMTPS id
 98e67ed59e1d1-2c1c28150c2sm186692a91.11.2024.06.02.00.08.03
 (version=TLS1_2 cipher=ECDHE-ECDSA-AES128-GCM-SHA256 bits=128/128);
 Sun, 02 Jun 2024 00:08:03 -0700 (PDT)
X-Relaying-Domain: iol.unh.edu
Date: Sun, 02 Jun 2024 00:08:03 -0700 (PDT)
Message-ID: <665c1a53.170a0220.377aad.ec6cSMTPIN_ADDED_MISSING@mx.google.com>
Received: from [172.21.0.6] (unknown [172.18.0.240])
 by postal.iol.unh.edu (Postfix) with ESMTP id 441ED605C373;
 Sun,  2 Jun 2024 03:08:03 -0400 (EDT)
Subject: |SUCCESS| pw140545-140546 [PATCH] [2/2] net/mlx5: validate flow acti
From: dpdklab@iol.unh.edu
To: Test Report <test-report@dpdk.org>
Cc: dpdk-test-reports@iol.unh.edu
In-Reply-To: <20240602060051.42910-3-getelson@nvidia.com>
References: <20240602060051.42910-3-getelson@nvidia.com>
Content-Type: text/plain
X-BeenThere: test-report@dpdk.org
X-Mailman-Version: 2.1.29
Precedence: list
List-Id: automatic DPDK test reports <test-report.dpdk.org>
List-Unsubscribe: <https://mails.dpdk.org/options/test-report>,
 <mailto:test-report-request@dpdk.org?subject=unsubscribe>
List-Archive: <http://mails.dpdk.org/archives/test-report/>
List-Post: <mailto:test-report@dpdk.org>
List-Help: <mailto:test-report-request@dpdk.org?subject=help>
List-Subscribe: <https://mails.dpdk.org/listinfo/test-report>,
 <mailto:test-report-request@dpdk.org?subject=subscribe>
Errors-To: test-report-bounces@dpdk.org

Test-Label: iol-compile-amd64-testing
Test-Status: SUCCESS
http://dpdk.org/patch/140546

_Testing PASS_

Submitter: Gregory Etelson <getelson@nvidia.com>
Date: Sunday, June 02 2024 06:00:50 
DPDK git baseline: Repo:dpdk
  Branch: master
  CommitID:5d185b9afaca3c98d8fd779e97d83e571660f4cf

140545-140546 --> testing pass

Test environment and result as below:

+---------------------+--------------------+-------------------+----------------------+
|     Environment     | dpdk_meson_compile | dpdk_msvc_compile | dpdk_mingw64_compile |
+=====================+====================+===================+======================+
| Windows Server 2022 | PASS               | PASS              | PASS                 |
+---------------------+--------------------+-------------------+----------------------+
| FreeBSD 13.3        | PASS               | SKIPPED           | SKIPPED              |
+---------------------+--------------------+-------------------+----------------------+
| FreeBSD 14.0        | PASS               | SKIPPED           | SKIPPED              |
+---------------------+--------------------+-------------------+----------------------+
| Windows Server 2019 | PASS               | SKIPPED           | PASS                 |
+---------------------+--------------------+-------------------+----------------------+


Windows Server 2022
	Kernel: 10.0.20348.2031
	Compiler: clang 15.0.7, gcc 8.1.0 (MinGW), and MSVC VS 17.9

FreeBSD 13.3
	Kernel: 13.3-RELEASE-p1
	Compiler: clang 17.0.6

FreeBSD 14.0
	Kernel: 14.0
	Compiler: clang 16.0.6

Windows Server 2019
	Kernel: 10.0.17763
	Compiler: clang 14.0 and gcc 8.1.0 (MinGW)

To view detailed results, visit:
https://lab.dpdk.org/results/dashboard/patchsets/30070/

UNH-IOL DPDK Community Lab

To manage your email subscriptions, visit: 
https://lab.dpdk.org/results/dashboard/preferences/subscriptions/