From mboxrd@z Thu Jan  1 00:00:00 1970
Return-Path: <test-report-bounces@dpdk.org>
Received: from mails.dpdk.org (mails.dpdk.org [217.70.189.124])
	by inbox.dpdk.org (Postfix) with ESMTP id 66BC04412F
	for <public@inbox.dpdk.org>; Sun,  2 Jun 2024 09:48:13 +0200 (CEST)
Received: from mails.dpdk.org (localhost [127.0.0.1])
	by mails.dpdk.org (Postfix) with ESMTP id 4DCE540298;
	Sun,  2 Jun 2024 09:48:13 +0200 (CEST)
Received: from mail-il1-f228.google.com (mail-il1-f228.google.com
 [209.85.166.228])
 by mails.dpdk.org (Postfix) with ESMTP id CF6EF4028C
 for <test-report@dpdk.org>; Sun,  2 Jun 2024 09:48:11 +0200 (CEST)
Received: by mail-il1-f228.google.com with SMTP id
 e9e14a558f8ab-371c97913cdso10142515ab.3
 for <test-report@dpdk.org>; Sun, 02 Jun 2024 00:48:11 -0700 (PDT)
DKIM-Signature: v=1; a=rsa-sha256; c=relaxed/relaxed;
 d=iol.unh.edu; s=unh-iol; t=1717314491; x=1717919291; darn=dpdk.org;
 h=references:in-reply-to:cc:to:from:subject:message-id:date:from:to
 :cc:subject:date:message-id:reply-to;
 bh=iqYJiBCmx5lPVkOdmTqNesdOXFr4lZPE1iITs4Hm1fY=;
 b=TbEIRgZ1Tj45pr93QaX3W+bpvrcxVuraIOK7df41Wrt9K5ecsIJgf0yYW2JZm879bA
 uOgDHP3MH4BqpH7nFfzVb6/VCcV30pRAxI3pUJ3tJVL/oH+a7O8f+xAFz6DfoGyt7FFq
 ub0wCbVpMfHdLt0aAGU8UYWvcdNOkzWqgcU1w=
X-Google-DKIM-Signature: v=1; a=rsa-sha256; c=relaxed/relaxed;
 d=1e100.net; s=20230601; t=1717314491; x=1717919291;
 h=references:in-reply-to:cc:to:from:subject:message-id:date
 :x-gm-message-state:from:to:cc:subject:date:message-id:reply-to;
 bh=iqYJiBCmx5lPVkOdmTqNesdOXFr4lZPE1iITs4Hm1fY=;
 b=WEeF9pKkf+MvfOOZLRJG2sm/YbmNqpMeizn4daiBOjAot+/IyD+UnlVVU9jVDL2PPZ
 lbY9iOz0kKz9pjp001pR666ONDf0g7eBmnBUusjRS/VSaVl7KCBj8ZTbdar3/4PaU0NS
 bhzWQ676A9BiwNR0ZeBBkF5UgAe4WCYl8Nn6+SeL/eA6V1fiQrS0Sq1KkDuk/tX6wkYw
 gaDaEQyBYJtGdRFkwrWNp4IfOeUnLSWzrtWbuCO0assvzHUbyvaRLMAZSYRKvg00CjFj
 o7+lNnZLHlTROIImGBZIdEY4paOgarOnPS0gW+04m5oFmMKstNyf09ufJfDbjl+Ok9a4
 W5ug==
X-Gm-Message-State: AOJu0YyVSb1reQF0csURC5zLvVLDPQaDhHab7dsGIrrq0PJXxaKsEb5F
 szWBwkqhfboQ7CY+vTT8w6HNOuXhQlZbCjN1/DJjhZtR/weU8n9vIgaTmxixnCdLu0oRoiQ7Hlq
 RIgBF6GRBf7ZnOEN4ARoVOz1MlA5WlVXtXhupBSvN
X-Google-Smtp-Source: AGHT+IF8D7fON9ykvkshbYMDdZI/B2NB+EbsW9evV7aFz0EZwdDai8hykI7hgPMgbTnvs/Rdsc9MJDbCuJHL
X-Received: by 2002:a05:6e02:170b:b0:374:4efb:2887 with SMTP id
 e9e14a558f8ab-3748b9ceecbmr68799565ab.24.1717314491274; 
 Sun, 02 Jun 2024 00:48:11 -0700 (PDT)
Received: from postal.iol.unh.edu (postal.iol.unh.edu. [132.177.123.84])
 by smtp-relay.gmail.com with ESMTPS id
 e9e14a558f8ab-3749650bc3fsm937935ab.54.2024.06.02.00.48.11
 (version=TLS1_2 cipher=ECDHE-ECDSA-AES128-GCM-SHA256 bits=128/128);
 Sun, 02 Jun 2024 00:48:11 -0700 (PDT)
X-Relaying-Domain: iol.unh.edu
Date: Sun, 02 Jun 2024 00:48:11 -0700 (PDT)
Message-ID: <665c23bb.050a0220.1ef26.8a54SMTPIN_ADDED_MISSING@mx.google.com>
Received: from [172.21.0.6] (unknown [172.18.0.240])
 by postal.iol.unh.edu (Postfix) with ESMTP id C75F4605C373;
 Sun,  2 Jun 2024 03:48:10 -0400 (EDT)
Subject: |SUCCESS| pw140545-140546 [PATCH] [2/2] net/mlx5: validate flow acti
From: dpdklab@iol.unh.edu
To: Test Report <test-report@dpdk.org>
Cc: dpdk-test-reports@iol.unh.edu
In-Reply-To: <20240602060051.42910-3-getelson@nvidia.com>
References: <20240602060051.42910-3-getelson@nvidia.com>
Content-Type: text/plain
X-BeenThere: test-report@dpdk.org
X-Mailman-Version: 2.1.29
Precedence: list
List-Id: automatic DPDK test reports <test-report.dpdk.org>
List-Unsubscribe: <https://mails.dpdk.org/options/test-report>,
 <mailto:test-report-request@dpdk.org?subject=unsubscribe>
List-Archive: <http://mails.dpdk.org/archives/test-report/>
List-Post: <mailto:test-report@dpdk.org>
List-Help: <mailto:test-report-request@dpdk.org?subject=help>
List-Subscribe: <https://mails.dpdk.org/listinfo/test-report>,
 <mailto:test-report-request@dpdk.org?subject=subscribe>
Errors-To: test-report-bounces@dpdk.org

Test-Label: iol-compile-amd64-testing
Test-Status: SUCCESS
http://dpdk.org/patch/140546

_Testing PASS_

Submitter: Gregory Etelson <getelson@nvidia.com>
Date: Sunday, June 02 2024 06:00:50 
DPDK git baseline: Repo:dpdk
  Branch: master
  CommitID:5d185b9afaca3c98d8fd779e97d83e571660f4cf

140545-140546 --> testing pass

Test environment and result as below:

+---------------------+--------------------+-------------------+----------------------+------------------+
|     Environment     | dpdk_meson_compile | dpdk_msvc_compile | dpdk_mingw64_compile | dpdk_compile_ovs |
+=====================+====================+===================+======================+==================+
| Windows Server 2022 | PASS               | PASS              | PASS                 | SKIPPED          |
+---------------------+--------------------+-------------------+----------------------+------------------+
| FreeBSD 13.3        | PASS               | SKIPPED           | SKIPPED              | SKIPPED          |
+---------------------+--------------------+-------------------+----------------------+------------------+
| FreeBSD 14.0        | PASS               | SKIPPED           | SKIPPED              | SKIPPED          |
+---------------------+--------------------+-------------------+----------------------+------------------+
| Windows Server 2019 | PASS               | SKIPPED           | PASS                 | SKIPPED          |
+---------------------+--------------------+-------------------+----------------------+------------------+
| Debian Bullseye     | PASS               | SKIPPED           | SKIPPED              | PASS             |
+---------------------+--------------------+-------------------+----------------------+------------------+
| CentOS Stream 9     | PASS               | SKIPPED           | SKIPPED              | PASS             |
+---------------------+--------------------+-------------------+----------------------+------------------+
| CentOS Stream 8     | PASS               | SKIPPED           | SKIPPED              | PASS             |
+---------------------+--------------------+-------------------+----------------------+------------------+
| Fedora 37           | PASS               | SKIPPED           | SKIPPED              | PASS             |
+---------------------+--------------------+-------------------+----------------------+------------------+
| Debian 12           | PASS               | SKIPPED           | SKIPPED              | PASS             |
+---------------------+--------------------+-------------------+----------------------+------------------+


Windows Server 2022
	Kernel: 10.0.20348.2031
	Compiler: clang 15.0.7, gcc 8.1.0 (MinGW), and MSVC VS 17.9

FreeBSD 13.3
	Kernel: 13.3-RELEASE-p1
	Compiler: clang 17.0.6

FreeBSD 14.0
	Kernel: 14.0
	Compiler: clang 16.0.6

Windows Server 2019
	Kernel: 10.0.17763
	Compiler: clang 14.0 and gcc 8.1.0 (MinGW)

Debian Bullseye
	Kernel: 5.4.0-167-generic
	Compiler: gcc 10.2.1-6

CentOS Stream 9
	Kernel: 5.4.0-167-generic
	Compiler: gcc 11.4.1 20230605

CentOS Stream 8
	Kernel: 5.4.0-167-generic
	Compiler: gcc 8.5.0 20210514

Fedora 37
	Kernel: Depends on container host system
	Compiler: gcc 12.3.1

Debian 12
	Kernel: Container Host Kernel
	Compiler: gcc 10.2.1

To view detailed results, visit:
https://lab.dpdk.org/results/dashboard/patchsets/30070/

UNH-IOL DPDK Community Lab

To manage your email subscriptions, visit: 
https://lab.dpdk.org/results/dashboard/preferences/subscriptions/