From mboxrd@z Thu Jan  1 00:00:00 1970
Return-Path: <test-report-bounces@dpdk.org>
Received: from mails.dpdk.org (mails.dpdk.org [217.70.189.124])
	by inbox.dpdk.org (Postfix) with ESMTP id 5DA064414A
	for <public@inbox.dpdk.org>; Mon,  3 Jun 2024 19:13:19 +0200 (CEST)
Received: from mails.dpdk.org (localhost [127.0.0.1])
	by mails.dpdk.org (Postfix) with ESMTP id 5825642E5D;
	Mon,  3 Jun 2024 19:13:19 +0200 (CEST)
Received: from mail-il1-f226.google.com (mail-il1-f226.google.com
 [209.85.166.226])
 by mails.dpdk.org (Postfix) with ESMTP id 40C0342E4A
 for <test-report@dpdk.org>; Mon,  3 Jun 2024 19:13:18 +0200 (CEST)
Received: by mail-il1-f226.google.com with SMTP id
 e9e14a558f8ab-3737b47c0acso311355ab.3
 for <test-report@dpdk.org>; Mon, 03 Jun 2024 10:13:18 -0700 (PDT)
DKIM-Signature: v=1; a=rsa-sha256; c=relaxed/relaxed;
 d=iol.unh.edu; s=unh-iol; t=1717434797; x=1718039597; darn=dpdk.org;
 h=references:in-reply-to:cc:to:from:subject:message-id:date:from:to
 :cc:subject:date:message-id:reply-to;
 bh=Rv6nrRqnFiHOyGAVGxPN+geH1P20KcSC+/fDPyQrkoQ=;
 b=S23WFGbMBuUcc2WIfNGI+WqrpsYNPu/HA9L8FP2NAFToe6+C6PRaA3ZEO+3rGMw1to
 DyqnFYhO4sMN8VtWS/wM13QaWagClGsMrDZ6onLTYRaLzLIeJpja81rTsT++4EBoSdQV
 CnlcauxneGuUNpTyU15/SBOHR2eYuiTFrMLZg=
X-Google-DKIM-Signature: v=1; a=rsa-sha256; c=relaxed/relaxed;
 d=1e100.net; s=20230601; t=1717434797; x=1718039597;
 h=references:in-reply-to:cc:to:from:subject:message-id:date
 :x-gm-message-state:from:to:cc:subject:date:message-id:reply-to;
 bh=Rv6nrRqnFiHOyGAVGxPN+geH1P20KcSC+/fDPyQrkoQ=;
 b=XnThdLEMcQgkBQsu61OKnxnsppGsCRpr+c6+AnFsa9JL2rIFVY9+cshPYeoQZ73lsO
 fb31DhkppfcSDiAzGh3NEgK9RNUHcYRHRtj/lXxz3+ZgfyC7imzuQjuJp8gt+zO8ODoJ
 ZuGcMDEuLGGJLEHgwmU5Lf4GDVXj+/TKrr6WkbmstiviMqjDUSguvEuOxMpmikzxnp9D
 zZ0hmuODmUz4B/Nw1swv5ee7JRtD+d7+OmLP2H7Nv8/MxnBxyN7v8v7jxinbf4o0Fv2V
 BmOglRWfmTv5N9UTMh0PqXSEToRWjs6BdmOLicKig1FSHPKQA96rpesywDwLweV88Yc2
 rJNA==
X-Gm-Message-State: AOJu0YytFmBoMv3lEgKTs6oWWGPMvtB02FzchAWXuTyXveptpG+woUjW
 G5hatIcLOgxFMEp9Y9Tblpk3f/SxtF3ZmDEZCKf5mCcdU9GJim3lWIkdTW5VhiSfGp7dhYvdDnW
 jcXLSjL/7fAdaHjrx3s9hWTZANvZb0CzbgIflnXItPbk3wTBaBlp+FoDn
X-Google-Smtp-Source: AGHT+IGzy2z3GWJIgXrYGs0kMkWgxjz7bKhPA8dqxc238Htr60A+LBbBz1Hy4OyCVfyL4TOaIJ7uFSwKsxud
X-Received: by 2002:a05:6e02:170e:b0:374:a176:e283 with SMTP id
 e9e14a558f8ab-374a176f591mr27611675ab.3.1717434797690; 
 Mon, 03 Jun 2024 10:13:17 -0700 (PDT)
Received: from postal.iol.unh.edu (postal.iol.unh.edu.
 [2606:4100:3880:1234::84]) by smtp-relay.gmail.com with ESMTPS id
 e9e14a558f8ab-3748a1de9a1sm2540425ab.15.2024.06.03.10.13.17
 (version=TLS1_2 cipher=ECDHE-ECDSA-AES128-GCM-SHA256 bits=128/128);
 Mon, 03 Jun 2024 10:13:17 -0700 (PDT)
X-Relaying-Domain: iol.unh.edu
Date: Mon, 03 Jun 2024 10:13:17 -0700 (PDT)
Message-ID: <665df9ad.050a0220.2e2b0.4769SMTPIN_ADDED_MISSING@mx.google.com>
Received: from [172.21.0.6] (unknown [172.18.0.240])
 by postal.iol.unh.edu (Postfix) with ESMTP id 561C5605C380;
 Mon,  3 Jun 2024 13:13:17 -0400 (EDT)
Subject: |SUCCESS| pw140623-140627 [PATCH] [5/5] crypto/openssl: only set cip
From: dpdklab@iol.unh.edu
To: Test Report <test-report@dpdk.org>
Cc: dpdk-test-reports@iol.unh.edu
In-Reply-To: <20240603160119.1279476-6-jack.bond-preston@foss.arm.com>
References: <20240603160119.1279476-6-jack.bond-preston@foss.arm.com>
Content-Type: text/plain
X-BeenThere: test-report@dpdk.org
X-Mailman-Version: 2.1.29
Precedence: list
List-Id: automatic DPDK test reports <test-report.dpdk.org>
List-Unsubscribe: <https://mails.dpdk.org/options/test-report>,
 <mailto:test-report-request@dpdk.org?subject=unsubscribe>
List-Archive: <http://mails.dpdk.org/archives/test-report/>
List-Post: <mailto:test-report@dpdk.org>
List-Help: <mailto:test-report-request@dpdk.org?subject=help>
List-Subscribe: <https://mails.dpdk.org/listinfo/test-report>,
 <mailto:test-report-request@dpdk.org?subject=subscribe>
Errors-To: test-report-bounces@dpdk.org

Test-Label: iol-compile-amd64-testing
Test-Status: SUCCESS
http://dpdk.org/patch/140627

_Testing PASS_

Submitter: Jack Bond-Preston <jack.bond-preston@foss.arm.com>
Date: Monday, June 03 2024 16:01:19 
DPDK git baseline: Repo:dpdk
  Branch: master
  CommitID:367b8db312517edb9f5340d280e77b1437d84dd3

140623-140627 --> testing pass

Test environment and result as below:

+---------------------+--------------------+-------------------+----------------------+------------------+
|     Environment     | dpdk_meson_compile | dpdk_msvc_compile | dpdk_mingw64_compile | dpdk_compile_ovs |
+=====================+====================+===================+======================+==================+
| FreeBSD 13.3        | PASS               | SKIPPED           | SKIPPED              | SKIPPED          |
+---------------------+--------------------+-------------------+----------------------+------------------+
| FreeBSD 14.0        | PASS               | SKIPPED           | SKIPPED              | SKIPPED          |
+---------------------+--------------------+-------------------+----------------------+------------------+
| Windows Server 2022 | PASS               | PASS              | PASS                 | SKIPPED          |
+---------------------+--------------------+-------------------+----------------------+------------------+
| Windows Server 2019 | PASS               | SKIPPED           | PASS                 | SKIPPED          |
+---------------------+--------------------+-------------------+----------------------+------------------+
| Fedora 38           | PASS               | SKIPPED           | SKIPPED              | PASS             |
+---------------------+--------------------+-------------------+----------------------+------------------+


FreeBSD 13.3
	Kernel: 13.3-RELEASE-p1
	Compiler: clang 17.0.6

FreeBSD 14.0
	Kernel: 14.0
	Compiler: clang 16.0.6

Windows Server 2022
	Kernel: 10.0.20348.2031
	Compiler: clang 15.0.7, gcc 8.1.0 (MinGW), and MSVC VS 17.9

Windows Server 2019
	Kernel: 10.0.17763
	Compiler: clang 14.0 and gcc 8.1.0 (MinGW)

Fedora 38
	Kernel: Depends on container host
	Compiler: gcc 13.2.1

To view detailed results, visit:
https://lab.dpdk.org/results/dashboard/patchsets/30087/

UNH-IOL DPDK Community Lab

To manage your email subscriptions, visit: 
https://lab.dpdk.org/results/dashboard/preferences/subscriptions/