From mboxrd@z Thu Jan  1 00:00:00 1970
Return-Path: <test-report-bounces@dpdk.org>
Received: from mails.dpdk.org (mails.dpdk.org [217.70.189.124])
	by inbox.dpdk.org (Postfix) with ESMTP id 2B38644144
	for <public@inbox.dpdk.org>; Mon,  3 Jun 2024 22:17:28 +0200 (CEST)
Received: from mails.dpdk.org (localhost [127.0.0.1])
	by mails.dpdk.org (Postfix) with ESMTP id 054A3402AE;
	Mon,  3 Jun 2024 22:17:28 +0200 (CEST)
Received: from mail-oo1-f98.google.com (mail-oo1-f98.google.com
 [209.85.161.98]) by mails.dpdk.org (Postfix) with ESMTP id E96504026F
 for <test-report@dpdk.org>; Mon,  3 Jun 2024 22:17:25 +0200 (CEST)
Received: by mail-oo1-f98.google.com with SMTP id
 006d021491bc7-5b998092bdaso2160371eaf.2
 for <test-report@dpdk.org>; Mon, 03 Jun 2024 13:17:25 -0700 (PDT)
DKIM-Signature: v=1; a=rsa-sha256; c=relaxed/relaxed;
 d=iol.unh.edu; s=unh-iol; t=1717445845; x=1718050645; darn=dpdk.org;
 h=references:in-reply-to:cc:to:from:subject:message-id:date:from:to
 :cc:subject:date:message-id:reply-to;
 bh=Al55EpiEsxCHAqMoraP5wcKWuNwA4Tahfdsng5nq93k=;
 b=OI99HAFWmZnESTmbRRg7pUPr0OzMmG1VKKg/KJ6Nc3GndQLyAsRii5204wLZuxgBI2
 tHiI6tQiV/hP5cxZSJTRY0RhtJZs3QU7zXLC4nli8gQp4pvdRx4ejIkO4kJpNzNPbNpY
 0990vvbuBEcQNBvFZbYWEJfbbIgaEganpanag=
X-Google-DKIM-Signature: v=1; a=rsa-sha256; c=relaxed/relaxed;
 d=1e100.net; s=20230601; t=1717445845; x=1718050645;
 h=references:in-reply-to:cc:to:from:subject:message-id:date
 :x-gm-message-state:from:to:cc:subject:date:message-id:reply-to;
 bh=Al55EpiEsxCHAqMoraP5wcKWuNwA4Tahfdsng5nq93k=;
 b=mXbdCSpwR5pyQ0edswBVfRHy60mXRdqbjYfLtvZt6uEXKyUGFMDsyET1M1mGgKjnjf
 NqF+Zpq93IkpwmHq4KPWCXSGNttlcCShnxtM+a/NaETCYvXD90SxYmIBRjGXEjrDvFql
 cJaNRUNswxAJ0Bdps2lGf0tUDmDBwPMUS3YEZqxVWDEFW8bLUJwL6SyBgP1Z11kKFQsK
 PCBbT+5/+6c527bkbzYLj3T6gbWnmW53wPi27JYoNEQr8Lvko/CE2ExWQcObZzPexAQq
 zMnSlFAQfJ8y9oLpfmLnSFl3etUaQ5pJ0C0guf+C5P3nUrUCMK+tlQ/MaqA/HA9CXpyD
 sNLw==
X-Gm-Message-State: AOJu0YzGOzNZh/w6A0qfM/qTI2v3U99nx2gLV72gM8Mc88ciEnHV38EX
 yVqUbxgTE/q0wVR2lR91GsWeYVzlmW9NYmFeQez5OF1Qe2ih9rPkiH7RSvlVq+nW5lJqeLdf08h
 K1xVjyLpJ2vDKgQ279/3Thv8x7nbEaq6CB0hUFWDE50fATV2wqkDyvC/Z
X-Google-Smtp-Source: AGHT+IFRTb4nFOrESNsAVo7lZBJBwWQ3zcHtaW1HB49cIjLR8Yx26bXSxGdgiBNzfi/sIIzCxu+FddhH6H91
X-Received: by 2002:a05:6820:168e:b0:5b9:f440:169d with SMTP id
 006d021491bc7-5ba05afa73dmr11091198eaf.3.1717445845218; 
 Mon, 03 Jun 2024 13:17:25 -0700 (PDT)
Received: from postal.iol.unh.edu (postal.iol.unh.edu.
 [2606:4100:3880:1234::84]) by smtp-relay.gmail.com with ESMTPS id
 006d021491bc7-5ba003a4845sm625621eaf.9.2024.06.03.13.17.25
 (version=TLS1_2 cipher=ECDHE-ECDSA-AES128-GCM-SHA256 bits=128/128);
 Mon, 03 Jun 2024 13:17:25 -0700 (PDT)
X-Relaying-Domain: iol.unh.edu
Date: Mon, 03 Jun 2024 13:17:25 -0700 (PDT)
Message-ID: <665e24d5.4a0a0220.3454f.3595SMTPIN_ADDED_MISSING@mx.google.com>
Received: from [172.21.0.6] (unknown [172.18.0.240])
 by postal.iol.unh.edu (Postfix) with ESMTP id 906E7605C380;
 Mon,  3 Jun 2024 16:17:24 -0400 (EDT)
Subject: |SUCCESS| pw140648-140646 [PATCH] [v2,5/5] crypto/openssl: only set 
From: dpdklab@iol.unh.edu
To: Test Report <test-report@dpdk.org>
Cc: dpdk-test-reports@iol.unh.edu
In-Reply-To: <20240603185939.1312680-6-jack.bond-preston@foss.arm.com>
References: <20240603185939.1312680-6-jack.bond-preston@foss.arm.com>
Content-Type: text/plain
X-BeenThere: test-report@dpdk.org
X-Mailman-Version: 2.1.29
Precedence: list
List-Id: automatic DPDK test reports <test-report.dpdk.org>
List-Unsubscribe: <https://mails.dpdk.org/options/test-report>,
 <mailto:test-report-request@dpdk.org?subject=unsubscribe>
List-Archive: <http://mails.dpdk.org/archives/test-report/>
List-Post: <mailto:test-report@dpdk.org>
List-Help: <mailto:test-report-request@dpdk.org?subject=help>
List-Subscribe: <https://mails.dpdk.org/listinfo/test-report>,
 <mailto:test-report-request@dpdk.org?subject=subscribe>
Errors-To: test-report-bounces@dpdk.org

Test-Label: iol-compile-amd64-testing
Test-Status: SUCCESS
http://dpdk.org/patch/140646

_Testing PASS_

Submitter: Jack Bond-Preston <jack.bond-preston@foss.arm.com>
Date: Monday, June 03 2024 18:59:39 
DPDK git baseline: Repo:dpdk
  Branch: master
  CommitID:367b8db312517edb9f5340d280e77b1437d84dd3

140648-140646 --> testing pass

Test environment and result as below:

+---------------------+-------------------+--------------------+------------------+----------------------+
|     Environment     | dpdk_msvc_compile | dpdk_meson_compile | dpdk_compile_ovs | dpdk_mingw64_compile |
+=====================+===================+====================+==================+======================+
| Windows Server 2022 | PASS              | PASS               | SKIPPED          | PASS                 |
+---------------------+-------------------+--------------------+------------------+----------------------+
| FreeBSD 13.3        | SKIPPED           | PASS               | SKIPPED          | SKIPPED              |
+---------------------+-------------------+--------------------+------------------+----------------------+
| FreeBSD 14.0        | SKIPPED           | PASS               | SKIPPED          | SKIPPED              |
+---------------------+-------------------+--------------------+------------------+----------------------+
| Windows Server 2019 | SKIPPED           | PASS               | SKIPPED          | PASS                 |
+---------------------+-------------------+--------------------+------------------+----------------------+
| CentOS Stream 9     | SKIPPED           | PASS               | PASS             | SKIPPED              |
+---------------------+-------------------+--------------------+------------------+----------------------+
| Fedora 37           | SKIPPED           | PASS               | PASS             | SKIPPED              |
+---------------------+-------------------+--------------------+------------------+----------------------+
| Debian Bullseye     | SKIPPED           | PASS               | PASS             | SKIPPED              |
+---------------------+-------------------+--------------------+------------------+----------------------+
| Fedora 38           | SKIPPED           | PASS               | PASS             | SKIPPED              |
+---------------------+-------------------+--------------------+------------------+----------------------+
| Ubuntu 22.04        | SKIPPED           | PASS               | PASS             | SKIPPED              |
+---------------------+-------------------+--------------------+------------------+----------------------+
| CentOS Stream 8     | SKIPPED           | PASS               | PASS             | SKIPPED              |
+---------------------+-------------------+--------------------+------------------+----------------------+
| Ubuntu 20.04        | SKIPPED           | PASS               | PASS             | SKIPPED              |
+---------------------+-------------------+--------------------+------------------+----------------------+


Windows Server 2022
	Kernel: 10.0.20348.2031
	Compiler: clang 15.0.7, gcc 8.1.0 (MinGW), and MSVC VS 17.9

FreeBSD 13.3
	Kernel: 13.3-RELEASE-p1
	Compiler: clang 17.0.6

FreeBSD 14.0
	Kernel: 14.0
	Compiler: clang 16.0.6

Windows Server 2019
	Kernel: 10.0.17763
	Compiler: clang 14.0 and gcc 8.1.0 (MinGW)

CentOS Stream 9
	Kernel: 5.4.0-167-generic
	Compiler: gcc 11.4.1 20230605

Fedora 37
	Kernel: Depends on container host system
	Compiler: gcc 12.3.1

Debian Bullseye
	Kernel: 5.4.0-167-generic
	Compiler: gcc 10.2.1-6

Fedora 38
	Kernel: Depends on container host
	Compiler: gcc 13.2.1

Ubuntu 22.04
	Kernel: 5.4.0-167-generic
	Compiler: gcc 11.4.0

CentOS Stream 8
	Kernel: 5.4.0-167-generic
	Compiler: gcc 8.5.0 20210514

Ubuntu 20.04
	Kernel: 5.4.0-167-generic
	Compiler: gcc 9.4.0-1ubuntu1~20.04.1

To view detailed results, visit:
https://lab.dpdk.org/results/dashboard/patchsets/30089/

UNH-IOL DPDK Community Lab

To manage your email subscriptions, visit: 
https://lab.dpdk.org/results/dashboard/preferences/subscriptions/