From mboxrd@z Thu Jan  1 00:00:00 1970
Return-Path: <test-report-bounces@dpdk.org>
Received: from mails.dpdk.org (mails.dpdk.org [217.70.189.124])
	by inbox.dpdk.org (Postfix) with ESMTP id E562944144
	for <public@inbox.dpdk.org>; Mon,  3 Jun 2024 22:56:43 +0200 (CEST)
Received: from mails.dpdk.org (localhost [127.0.0.1])
	by mails.dpdk.org (Postfix) with ESMTP id E0BD442F39;
	Mon,  3 Jun 2024 22:56:43 +0200 (CEST)
Received: from mail-qv1-f97.google.com (mail-qv1-f97.google.com
 [209.85.219.97]) by mails.dpdk.org (Postfix) with ESMTP id 9CA8C42F37
 for <test-report@dpdk.org>; Mon,  3 Jun 2024 22:56:42 +0200 (CEST)
Received: by mail-qv1-f97.google.com with SMTP id
 6a1803df08f44-6ae0c4d23ddso2417696d6.0
 for <test-report@dpdk.org>; Mon, 03 Jun 2024 13:56:42 -0700 (PDT)
DKIM-Signature: v=1; a=rsa-sha256; c=relaxed/relaxed;
 d=iol.unh.edu; s=unh-iol; t=1717448202; x=1718053002; darn=dpdk.org;
 h=references:in-reply-to:cc:to:from:subject:message-id:date:from:to
 :cc:subject:date:message-id:reply-to;
 bh=1r7EvNy9NlpdXxvATA9lfnYVM7/mXaLP8GQKR61Ixe0=;
 b=iN4qnDKdZZ7oV0zW6jchzBjHkbOZ76i9DOM5AUhZ79dtP4X6UD27S7IMmoRvvR46+X
 fxbnP/kRe5n/2IpyogXyo9hpP6C2fEj+GBIOTDNV57aGyw2HLwJEht1fLiV9b/zQT8By
 XPRvJL7d6FgJhwuu4PgoUVMMT52shl8ep/EnI=
X-Google-DKIM-Signature: v=1; a=rsa-sha256; c=relaxed/relaxed;
 d=1e100.net; s=20230601; t=1717448202; x=1718053002;
 h=references:in-reply-to:cc:to:from:subject:message-id:date
 :x-gm-message-state:from:to:cc:subject:date:message-id:reply-to;
 bh=1r7EvNy9NlpdXxvATA9lfnYVM7/mXaLP8GQKR61Ixe0=;
 b=uOvHILmK/Qr9tNcXIRmHv7gvJUN7R4C5Q1I9gs5cguy97pRz3vTuyO1GVy6xlYKU0L
 cu30r4boI6Xgu5b3uH0AaK0u0qwHQgQ7uFnsxOmj+/eql9ua8aK6S7J/JFaLfqjDdV84
 7kl1AK948DjzPycP1lus9w6xIzaao9v/PdcZC+phri4hOawXFKeOBcu4P6WlYQwHmMZa
 KmBzz2Q5DVY1kMffYpKESltZk8tubHQYTXcteQqa2obX/2qDsUBU8/TI3IpeSvQNkh92
 Um9N/5BuDZee4+9VE3tURVzpXCeQShzUd1WVy3PKcqr8m2yrOstW18x5Z4KxGcm49Ldh
 9zhg==
X-Gm-Message-State: AOJu0YxA9zifiSTa5lpfXSiCcFBjyDHd2EdFCXsD3S4M+jDqKxvmWohZ
 BSXiRZCkjAyiky5JJ8a5KS99ANMJQfqB661TKr5Kztw2SpQCKDzR7H8qK2fEm0/6Az2R0+/IKLu
 G3K+3rEvTOlGgK1woZ+gAOLnPx27jllVTJoEt2A43/cFIlqSvp6LKxsf1
X-Google-Smtp-Source: AGHT+IFNJcI1gxOEcBhgxGrgJ+N5qDW806BbvUbOnTyKJnwStGQoEVjsZ+77dME5R5JEpPrL/MYrliyYZpGX
X-Received: by 2002:a05:6214:e8c:b0:6ae:cec8:be38 with SMTP id
 6a1803df08f44-6aecec8be40mr123570396d6.5.1717448202117; 
 Mon, 03 Jun 2024 13:56:42 -0700 (PDT)
Received: from postal.iol.unh.edu (postal.iol.unh.edu.
 [2606:4100:3880:1234::84]) by smtp-relay.gmail.com with ESMTPS id
 6a1803df08f44-6ae4a7402c2sm4757536d6.22.2024.06.03.13.56.42
 (version=TLS1_2 cipher=ECDHE-ECDSA-AES128-GCM-SHA256 bits=128/128);
 Mon, 03 Jun 2024 13:56:42 -0700 (PDT)
X-Relaying-Domain: iol.unh.edu
Date: Mon, 03 Jun 2024 13:56:42 -0700 (PDT)
Message-ID: <665e2e0a.050a0220.c86b2.7f1cSMTPIN_ADDED_MISSING@mx.google.com>
Received: from [172.21.0.7] (unknown [172.18.0.240])
 by postal.iol.unh.edu (Postfix) with ESMTP id C9A49605C380;
 Mon,  3 Jun 2024 16:56:41 -0400 (EDT)
Subject: |SUCCESS| pw140639-140640 [PATCH] [v3,17/17] net/ntnic: add NIM modu
From: dpdklab@iol.unh.edu
To: Test Report <test-report@dpdk.org>
Cc: dpdk-test-reports@iol.unh.edu
In-Reply-To: <20240603161822.59552-17-sil-plv@napatech.com>
References: <20240603161822.59552-17-sil-plv@napatech.com>
Content-Type: text/plain
X-BeenThere: test-report@dpdk.org
X-Mailman-Version: 2.1.29
Precedence: list
List-Id: automatic DPDK test reports <test-report.dpdk.org>
List-Unsubscribe: <https://mails.dpdk.org/options/test-report>,
 <mailto:test-report-request@dpdk.org?subject=unsubscribe>
List-Archive: <http://mails.dpdk.org/archives/test-report/>
List-Post: <mailto:test-report@dpdk.org>
List-Help: <mailto:test-report-request@dpdk.org?subject=help>
List-Subscribe: <https://mails.dpdk.org/listinfo/test-report>,
 <mailto:test-report-request@dpdk.org?subject=subscribe>
Errors-To: test-report-bounces@dpdk.org

Test-Label: iol-unit-arm64-testing
Test-Status: SUCCESS
http://dpdk.org/patch/140640

_Testing PASS_

Submitter: Serhii Iliushyk <sil-plv@napatech.com>
Date: Monday, June 03 2024 16:18:14 
DPDK git baseline: Repo:dpdk
  Branch: master
  CommitID:2dbb63594a9a985e2c8639b57f9fcd1468b9de97

140639-140640 --> testing pass

Test environment and result as below:

+--------------------------+----------------+------------------------------+---------------------------+
|       Environment        | dpdk_unit_test | cryptodev_sw_snow3g_autotest | cryptodev_sw_zuc_autotest |
+==========================+================+==============================+===========================+
| Debian 11 (Buster) (ARM) | PASS           | SKIPPED                      | SKIPPED                   |
+--------------------------+----------------+------------------------------+---------------------------+
| CentOS Stream 9 (ARM)    | PASS           | SKIPPED                      | SKIPPED                   |
+--------------------------+----------------+------------------------------+---------------------------+
| Debian 12 (arm)          | PASS           | PASS                         | PASS                      |
+--------------------------+----------------+------------------------------+---------------------------+


Debian 11 (Buster) (ARM)
	Kernel: Container Host Kernel
	Compiler: gcc 10.2.1

CentOS Stream 9 (ARM)
	Kernel: Container Host Kernel
	Compiler: gcc 11.4.1

Debian 12 (arm)
	Kernel: Container Host Kernel
	Compiler: gcc 12.2.0

To view detailed results, visit:
https://lab.dpdk.org/results/dashboard/patchsets/30088/

UNH-IOL DPDK Community Lab

To manage your email subscriptions, visit: 
https://lab.dpdk.org/results/dashboard/preferences/subscriptions/