From mboxrd@z Thu Jan  1 00:00:00 1970
Return-Path: <test-report-bounces@dpdk.org>
Received: from mails.dpdk.org (mails.dpdk.org [217.70.189.124])
	by inbox.dpdk.org (Postfix) with ESMTP id 8DBDB44144
	for <public@inbox.dpdk.org>; Mon,  3 Jun 2024 23:07:51 +0200 (CEST)
Received: from mails.dpdk.org (localhost [127.0.0.1])
	by mails.dpdk.org (Postfix) with ESMTP id 855EF42F39;
	Mon,  3 Jun 2024 23:07:51 +0200 (CEST)
Received: from mail-il1-f227.google.com (mail-il1-f227.google.com
 [209.85.166.227])
 by mails.dpdk.org (Postfix) with ESMTP id 2D3B942F39
 for <test-report@dpdk.org>; Mon,  3 Jun 2024 23:07:51 +0200 (CEST)
Received: by mail-il1-f227.google.com with SMTP id
 e9e14a558f8ab-3738690172eso1342415ab.1
 for <test-report@dpdk.org>; Mon, 03 Jun 2024 14:07:51 -0700 (PDT)
DKIM-Signature: v=1; a=rsa-sha256; c=relaxed/relaxed;
 d=iol.unh.edu; s=unh-iol; t=1717448870; x=1718053670; darn=dpdk.org;
 h=references:in-reply-to:cc:to:from:subject:message-id:date:from:to
 :cc:subject:date:message-id:reply-to;
 bh=SMiMDXRO+QZsCx+QtFgz/h5g7PjGjqoOlDZpvN3k+S4=;
 b=SpR3Rktm8RcLQRVJ+vvIzFqzbts+dS7yAOwW4I7XNO+iRcvKIlprA0CCyKBnumfd9N
 FJmrdWJgWVBAu3Dltvscrvbtm5bus5Hhhx1hsCgHdm+yObEhFSqLAElnTld6zge/puEw
 +E7V3N35kmSjV9EnPVHEPMaCTzOu3Mnk+Niqg=
X-Google-DKIM-Signature: v=1; a=rsa-sha256; c=relaxed/relaxed;
 d=1e100.net; s=20230601; t=1717448870; x=1718053670;
 h=references:in-reply-to:cc:to:from:subject:message-id:date
 :x-gm-message-state:from:to:cc:subject:date:message-id:reply-to;
 bh=SMiMDXRO+QZsCx+QtFgz/h5g7PjGjqoOlDZpvN3k+S4=;
 b=YV+oUnYbtTE9GZvNTbqzuzoBzJeI3PV0vAHCDPxFgwPD/j2T5Pv5GBc+zJ+GzwZAmu
 tq0P8DwZdANhyAKNWsNZJhbLDup0Foc4zxiR7KBd/LcFzP1nRCycqTpd0ZJnFh4cQwEU
 8oF889rvJBbz9PIJuKKV2UGKaQAwCQkg6WcrrQnZ3VI499boB4YGpdDma2VsE33Gd1n/
 UfxYz9SWfs+Xmv6G6+Udlgu8WbDh84dwLTpxJtMP7yDWwfxaN8GhjlOuerXkAAYUMV4B
 qUcjIzjeJ7DUakEejHiD2qCurZp0R/W9uW+RiuCSTJ6PVL9Yk5P2Gjtn2/P4po7k31uf
 Fw/w==
X-Gm-Message-State: AOJu0YxMB7jcDuV1QNGD5pxYJiQCND5F8ROeGEgL7LxgWeaowPOtoHp9
 Y5ksYq5Jmo3Qh47GzEn5B6TWIsJoB8pYvWVlD4fTw0P0zrim7FmHiMb5YHaZOVKHP3AzNNslc+Z
 6CnBTDeWgp4x1Tg25t/M3yyoLFEMjeBnKj0AadFoDKM/bEzrYoQv/me00
X-Google-Smtp-Source: AGHT+IHoZ6Z4O8t244uBtxVYObXXevakaudz4wjK227rg0rFl82A36Gj/asgJbv196enRQZNhD07niC06jX5
X-Received: by 2002:a05:6602:6415:b0:7de:c308:76e2 with SMTP id
 ca18e2360f4ac-7eaffe71bc5mr1321282739f.3.1717448870583; 
 Mon, 03 Jun 2024 14:07:50 -0700 (PDT)
Received: from postal.iol.unh.edu (postal.iol.unh.edu.
 [2606:4100:3880:1234::84]) by smtp-relay.gmail.com with ESMTPS id
 8926c6da1cb9f-4b58eec9ce7sm76842173.31.2024.06.03.14.07.50
 (version=TLS1_2 cipher=ECDHE-ECDSA-AES128-GCM-SHA256 bits=128/128);
 Mon, 03 Jun 2024 14:07:50 -0700 (PDT)
X-Relaying-Domain: iol.unh.edu
Date: Mon, 03 Jun 2024 14:07:50 -0700 (PDT)
Message-ID: <665e30a6.050a0220.1163bc.5fecSMTPIN_ADDED_MISSING@mx.google.com>
Received: from [172.21.0.8] (unknown [172.18.0.240])
 by postal.iol.unh.edu (Postfix) with ESMTP id 1050E605C380;
 Mon,  3 Jun 2024 17:07:50 -0400 (EDT)
Subject: |SUCCESS| pw140639-140640 [PATCH] [v3,17/17] net/ntnic: add NIM modu
From: dpdklab@iol.unh.edu
To: Test Report <test-report@dpdk.org>
Cc: dpdk-test-reports@iol.unh.edu
In-Reply-To: <20240603161822.59552-17-sil-plv@napatech.com>
References: <20240603161822.59552-17-sil-plv@napatech.com>
Content-Type: text/plain
X-BeenThere: test-report@dpdk.org
X-Mailman-Version: 2.1.29
Precedence: list
List-Id: automatic DPDK test reports <test-report.dpdk.org>
List-Unsubscribe: <https://mails.dpdk.org/options/test-report>,
 <mailto:test-report-request@dpdk.org?subject=unsubscribe>
List-Archive: <http://mails.dpdk.org/archives/test-report/>
List-Post: <mailto:test-report@dpdk.org>
List-Help: <mailto:test-report-request@dpdk.org?subject=help>
List-Subscribe: <https://mails.dpdk.org/listinfo/test-report>,
 <mailto:test-report-request@dpdk.org?subject=subscribe>
Errors-To: test-report-bounces@dpdk.org

Test-Label: iol-unit-amd64-testing
Test-Status: SUCCESS
http://dpdk.org/patch/140640

_Testing PASS_

Submitter: Serhii Iliushyk <sil-plv@napatech.com>
Date: Monday, June 03 2024 16:18:14 
DPDK git baseline: Repo:dpdk
  Branch: master
  CommitID:2dbb63594a9a985e2c8639b57f9fcd1468b9de97

140639-140640 --> testing pass

Test environment and result as below:

+---------------------+----------------+
|     Environment     | dpdk_unit_test |
+=====================+================+
| Windows Server 2019 | PASS           |
+---------------------+----------------+
| CentOS Stream 8     | PASS           |
+---------------------+----------------+
| CentOS Stream 9     | PASS           |
+---------------------+----------------+


Windows Server 2019
	Kernel: 10.0.17763
	Compiler: clang 14.0 and gcc 8.1.0 (MinGW)

CentOS Stream 8
	Kernel: 5.4.0-167-generic
	Compiler: gcc 8.5.0 20210514

CentOS Stream 9
	Kernel: 5.4.0-167-generic
	Compiler: gcc 11.4.1 20230605

To view detailed results, visit:
https://lab.dpdk.org/results/dashboard/patchsets/30088/

UNH-IOL DPDK Community Lab

To manage your email subscriptions, visit: 
https://lab.dpdk.org/results/dashboard/preferences/subscriptions/