From mboxrd@z Thu Jan  1 00:00:00 1970
Return-Path: <test-report-bounces@dpdk.org>
Received: from mails.dpdk.org (mails.dpdk.org [217.70.189.124])
	by inbox.dpdk.org (Postfix) with ESMTP id 4E85044144
	for <public@inbox.dpdk.org>; Mon,  3 Jun 2024 23:16:35 +0200 (CEST)
Received: from mails.dpdk.org (localhost [127.0.0.1])
	by mails.dpdk.org (Postfix) with ESMTP id 3257242F39;
	Mon,  3 Jun 2024 23:16:35 +0200 (CEST)
Received: from mail-il1-f228.google.com (mail-il1-f228.google.com
 [209.85.166.228])
 by mails.dpdk.org (Postfix) with ESMTP id 4C5C342F37
 for <test-report@dpdk.org>; Mon,  3 Jun 2024 23:16:33 +0200 (CEST)
Received: by mail-il1-f228.google.com with SMTP id
 e9e14a558f8ab-3748aa28d0fso15684755ab.3
 for <test-report@dpdk.org>; Mon, 03 Jun 2024 14:16:33 -0700 (PDT)
DKIM-Signature: v=1; a=rsa-sha256; c=relaxed/relaxed;
 d=iol.unh.edu; s=unh-iol; t=1717449392; x=1718054192; darn=dpdk.org;
 h=references:in-reply-to:cc:to:from:subject:message-id:date:from:to
 :cc:subject:date:message-id:reply-to;
 bh=O5WjrixMObsEgVNvFZ+HQUWlW5qXZITN74pVj4mS7Hk=;
 b=OE5rCOtO1loeGbDmiRCOCDgdywiYYMKd75ymxw+Vc7KuJDj5M/r5uOxI3iWZSBxEDx
 9C8RnCEcFysKPTnhbLArRQ3OWUfiRObDC0sZY6PH9akq2+aYqHlPZqP50eOTyVcEbycw
 5EKfWwJKySiMNkHxQCbInoes2JqwYdQU2XvWI=
X-Google-DKIM-Signature: v=1; a=rsa-sha256; c=relaxed/relaxed;
 d=1e100.net; s=20230601; t=1717449392; x=1718054192;
 h=references:in-reply-to:cc:to:from:subject:message-id:date
 :x-gm-message-state:from:to:cc:subject:date:message-id:reply-to;
 bh=O5WjrixMObsEgVNvFZ+HQUWlW5qXZITN74pVj4mS7Hk=;
 b=cprHXM5FfnNBJtQy4LHxSujwKsqwABpc+RDUxg9JKwXsYJfOhNTuCRcjOBRMrDrIIb
 Ln0eEjPExJaFlvQsEB9JjkESTOiCPAqUkOSaAfafFV9o0FwSrbJgj2kmAACSHQ16+P80
 ykvi1g2fULcaMjAeTPffrOc5xvkpTo6SzVXuqxzepqsiKVM8TtAOWlKWgnRc0YklPmOP
 Gy3N7bYBloX6YrQ+KS2EKsaI+6mgXtP9nv2cdU2nn3nfcEQ6hamA/ugNyqbMksZng+5t
 KeRR/Y/1KnXO9sP4DT9OcHuIDPNJdbyU8mPjSi9bCspxg7JFQ0JGLgctVBrrP3opXEl8
 1nyQ==
X-Gm-Message-State: AOJu0YzcPcBEvbSO30QtH4zdz1MWxox6wggboUpF55x6cktldL2oA21n
 PqlBMJmbwJPRQ8/rsCn0I+nS/6UFBpE4afvr4nJz9ch6gMb0AsQ9RSHaME4AIFUaul3hU1FSH3m
 77Bi4ROuvZIAEdJZzje6NJwFQAP4FpxkBLkrQS/+7
X-Google-Smtp-Source: AGHT+IHqB9Luy6aEo1wL0mJInQpQvgMeSUBgztQDMDWoMgJ1nlsRbPLbkkKPIO9cpxGwh54GwJ5UzKmVAR7z
X-Received: by 2002:a05:6e02:1caa:b0:374:a2cf:2171 with SMTP id
 e9e14a558f8ab-374a2cf226bmr29360595ab.18.1717449392535; 
 Mon, 03 Jun 2024 14:16:32 -0700 (PDT)
Received: from postal.iol.unh.edu (postal.iol.unh.edu. [132.177.123.84])
 by smtp-relay.gmail.com with ESMTPS id
 e9e14a558f8ab-374a2f4d2b0sm750855ab.9.2024.06.03.14.16.32
 (version=TLS1_2 cipher=ECDHE-ECDSA-AES128-GCM-SHA256 bits=128/128);
 Mon, 03 Jun 2024 14:16:32 -0700 (PDT)
X-Relaying-Domain: iol.unh.edu
Date: Mon, 03 Jun 2024 14:16:32 -0700 (PDT)
Message-ID: <665e32b0.050a0220.3a7f4d.6176SMTPIN_ADDED_MISSING@mx.google.com>
Received: from [172.21.0.7] (unknown [172.18.0.240])
 by postal.iol.unh.edu (Postfix) with ESMTP id 08C88605C380;
 Mon,  3 Jun 2024 17:16:32 -0400 (EDT)
Subject: |SUCCESS| pw140639-140640 [PATCH] [v3,17/17] net/ntnic: add NIM modu
From: dpdklab@iol.unh.edu
To: Test Report <test-report@dpdk.org>
Cc: dpdk-test-reports@iol.unh.edu
In-Reply-To: <20240603161822.59552-17-sil-plv@napatech.com>
References: <20240603161822.59552-17-sil-plv@napatech.com>
Content-Type: text/plain
X-BeenThere: test-report@dpdk.org
X-Mailman-Version: 2.1.29
Precedence: list
List-Id: automatic DPDK test reports <test-report.dpdk.org>
List-Unsubscribe: <https://mails.dpdk.org/options/test-report>,
 <mailto:test-report-request@dpdk.org?subject=unsubscribe>
List-Archive: <http://mails.dpdk.org/archives/test-report/>
List-Post: <mailto:test-report@dpdk.org>
List-Help: <mailto:test-report-request@dpdk.org?subject=help>
List-Subscribe: <https://mails.dpdk.org/listinfo/test-report>,
 <mailto:test-report-request@dpdk.org?subject=subscribe>
Errors-To: test-report-bounces@dpdk.org

Test-Label: iol-compile-amd64-testing
Test-Status: SUCCESS
http://dpdk.org/patch/140640

_Testing PASS_

Submitter: Serhii Iliushyk <sil-plv@napatech.com>
Date: Monday, June 03 2024 16:18:14 
DPDK git baseline: Repo:dpdk
  Branch: master
  CommitID:2dbb63594a9a985e2c8639b57f9fcd1468b9de97

140639-140640 --> testing pass

Test environment and result as below:

+---------------------+-------------------+--------------------+----------------------+------------------+
|     Environment     | dpdk_msvc_compile | dpdk_meson_compile | dpdk_mingw64_compile | dpdk_compile_ovs |
+=====================+===================+====================+======================+==================+
| Windows Server 2022 | PASS              | PASS               | PASS                 | SKIPPED          |
+---------------------+-------------------+--------------------+----------------------+------------------+
| FreeBSD 13.3        | SKIPPED           | PASS               | SKIPPED              | SKIPPED          |
+---------------------+-------------------+--------------------+----------------------+------------------+
| Windows Server 2019 | SKIPPED           | PASS               | PASS                 | SKIPPED          |
+---------------------+-------------------+--------------------+----------------------+------------------+
| FreeBSD 14.0        | SKIPPED           | PASS               | SKIPPED              | SKIPPED          |
+---------------------+-------------------+--------------------+----------------------+------------------+
| CentOS Stream 8     | SKIPPED           | PASS               | SKIPPED              | PASS             |
+---------------------+-------------------+--------------------+----------------------+------------------+


Windows Server 2022
	Kernel: 10.0.20348.2031
	Compiler: clang 15.0.7, gcc 8.1.0 (MinGW), and MSVC VS 17.9

FreeBSD 13.3
	Kernel: 13.3-RELEASE-p1
	Compiler: clang 17.0.6

Windows Server 2019
	Kernel: 10.0.17763
	Compiler: clang 14.0 and gcc 8.1.0 (MinGW)

FreeBSD 14.0
	Kernel: 14.0
	Compiler: clang 16.0.6

CentOS Stream 8
	Kernel: 5.4.0-167-generic
	Compiler: gcc 8.5.0 20210514

To view detailed results, visit:
https://lab.dpdk.org/results/dashboard/patchsets/30088/

UNH-IOL DPDK Community Lab

To manage your email subscriptions, visit: 
https://lab.dpdk.org/results/dashboard/preferences/subscriptions/