From mboxrd@z Thu Jan  1 00:00:00 1970
Return-Path: <test-report-bounces@dpdk.org>
Received: from mails.dpdk.org (mails.dpdk.org [217.70.189.124])
	by inbox.dpdk.org (Postfix) with ESMTP id 0436B44144
	for <public@inbox.dpdk.org>; Mon,  3 Jun 2024 23:19:57 +0200 (CEST)
Received: from mails.dpdk.org (localhost [127.0.0.1])
	by mails.dpdk.org (Postfix) with ESMTP id EDBFF42F39;
	Mon,  3 Jun 2024 23:19:56 +0200 (CEST)
Received: from mail-il1-f228.google.com (mail-il1-f228.google.com
 [209.85.166.228])
 by mails.dpdk.org (Postfix) with ESMTP id 818F542F37
 for <test-report@dpdk.org>; Mon,  3 Jun 2024 23:19:55 +0200 (CEST)
Received: by mail-il1-f228.google.com with SMTP id
 e9e14a558f8ab-374a817a1efso1486705ab.2
 for <test-report@dpdk.org>; Mon, 03 Jun 2024 14:19:55 -0700 (PDT)
DKIM-Signature: v=1; a=rsa-sha256; c=relaxed/relaxed;
 d=iol.unh.edu; s=unh-iol; t=1717449595; x=1718054395; darn=dpdk.org;
 h=references:in-reply-to:cc:to:from:subject:message-id:date:from:to
 :cc:subject:date:message-id:reply-to;
 bh=Q4BuktbPEae5ciMxkdL56El8BzcU+d924z3EhpyGMhE=;
 b=QluB+a55lHyIUWh055trgPTNKlsjLJi3ZQ5ATszeLZv7DUnVgJVTkNXEbDuTvMcfGj
 23miDqq7xdLfRvhP5Msb2LvW5iVzH116SM1BEoSolizk+kVCcfEAL23DavDS2wXKDb4U
 3vqkHZ2fsNlfuvSCw+jD+b9kDZkGV4EgcyYgI=
X-Google-DKIM-Signature: v=1; a=rsa-sha256; c=relaxed/relaxed;
 d=1e100.net; s=20230601; t=1717449595; x=1718054395;
 h=references:in-reply-to:cc:to:from:subject:message-id:date
 :x-gm-message-state:from:to:cc:subject:date:message-id:reply-to;
 bh=Q4BuktbPEae5ciMxkdL56El8BzcU+d924z3EhpyGMhE=;
 b=vKVssqbYyyj3xr+t5vz+M0CX8mlY0ClNuNExH9Hm5Giyhi3XBgnKZYINUJLR8E4kg3
 AJB2I4bQHTs66lVP/HBbUYNf6AIcaK2InFBTnsi7w6ToATGgadA0j6P69R7TiZjR80dp
 mcX6CFAooZLKO6jHL74SPfeg4rDcWzhl79zvyOycIO0x+EDUwNBDd9/d7SwM0DbPJ0KG
 3GqdJIkLJJOKj8O2M81CaJJcROPL7C41UKQTocBg7BZl3ezs9JhRwH6B2oWGIew9qTCi
 byXWY/DUphjjVl18/ZtyKhf91tekXPOS9GiXprZCn+RqS7UkJnKAaJqVxyDK/PdvYhoV
 b/4w==
X-Gm-Message-State: AOJu0Yy448kVF32/MrtDZN4BzbvNGOQ6wdMtof7lJWlKBPcfV9hvlT4Z
 gwXXh31MlYvBsu1JbiRYgBqkG7sXWfhAV3fv2M23Rd4KfH3Xjx+LOCkBlg+lpVojIRHFO5D0TA7
 5NVcNpAPHo9u7d1ZalR+GhV3CGxQT9dXVTiPVBBOtykGDKS7m8Gph+/fR
X-Google-Smtp-Source: AGHT+IE9Z6FHegs3pxvoJqHXvVPr+LEjHTj6TNzq++jHm7Ew2EgExq/pjQoBlZglmvxK9WTAMvqBsq3yIobY
X-Received: by 2002:a05:6e02:1c8d:b0:374:a7d0:b0bc with SMTP id
 e9e14a558f8ab-374a7d0b11amr15401495ab.23.1717449594898; 
 Mon, 03 Jun 2024 14:19:54 -0700 (PDT)
Received: from postal.iol.unh.edu (postal.iol.unh.edu.
 [2606:4100:3880:1234::84]) by smtp-relay.gmail.com with ESMTPS id
 e9e14a558f8ab-3748a205a73sm4381005ab.32.2024.06.03.14.19.54
 (version=TLS1_2 cipher=ECDHE-ECDSA-AES128-GCM-SHA256 bits=128/128);
 Mon, 03 Jun 2024 14:19:54 -0700 (PDT)
X-Relaying-Domain: iol.unh.edu
Date: Mon, 03 Jun 2024 14:19:54 -0700 (PDT)
Message-ID: <665e337a.050a0220.3f44e.44a0SMTPIN_ADDED_MISSING@mx.google.com>
Received: from [172.21.0.6] (unknown [172.18.0.240])
 by postal.iol.unh.edu (Postfix) with ESMTP id 53BB6605C380;
 Mon,  3 Jun 2024 17:19:54 -0400 (EDT)
Subject: |SUCCESS| pw140648-140646 [PATCH] [v2,5/5] crypto/openssl: only set 
From: dpdklab@iol.unh.edu
To: Test Report <test-report@dpdk.org>
Cc: dpdk-test-reports@iol.unh.edu
In-Reply-To: <20240603185939.1312680-6-jack.bond-preston@foss.arm.com>
References: <20240603185939.1312680-6-jack.bond-preston@foss.arm.com>
Content-Type: text/plain
X-BeenThere: test-report@dpdk.org
X-Mailman-Version: 2.1.29
Precedence: list
List-Id: automatic DPDK test reports <test-report.dpdk.org>
List-Unsubscribe: <https://mails.dpdk.org/options/test-report>,
 <mailto:test-report-request@dpdk.org?subject=unsubscribe>
List-Archive: <http://mails.dpdk.org/archives/test-report/>
List-Post: <mailto:test-report@dpdk.org>
List-Help: <mailto:test-report-request@dpdk.org?subject=help>
List-Subscribe: <https://mails.dpdk.org/listinfo/test-report>,
 <mailto:test-report-request@dpdk.org?subject=subscribe>
Errors-To: test-report-bounces@dpdk.org

Test-Label: iol-compile-arm64-testing
Test-Status: SUCCESS
http://dpdk.org/patch/140646

_Testing PASS_

Submitter: Jack Bond-Preston <jack.bond-preston@foss.arm.com>
Date: Monday, June 03 2024 18:59:39 
DPDK git baseline: Repo:dpdk
  Branch: master
  CommitID:367b8db312517edb9f5340d280e77b1437d84dd3

140648-140646 --> testing pass

Test environment and result as below:

+----------------------------------------+--------------------+
|              Environment               | dpdk_meson_compile |
+========================================+====================+
| Ubuntu 20.04 ARM SVE                   | PASS               |
+----------------------------------------+--------------------+
| Debian 12 with MUSDK                   | PASS               |
+----------------------------------------+--------------------+
| Fedora 38 (ARM)                        | PASS               |
+----------------------------------------+--------------------+
| Fedora 37 (ARM)                        | PASS               |
+----------------------------------------+--------------------+
| Debian 11 (Buster) (ARM)               | PASS               |
+----------------------------------------+--------------------+
| Fedora 39 (ARM)                        | PASS               |
+----------------------------------------+--------------------+
| Ubuntu 22.04 (ARM)                     | PASS               |
+----------------------------------------+--------------------+
| CentOS Stream 9 (ARM)                  | PASS               |
+----------------------------------------+--------------------+
| Ubuntu 20.04 (ARM)                     | PASS               |
+----------------------------------------+--------------------+
| Debian 12 (arm)                        | PASS               |
+----------------------------------------+--------------------+
| Ubuntu 20.04 aarch32 GCC Cross Compile | PASS               |
+----------------------------------------+--------------------+
| Ubuntu 24.04 (ARM)                     | PASS               |
+----------------------------------------+--------------------+
| Ubuntu 20.04 ARM Clang Cross Compile   | PASS               |
+----------------------------------------+--------------------+
| Fedora 39 (ARM Clang)                  | PASS               |
+----------------------------------------+--------------------+
| Fedora 38 (ARM Clang)                  | PASS               |
+----------------------------------------+--------------------+


Ubuntu 20.04 ARM SVE
	Kernel: 5.4.0-167-generic
	Compiler: gcc (Ubuntu 10.5.0-1ubuntu1~20.04) 10.5.0

Debian 12 with MUSDK
	Kernel: Container Host Kernel
	Compiler: gcc 12.2.0

Fedora 38 (ARM)
	Kernel: Depends on container host
	Compiler: gcc 13.2.1

Fedora 37 (ARM)
	Kernel: Depends on container host
	Compiler: gcc 12.3.1

Debian 11 (Buster) (ARM)
	Kernel: Container Host Kernel
	Compiler: gcc 10.2.1

Fedora 39 (ARM)
	Kernel: Depends on container host
	Compiler: gcc 13.2.1

Ubuntu 22.04 (ARM)
	Kernel: Container Host Kernel
	Compiler: gcc 11.4.0

CentOS Stream 9 (ARM)
	Kernel: Container Host Kernel
	Compiler: gcc 11.4.1

Ubuntu 20.04 (ARM)
	Kernel: Container Host Kernel
	Compiler: gcc 9.4.0

Debian 12 (arm)
	Kernel: Container Host Kernel
	Compiler: gcc 12.2.0

Ubuntu 20.04 aarch32 GCC Cross Compile
	Kernel: 5.4.0-167-generic
	Compiler: gcc 9.4.0

Ubuntu 24.04 (ARM)
	Kernel: 5.4.0-167-generic
	Compiler: gcc 13.2.0

Ubuntu 20.04 ARM Clang Cross Compile
	Kernel: 5.4.0-72-generic
	Compiler: clang 10.0.0-4ubuntu1

Fedora 39 (ARM Clang)
	Kernel: Depends on container host
	Compiler: clang 17.0.6

Fedora 38 (ARM Clang)
	Kernel: Depends on container host
	Compiler: clang 16.0.6

To view detailed results, visit:
https://lab.dpdk.org/results/dashboard/patchsets/30089/

UNH-IOL DPDK Community Lab

To manage your email subscriptions, visit: 
https://lab.dpdk.org/results/dashboard/preferences/subscriptions/