From mboxrd@z Thu Jan  1 00:00:00 1970
Return-Path: <test-report-bounces@dpdk.org>
Received: from mails.dpdk.org (mails.dpdk.org [217.70.189.124])
	by inbox.dpdk.org (Postfix) with ESMTP id 5376B44136
	for <public@inbox.dpdk.org>; Tue,  4 Jun 2024 03:48:45 +0200 (CEST)
Received: from mails.dpdk.org (localhost [127.0.0.1])
	by mails.dpdk.org (Postfix) with ESMTP id 4E73243377;
	Tue,  4 Jun 2024 03:48:45 +0200 (CEST)
Received: from mail-io1-f100.google.com (mail-io1-f100.google.com
 [209.85.166.100])
 by mails.dpdk.org (Postfix) with ESMTP id 8D612402D2
 for <test-report@dpdk.org>; Tue,  4 Jun 2024 03:48:43 +0200 (CEST)
Received: by mail-io1-f100.google.com with SMTP id
 ca18e2360f4ac-7e25bf84b58so20157739f.0
 for <test-report@dpdk.org>; Mon, 03 Jun 2024 18:48:43 -0700 (PDT)
DKIM-Signature: v=1; a=rsa-sha256; c=relaxed/relaxed;
 d=iol.unh.edu; s=unh-iol; t=1717465723; x=1718070523; darn=dpdk.org;
 h=references:in-reply-to:cc:to:from:subject:message-id:date:from:to
 :cc:subject:date:message-id:reply-to;
 bh=itIt0AFAhQ+36MjXNTVwmqUuydVqu7BbmEF94iXYDsk=;
 b=EXcoPOf6ldjS/Obte/leluD/zvHDn65740xRRaJ32OwgfrB8e6WQmdsFtr0PKZVhi/
 5+RIx2nHXaX0dUWAspH4WaaDmu6Ql/7+9L4blQriVZ7mobDOKGsja0O2wRIHv64pCF9x
 9ixg00j7YCX9IGO+C7253SWM0uc64e+RngsSM=
X-Google-DKIM-Signature: v=1; a=rsa-sha256; c=relaxed/relaxed;
 d=1e100.net; s=20230601; t=1717465723; x=1718070523;
 h=references:in-reply-to:cc:to:from:subject:message-id:date
 :x-gm-message-state:from:to:cc:subject:date:message-id:reply-to;
 bh=itIt0AFAhQ+36MjXNTVwmqUuydVqu7BbmEF94iXYDsk=;
 b=RDtEn9MTORelPml0RLIW1m5fFEJhlnCQDFiVujtAV1xz93jttNWsibL1BzCZW8yJTp
 vMqHWaA6D8WHW4HebHRrlIumDM8pCpD05/KulqbDmp+OeK75poX/48O8Igb2UwMvdgAE
 i36yl4uBT7afzPtdVwm9PnRIfYG8atiXi+9LBylun3whmovneFs5hvw8sniWHXwk2mO5
 DylTpKSzVy7Gj4as6TBipueiz0WD04bb3/WnfqTluxB6cROvy4QgF6quvsHRMYp3zjYb
 bYUU92XygM6pRjJeCMa6cBkjhygwLHRx3h3ljeiiZwj/yj0I8MoRKT8REc2QV/S2s1UU
 gnOg==
X-Gm-Message-State: AOJu0YyvwXDO+O5WwWzlzkSkRVkudZzY3rGlKgXaoams7N7lAsLDtqfR
 BJGZbV1NfQrazser6FYRchmU1h8bn7VLJ8RWBquWqU9iC3WKy0RGSOKwZybyFIO6mhi8va4InDR
 jf7sOHt+1fecX2mDES9kk++IPAk2uHR91xL/VK1zh7vQSFPthXqyGC3iQ
X-Google-Smtp-Source: AGHT+IHPjc/AoSpmDTbeU348UjmQXH8xRz+B+vTDwLLY7Nl2G+dZqpFYqpbL1Eg5ojT52EfAAOJ5cJUske4j
X-Received: by 2002:a05:6e02:1b0b:b0:374:593f:9158 with SMTP id
 e9e14a558f8ab-3748b9f6cb9mr119790405ab.20.1717465722970; 
 Mon, 03 Jun 2024 18:48:42 -0700 (PDT)
Received: from postal.iol.unh.edu (postal.iol.unh.edu.
 [2606:4100:3880:1234::84]) by smtp-relay.gmail.com with ESMTPS id
 8926c6da1cb9f-4b59e20f2b4sm78564173.40.2024.06.03.18.48.42
 (version=TLS1_2 cipher=ECDHE-ECDSA-AES128-GCM-SHA256 bits=128/128);
 Mon, 03 Jun 2024 18:48:42 -0700 (PDT)
X-Relaying-Domain: iol.unh.edu
Date: Mon, 03 Jun 2024 18:48:42 -0700 (PDT)
Message-ID: <665e727a.050a0220.29376f.613aSMTPIN_ADDED_MISSING@mx.google.com>
Received: from [172.21.0.6] (unknown [172.18.0.240])
 by postal.iol.unh.edu (Postfix) with ESMTP id 92EB6605C380;
 Mon,  3 Jun 2024 21:48:42 -0400 (EDT)
Subject: |SUCCESS| pw140655-140668 [PATCH] [v21,14/14] log: colorize log outp
From: dpdklab@iol.unh.edu
To: Test Report <test-report@dpdk.org>
Cc: dpdk-test-reports@iol.unh.edu
In-Reply-To: <20240604004731.6654-15-stephen@networkplumber.org>
References: <20240604004731.6654-15-stephen@networkplumber.org>
Content-Type: text/plain
X-BeenThere: test-report@dpdk.org
X-Mailman-Version: 2.1.29
Precedence: list
List-Id: automatic DPDK test reports <test-report.dpdk.org>
List-Unsubscribe: <https://mails.dpdk.org/options/test-report>,
 <mailto:test-report-request@dpdk.org?subject=unsubscribe>
List-Archive: <http://mails.dpdk.org/archives/test-report/>
List-Post: <mailto:test-report@dpdk.org>
List-Help: <mailto:test-report-request@dpdk.org?subject=help>
List-Subscribe: <https://mails.dpdk.org/listinfo/test-report>,
 <mailto:test-report-request@dpdk.org?subject=subscribe>
Errors-To: test-report-bounces@dpdk.org

Test-Label: iol-compile-arm64-testing
Test-Status: SUCCESS
http://dpdk.org/patch/140668

_Testing PASS_

Submitter: Stephen Hemminger <stephen@networkplumber.org>
Date: Tuesday, June 04 2024 00:45:02 
DPDK git baseline: Repo:dpdk
  Branch: master
  CommitID:76cef1af8bdaeaf67a5c4ca5df3f221df994dc46

140655-140668 --> testing pass

Test environment and result as below:

+-----------------------+--------------------+
|      Environment      | dpdk_meson_compile |
+=======================+====================+
| Ubuntu 20.04 ARM SVE  | PASS               |
+-----------------------+--------------------+
| Debian 12 with MUSDK  | PASS               |
+-----------------------+--------------------+
| Ubuntu 20.04 (ARM)    | PASS               |
+-----------------------+--------------------+
| Ubuntu 22.04 (ARM)    | PASS               |
+-----------------------+--------------------+
| CentOS Stream 9 (ARM) | PASS               |
+-----------------------+--------------------+
| Fedora 38 (ARM)       | PASS               |
+-----------------------+--------------------+
| Ubuntu 24.04 (ARM)    | PASS               |
+-----------------------+--------------------+


Ubuntu 20.04 ARM SVE
	Kernel: 5.4.0-167-generic
	Compiler: gcc (Ubuntu 10.5.0-1ubuntu1~20.04) 10.5.0

Debian 12 with MUSDK
	Kernel: Container Host Kernel
	Compiler: gcc 12.2.0

Ubuntu 20.04 (ARM)
	Kernel: Container Host Kernel
	Compiler: gcc 9.4.0

Ubuntu 22.04 (ARM)
	Kernel: Container Host Kernel
	Compiler: gcc 11.4.0

CentOS Stream 9 (ARM)
	Kernel: Container Host Kernel
	Compiler: gcc 11.4.1

Fedora 38 (ARM)
	Kernel: Depends on container host
	Compiler: gcc 13.2.1

Ubuntu 24.04 (ARM)
	Kernel: 5.4.0-167-generic
	Compiler: gcc 13.2.0

To view detailed results, visit:
https://lab.dpdk.org/results/dashboard/patchsets/30091/

UNH-IOL DPDK Community Lab

To manage your email subscriptions, visit: 
https://lab.dpdk.org/results/dashboard/preferences/subscriptions/