From mboxrd@z Thu Jan  1 00:00:00 1970
Return-Path: <test-report-bounces@dpdk.org>
Received: from mails.dpdk.org (mails.dpdk.org [217.70.189.124])
	by inbox.dpdk.org (Postfix) with ESMTP id F296744150
	for <public@inbox.dpdk.org>; Tue,  4 Jun 2024 11:58:16 +0200 (CEST)
Received: from mails.dpdk.org (localhost [127.0.0.1])
	by mails.dpdk.org (Postfix) with ESMTP id EB82A402EB;
	Tue,  4 Jun 2024 11:58:16 +0200 (CEST)
Received: from mail-pg1-f228.google.com (mail-pg1-f228.google.com
 [209.85.215.228])
 by mails.dpdk.org (Postfix) with ESMTP id 15DBC40041
 for <test-report@dpdk.org>; Tue,  4 Jun 2024 11:58:15 +0200 (CEST)
Received: by mail-pg1-f228.google.com with SMTP id
 41be03b00d2f7-6818e31e5baso4379452a12.1
 for <test-report@dpdk.org>; Tue, 04 Jun 2024 02:58:15 -0700 (PDT)
DKIM-Signature: v=1; a=rsa-sha256; c=relaxed/relaxed;
 d=iol.unh.edu; s=unh-iol; t=1717495094; x=1718099894; darn=dpdk.org;
 h=references:in-reply-to:cc:to:from:subject:message-id:date:from:to
 :cc:subject:date:message-id:reply-to;
 bh=5lvF3bzu6uZaGduw51GBI+QkSwiLSWukUGjtxNul1Nc=;
 b=FA0JfTscqIpyLGuEMiH2Foff2pKsXyiU9jfY7TVd4ln0RlbvVFnvsGeo1qV7NoW0EX
 jwQRvKljlmcECk6XrmiRu4socpMVms52jdB1GiL4wiXnQt1OqpSl5hYnSy076yNIeS5C
 fssILJwzXdSrii9vVDnr005N0ARicNAWbrU7c=
X-Google-DKIM-Signature: v=1; a=rsa-sha256; c=relaxed/relaxed;
 d=1e100.net; s=20230601; t=1717495094; x=1718099894;
 h=references:in-reply-to:cc:to:from:subject:message-id:date
 :x-gm-message-state:from:to:cc:subject:date:message-id:reply-to;
 bh=5lvF3bzu6uZaGduw51GBI+QkSwiLSWukUGjtxNul1Nc=;
 b=s8nNRr6iQN2IMwRk3OZmc2nz5w5SQMTrzWU70QPWSfEVlQcdpmEc+ZOIRkj7Q7WuOY
 vjpcC2OnTHZgKvnw99d7sCW/6GIvSYoOJ8hRazhw60umoJ7ltj5uHLvnNz2NEGcZvchv
 zNDIthYZmNma5ZSQWan2upfuOv/l4f5qOH6y9EyUxxgB++6hnL9mDrCrlhUv3XHARGbM
 Ps9zV1VJfhWEAXWcZ/nm6AW2bQSaMWllcjTh8BhjXoEQ+lNzzptwDnj+G+PqNDGcPLDL
 EDH0yU5/hc6gYURUHp3aO74/Z54COoa3fxOXywoNYFNBtt2+mBXReZGHjU9k3w+ddMko
 KEFQ==
X-Gm-Message-State: AOJu0YzNgVTceKNgcU3OnD17ONvZgHAffkG121u7s1VIRdMxxNh5zM8p
 uOzx3H1lzc3zBEmAQENRi4DiaO68MbHM9HNZxs+mirXw52w1j3wNB9A0QYkkswquGm6iEIERQG0
 o1b5/XJHGwXISjT+WFJPFE0XwjxU+Ydp6Bw3jJEpV
X-Google-Smtp-Source: AGHT+IEpbE8/v57KaGnH0fkAtONp1QIxBrfj7pfBd4annCfBVVGTkkxKXw6W3X+5Y4COpF+QqCAYunDyQnyB
X-Received: by 2002:a17:90b:19c9:b0:2c1:b16e:7567 with SMTP id
 98e67ed59e1d1-2c1dc56c234mr11053752a91.9.1717495094273; 
 Tue, 04 Jun 2024 02:58:14 -0700 (PDT)
Received: from postal.iol.unh.edu (postal.iol.unh.edu. [132.177.123.84])
 by smtp-relay.gmail.com with ESMTPS id
 98e67ed59e1d1-2c1a7760957sm462082a91.3.2024.06.04.02.58.14
 (version=TLS1_2 cipher=ECDHE-ECDSA-AES128-GCM-SHA256 bits=128/128);
 Tue, 04 Jun 2024 02:58:14 -0700 (PDT)
X-Relaying-Domain: iol.unh.edu
Date: Tue, 04 Jun 2024 02:58:14 -0700 (PDT)
Message-ID: <665ee536.170a0220.39e86e.4b48SMTPIN_ADDED_MISSING@mx.google.com>
Received: from [172.21.0.6] (unknown [172.18.0.240])
 by postal.iol.unh.edu (Postfix) with ESMTP id 3D13D605C373;
 Tue,  4 Jun 2024 05:58:13 -0400 (EDT)
Subject: |SUCCESS| pw140673-140674 [PATCH] [V2,2/2] app/testpmd: introduce VX
From: dpdklab@iol.unh.edu
To: Test Report <test-report@dpdk.org>
Cc: dpdk-test-reports@iol.unh.edu
In-Reply-To: <20240604062746.355383-3-gavinl@nvidia.com>
References: <20240604062746.355383-3-gavinl@nvidia.com>
Content-Type: text/plain
X-BeenThere: test-report@dpdk.org
X-Mailman-Version: 2.1.29
Precedence: list
List-Id: automatic DPDK test reports <test-report.dpdk.org>
List-Unsubscribe: <https://mails.dpdk.org/options/test-report>,
 <mailto:test-report-request@dpdk.org?subject=unsubscribe>
List-Archive: <http://mails.dpdk.org/archives/test-report/>
List-Post: <mailto:test-report@dpdk.org>
List-Help: <mailto:test-report-request@dpdk.org?subject=help>
List-Subscribe: <https://mails.dpdk.org/listinfo/test-report>,
 <mailto:test-report-request@dpdk.org?subject=subscribe>
Errors-To: test-report-bounces@dpdk.org

Test-Label: iol-abi-testing
Test-Status: SUCCESS
http://dpdk.org/patch/140674

_Testing PASS_

Submitter: Gavin Li <gavinl@nvidia.com>
Date: Tuesday, June 04 2024 06:27:45 
DPDK git baseline: Repo:dpdk
  Branch: master
  CommitID:2dbb63594a9a985e2c8639b57f9fcd1468b9de97

140673-140674 --> testing pass

Test environment and result as below:

+------------------+----------+
|   Environment    | abi_test |
+==================+==========+
| Fedora 37        | PASS     |
+------------------+----------+
| CentOS Stream 9  | PASS     |
+------------------+----------+
| Fedora 38        | PASS     |
+------------------+----------+
| Debian Bullseye  | PASS     |
+------------------+----------+
| openSUSE Leap 15 | PASS     |
+------------------+----------+
| Fedora 39        | PASS     |
+------------------+----------+
| CentOS Stream 8  | PASS     |
+------------------+----------+
| Ubuntu 22.04     | PASS     |
+------------------+----------+
| Debian 12        | PASS     |
+------------------+----------+
| Ubuntu 24.04     | PASS     |
+------------------+----------+


Fedora 37
	Kernel: Depends on container host system
	Compiler: gcc 12.3.1

CentOS Stream 9
	Kernel: 5.4.0-167-generic
	Compiler: gcc 11.4.1 20230605

Fedora 38
	Kernel: Depends on container host
	Compiler: gcc 13.2.1

Debian Bullseye
	Kernel: 5.4.0-167-generic
	Compiler: gcc 10.2.1-6

openSUSE Leap 15
	Kernel: 5.4.0-167-generic
	Compiler: gcc 7.5.0

Fedora 39
	Kernel: Depends on container host
	Compiler: clang 17.0.6

CentOS Stream 8
	Kernel: 5.4.0-167-generic
	Compiler: gcc 8.5.0 20210514

Ubuntu 22.04
	Kernel: 5.4.0-167-generic
	Compiler: gcc 11.4.0

Debian 12
	Kernel: Container Host Kernel
	Compiler: gcc 10.2.1

Ubuntu 24.04
	Kernel: 5.4.0-167-generic
	Compiler: gcc 13.2.0

To view detailed results, visit:
https://lab.dpdk.org/results/dashboard/patchsets/30095/

UNH-IOL DPDK Community Lab

To manage your email subscriptions, visit: 
https://lab.dpdk.org/results/dashboard/preferences/subscriptions/