From mboxrd@z Thu Jan  1 00:00:00 1970
Return-Path: <test-report-bounces@dpdk.org>
Received: from mails.dpdk.org (mails.dpdk.org [217.70.189.124])
	by inbox.dpdk.org (Postfix) with ESMTP id 874A244151
	for <public@inbox.dpdk.org>; Tue,  4 Jun 2024 12:32:02 +0200 (CEST)
Received: from mails.dpdk.org (localhost [127.0.0.1])
	by mails.dpdk.org (Postfix) with ESMTP id 80965402EB;
	Tue,  4 Jun 2024 12:32:02 +0200 (CEST)
Received: from mail-pl1-f227.google.com (mail-pl1-f227.google.com
 [209.85.214.227])
 by mails.dpdk.org (Postfix) with ESMTP id 1118D40041
 for <test-report@dpdk.org>; Tue,  4 Jun 2024 12:32:01 +0200 (CEST)
Received: by mail-pl1-f227.google.com with SMTP id
 d9443c01a7336-1f480624d04so43327765ad.2
 for <test-report@dpdk.org>; Tue, 04 Jun 2024 03:32:00 -0700 (PDT)
DKIM-Signature: v=1; a=rsa-sha256; c=relaxed/relaxed;
 d=iol.unh.edu; s=unh-iol; t=1717497120; x=1718101920; darn=dpdk.org;
 h=references:in-reply-to:cc:to:from:subject:message-id:date:from:to
 :cc:subject:date:message-id:reply-to;
 bh=O5939VBmwV/hilQukUrJiYgHW02bG2+8lOM7oj9E19M=;
 b=TlXByxBehI9zIz5KDxLdsPXWY89S1cm4dzq45Jp/oGtoQcofZfykoxNhxVyDzzC6cz
 cxi+dOHRCzue/HKkkTRLGhD/4pbgDCf9xg+8rnitee6wtpAUoqxI72d54sO+7wS0k+3a
 LvP73+crug/Jf4Iofmy7mbfSk5yxU9wS2h4FM=
X-Google-DKIM-Signature: v=1; a=rsa-sha256; c=relaxed/relaxed;
 d=1e100.net; s=20230601; t=1717497120; x=1718101920;
 h=references:in-reply-to:cc:to:from:subject:message-id:date
 :x-gm-message-state:from:to:cc:subject:date:message-id:reply-to;
 bh=O5939VBmwV/hilQukUrJiYgHW02bG2+8lOM7oj9E19M=;
 b=HArxjLPsm1zU5tveDrojLgf3gOo9CuUoJBX9e0BaFVyCjK+VfpyiHz3mrK9yr/S7jd
 eXTLa0hGjkBsbb69S3Fe9QqdlLj7wbQFkMEzSxP3gCbf3qyC6ShebamqBHcDdf8iFWmf
 DhDTbxkLuvo6tdMFppDtyeDLEz/YjkcHStGsS+nvQc2WkGdTHg1sGxtsM0ho2WeLF8gh
 E6y6xhbMa7hq6YrzU8/Kst6DRhCxU92C/iWRRa0ohA3PQxhsfe2iHWnUDkMtoOo7SpKA
 +ijTVH55Ca/LhaFEprSTxnmlhknlQ/YqEVPJHA3YUrMkSRmAnseVwQiLP/OUeviBblcG
 hlOA==
X-Gm-Message-State: AOJu0Ywbz9VA0gx/DzmbghIVVbM5Di5D/TnA773I4dvHC/bWVmWUV6HD
 Lntuh1F/xc70Z6XQHEutytgVvZXXE8pK3C2L2ysMkHKvg2+7mo0KaD/+9Xr9DEZrUCCAAQUqJa3
 iJFLf4U2nxFT+pBvZ4AgcyCQUD86rxed7Q0eTOGg97WAI70PXbyYW3Jyn
X-Google-Smtp-Source: AGHT+IHUTez2FUVCn6o7HjLTyeuQ1XMJo4nntcdCSRsBrvkk2RNf1hI/lZP02mZX6JOTuiFpwN0U7G5VqopR
X-Received: by 2002:a17:903:11ce:b0:1f6:700e:a2ca with SMTP id
 d9443c01a7336-1f6700ea63bmr66809105ad.39.1717497120287; 
 Tue, 04 Jun 2024 03:32:00 -0700 (PDT)
Received: from postal.iol.unh.edu (postal.iol.unh.edu.
 [2606:4100:3880:1234::84]) by smtp-relay.gmail.com with ESMTPS id
 d9443c01a7336-1f6323d478asm2946415ad.91.2024.06.04.03.32.00
 (version=TLS1_2 cipher=ECDHE-ECDSA-AES128-GCM-SHA256 bits=128/128);
 Tue, 04 Jun 2024 03:32:00 -0700 (PDT)
X-Relaying-Domain: iol.unh.edu
Date: Tue, 04 Jun 2024 03:32:00 -0700 (PDT)
Message-ID: <665eed20.170a0220.74408.6758SMTPIN_ADDED_MISSING@mx.google.com>
Received: from [172.21.0.7] (unknown [172.18.0.240])
 by postal.iol.unh.edu (Postfix) with ESMTP id 42CC2605C373;
 Tue,  4 Jun 2024 06:31:59 -0400 (EDT)
Subject: |SUCCESS| pw140675-140695 [PATCH] [v2,21/21] drivers: adding type to
From: dpdklab@iol.unh.edu
To: Test Report <test-report@dpdk.org>
Cc: dpdk-test-reports@iol.unh.edu
In-Reply-To: <20240604080611.2197835-22-soumyadeep.hore@intel.com>
References: <20240604080611.2197835-22-soumyadeep.hore@intel.com>
Content-Type: text/plain
X-BeenThere: test-report@dpdk.org
X-Mailman-Version: 2.1.29
Precedence: list
List-Id: automatic DPDK test reports <test-report.dpdk.org>
List-Unsubscribe: <https://mails.dpdk.org/options/test-report>,
 <mailto:test-report-request@dpdk.org?subject=unsubscribe>
List-Archive: <http://mails.dpdk.org/archives/test-report/>
List-Post: <mailto:test-report@dpdk.org>
List-Help: <mailto:test-report-request@dpdk.org?subject=help>
List-Subscribe: <https://mails.dpdk.org/listinfo/test-report>,
 <mailto:test-report-request@dpdk.org?subject=subscribe>
Errors-To: test-report-bounces@dpdk.org

Test-Label: iol-compile-amd64-testing
Test-Status: SUCCESS
http://dpdk.org/patch/140695

_Testing PASS_

Submitter: Soumyadeep Hore <soumyadeep.hore@intel.com>
Date: Tuesday, June 04 2024 08:06:11 
DPDK git baseline: Repo:dpdk
  Branch: master
  CommitID:0d761dfc89b71fa46193a545cce3fbe2613856a6

140675-140695 --> testing pass

Test environment and result as below:

+---------------------+-------------------+--------------------+----------------------+
|     Environment     | dpdk_msvc_compile | dpdk_meson_compile | dpdk_mingw64_compile |
+=====================+===================+====================+======================+
| Windows Server 2022 | PASS              | PASS               | PASS                 |
+---------------------+-------------------+--------------------+----------------------+
| FreeBSD 13.3        | SKIPPED           | PASS               | SKIPPED              |
+---------------------+-------------------+--------------------+----------------------+
| FreeBSD 14.0        | SKIPPED           | PASS               | SKIPPED              |
+---------------------+-------------------+--------------------+----------------------+
| Windows Server 2019 | SKIPPED           | PASS               | PASS                 |
+---------------------+-------------------+--------------------+----------------------+


Windows Server 2022
	Kernel: 10.0.20348.2031
	Compiler: clang 15.0.7, gcc 8.1.0 (MinGW), and MSVC VS 17.9

FreeBSD 13.3
	Kernel: 13.3-RELEASE-p1
	Compiler: clang 17.0.6

FreeBSD 14.0
	Kernel: 14.0
	Compiler: clang 16.0.6

Windows Server 2019
	Kernel: 10.0.17763
	Compiler: clang 14.0 and gcc 8.1.0 (MinGW)

To view detailed results, visit:
https://lab.dpdk.org/results/dashboard/patchsets/30096/

UNH-IOL DPDK Community Lab

To manage your email subscriptions, visit: 
https://lab.dpdk.org/results/dashboard/preferences/subscriptions/