From mboxrd@z Thu Jan  1 00:00:00 1970
Return-Path: <test-report-bounces@dpdk.org>
Received: from mails.dpdk.org (mails.dpdk.org [217.70.189.124])
	by inbox.dpdk.org (Postfix) with ESMTP id AB57944151
	for <public@inbox.dpdk.org>; Tue,  4 Jun 2024 12:34:17 +0200 (CEST)
Received: from mails.dpdk.org (localhost [127.0.0.1])
	by mails.dpdk.org (Postfix) with ESMTP id A7174402EB;
	Tue,  4 Jun 2024 12:34:17 +0200 (CEST)
Received: from mail-oo1-f100.google.com (mail-oo1-f100.google.com
 [209.85.161.100])
 by mails.dpdk.org (Postfix) with ESMTP id A907440041
 for <test-report@dpdk.org>; Tue,  4 Jun 2024 12:34:16 +0200 (CEST)
Received: by mail-oo1-f100.google.com with SMTP id
 006d021491bc7-5ba74c25fb3so474eaf.0
 for <test-report@dpdk.org>; Tue, 04 Jun 2024 03:34:16 -0700 (PDT)
DKIM-Signature: v=1; a=rsa-sha256; c=relaxed/relaxed;
 d=iol.unh.edu; s=unh-iol; t=1717497256; x=1718102056; darn=dpdk.org;
 h=references:in-reply-to:cc:to:from:subject:message-id:date:from:to
 :cc:subject:date:message-id:reply-to;
 bh=O5939VBmwV/hilQukUrJiYgHW02bG2+8lOM7oj9E19M=;
 b=CLn+TzPHehyZj0VE74gqQxpwczlGXnnhQJNQStTWYjB7Lpcqu2lp+GjptFSij8cGbz
 zCJPMoC3eyv5Fvwe3Xk2t5+mmqslPTzSIQ0/EishLVO5D6l+q72eK/8jfp4jGBD8Q6f6
 lDdlT+58Ba/Z3q+ErEmOSVXUXhZMIwTSatiBM=
X-Google-DKIM-Signature: v=1; a=rsa-sha256; c=relaxed/relaxed;
 d=1e100.net; s=20230601; t=1717497256; x=1718102056;
 h=references:in-reply-to:cc:to:from:subject:message-id:date
 :x-gm-message-state:from:to:cc:subject:date:message-id:reply-to;
 bh=O5939VBmwV/hilQukUrJiYgHW02bG2+8lOM7oj9E19M=;
 b=gC0JKdCyqdkfqkjuhJ75PGwQzAFgCFLIvtZp56SF8Q6SpL0041XqWXTuW2D59te9TU
 2GYuLyUSyAp4CzVrvN+QM2UQucfcPk2L3No0BfuiV65yNyS5qhWLtYtiybYZtt7qdy2I
 wkFiH0BAUI7G+Yv9TuqhBzpQFWrnHgBYNcLvv9kTshJpU6GB2glBY/3x6PQRhJ+Er8xw
 +j+4ib+dPu7zXZOTdjP9QLOB7obaM10KjuYMMFgOw6lJLF7BmwX+ze3rZBkethvEKngl
 TOxLjxMKLcYOF89ccAyMxWZRwMWGy28oQBrgyEj9a7PhIwLGKMGaDqEainMVouAVTz2B
 oCpg==
X-Gm-Message-State: AOJu0YyYbKC+vh7RR8SsjE5k6bu2DN96fS4zzrzUQ0qS0qrOvV8ge/HR
 qMPZxRYfKeq9wFXESIfUs7hnVEOLr6P5DJELQVvln4Qzt0/plIK5e7gMSz78Z6thf+bSoh4DoT5
 Y6l+USDDseKFNYrFfOL+BZYgpYmNpxOZ80SubO8iU0900R4JbCZ0Iywlz
X-Google-Smtp-Source: AGHT+IG9d5GFHcTI7n2Po8QgDv4WNJYykD7Necx4XzltGPNrpJqMT2rG9uAaAoMtwScnJmY26A79iV60/AlH
X-Received: by 2002:a05:6820:4383:b0:5ba:3c47:9223 with SMTP id
 006d021491bc7-5ba3c4794b2mr7266862eaf.0.1717497255991; 
 Tue, 04 Jun 2024 03:34:15 -0700 (PDT)
Received: from postal.iol.unh.edu (postal.iol.unh.edu.
 [2606:4100:3880:1234::84]) by smtp-relay.gmail.com with ESMTPS id
 006d021491bc7-5ba00407958sm682467eaf.13.2024.06.04.03.34.15
 (version=TLS1_2 cipher=ECDHE-ECDSA-AES128-GCM-SHA256 bits=128/128);
 Tue, 04 Jun 2024 03:34:15 -0700 (PDT)
X-Relaying-Domain: iol.unh.edu
Date: Tue, 04 Jun 2024 03:34:15 -0700 (PDT)
Message-ID: <665eeda7.4a0a0220.426c.77d5SMTPIN_ADDED_MISSING@mx.google.com>
Received: from [172.21.0.7] (unknown [172.18.0.240])
 by postal.iol.unh.edu (Postfix) with ESMTP id 7DD47605C373;
 Tue,  4 Jun 2024 06:34:15 -0400 (EDT)
Subject: |SUCCESS| pw140675-140695 [PATCH] [v2,21/21] drivers: adding type to
From: dpdklab@iol.unh.edu
To: Test Report <test-report@dpdk.org>
Cc: dpdk-test-reports@iol.unh.edu
In-Reply-To: <20240604080611.2197835-22-soumyadeep.hore@intel.com>
References: <20240604080611.2197835-22-soumyadeep.hore@intel.com>
Content-Type: text/plain
X-BeenThere: test-report@dpdk.org
X-Mailman-Version: 2.1.29
Precedence: list
List-Id: automatic DPDK test reports <test-report.dpdk.org>
List-Unsubscribe: <https://mails.dpdk.org/options/test-report>,
 <mailto:test-report-request@dpdk.org?subject=unsubscribe>
List-Archive: <http://mails.dpdk.org/archives/test-report/>
List-Post: <mailto:test-report@dpdk.org>
List-Help: <mailto:test-report-request@dpdk.org?subject=help>
List-Subscribe: <https://mails.dpdk.org/listinfo/test-report>,
 <mailto:test-report-request@dpdk.org?subject=subscribe>
Errors-To: test-report-bounces@dpdk.org

Test-Label: iol-compile-amd64-testing
Test-Status: SUCCESS
http://dpdk.org/patch/140695

_Testing PASS_

Submitter: Soumyadeep Hore <soumyadeep.hore@intel.com>
Date: Tuesday, June 04 2024 08:06:11 
DPDK git baseline: Repo:dpdk
  Branch: master
  CommitID:0d761dfc89b71fa46193a545cce3fbe2613856a6

140675-140695 --> testing pass

Test environment and result as below:

+---------------------+-------------------+--------------------+----------------------+
|     Environment     | dpdk_msvc_compile | dpdk_meson_compile | dpdk_mingw64_compile |
+=====================+===================+====================+======================+
| Windows Server 2022 | PASS              | PASS               | PASS                 |
+---------------------+-------------------+--------------------+----------------------+
| FreeBSD 13.3        | SKIPPED           | PASS               | SKIPPED              |
+---------------------+-------------------+--------------------+----------------------+
| FreeBSD 14.0        | SKIPPED           | PASS               | SKIPPED              |
+---------------------+-------------------+--------------------+----------------------+
| Windows Server 2019 | SKIPPED           | PASS               | PASS                 |
+---------------------+-------------------+--------------------+----------------------+


Windows Server 2022
	Kernel: 10.0.20348.2031
	Compiler: clang 15.0.7, gcc 8.1.0 (MinGW), and MSVC VS 17.9

FreeBSD 13.3
	Kernel: 13.3-RELEASE-p1
	Compiler: clang 17.0.6

FreeBSD 14.0
	Kernel: 14.0
	Compiler: clang 16.0.6

Windows Server 2019
	Kernel: 10.0.17763
	Compiler: clang 14.0 and gcc 8.1.0 (MinGW)

To view detailed results, visit:
https://lab.dpdk.org/results/dashboard/patchsets/30096/

UNH-IOL DPDK Community Lab

To manage your email subscriptions, visit: 
https://lab.dpdk.org/results/dashboard/preferences/subscriptions/