From mboxrd@z Thu Jan  1 00:00:00 1970
Return-Path: <test-report-bounces@dpdk.org>
Received: from mails.dpdk.org (mails.dpdk.org [217.70.189.124])
	by inbox.dpdk.org (Postfix) with ESMTP id 504C744153
	for <public@inbox.dpdk.org>; Tue,  4 Jun 2024 13:03:33 +0200 (CEST)
Received: from mails.dpdk.org (localhost [127.0.0.1])
	by mails.dpdk.org (Postfix) with ESMTP id 49E12402EB;
	Tue,  4 Jun 2024 13:03:33 +0200 (CEST)
Received: from mail-io1-f97.google.com (mail-io1-f97.google.com
 [209.85.166.97]) by mails.dpdk.org (Postfix) with ESMTP id 4B3CA40041
 for <test-report@dpdk.org>; Tue,  4 Jun 2024 13:03:32 +0200 (CEST)
Received: by mail-io1-f97.google.com with SMTP id
 ca18e2360f4ac-7ea7bcc72caso229349539f.0
 for <test-report@dpdk.org>; Tue, 04 Jun 2024 04:03:32 -0700 (PDT)
DKIM-Signature: v=1; a=rsa-sha256; c=relaxed/relaxed;
 d=iol.unh.edu; s=unh-iol; t=1717499011; x=1718103811; darn=dpdk.org;
 h=references:in-reply-to:cc:to:from:subject:message-id:date:from:to
 :cc:subject:date:message-id:reply-to;
 bh=/NkVjIJq+Fb/i5jDVRhC1HRDK85DogXfS6YVo/NtYJU=;
 b=GaL8W3FOOL0TvJ54r5gthICNumzrqPROBXRyudkaXi4mpOHCFFKo5GuXbdFRhwsnMR
 H1aac2pqeIa3L/xTPzUSnycIQOlD0+aruMlQQie7WxSiIvCbe1vqYgNUp1z8M/rI7eEh
 Kihx6uq/2rXwYZfkrY24v7oFzrvLEEQeQOfeI=
X-Google-DKIM-Signature: v=1; a=rsa-sha256; c=relaxed/relaxed;
 d=1e100.net; s=20230601; t=1717499011; x=1718103811;
 h=references:in-reply-to:cc:to:from:subject:message-id:date
 :x-gm-message-state:from:to:cc:subject:date:message-id:reply-to;
 bh=/NkVjIJq+Fb/i5jDVRhC1HRDK85DogXfS6YVo/NtYJU=;
 b=GJUmI9g7/umg9K2DmHoF3cRxnzd2bJWBSHgpMDgRYnvdD0gUx964mxz5nrXA6D8bac
 Uw74ZSaz6T2aeOJvxF+x4eZHdVqPMb5E8WagtcEpacZdKkJAzL6zZRV9eVnIqTNW43br
 iakEy0kHZmiGYS5IJtgCTO72nzc+iSEAbXD1yIaR69JpJdT/UrIvZFFi1+gk7zOBHLNJ
 BhLNQFTwfxgoZ1w0lKGZg2nCUbplSUmE9aEXhgAlGymXVcthJMowkLC3vjfeyXHzFo8O
 6Zm7fQBVLmmkZzO969sLbOJqgP0bWF8Hd3mm/KL9t0nAueNPCxx2oriiRYFxL/8uNCwS
 nTNA==
X-Gm-Message-State: AOJu0YzaKZsbplWVjI41OV2BBlbDniBDT10K7mwSC0O3IYpltOQr8wkt
 9uYWlyuTgOhVfEAVGiQOnq1kyA6cQUTpaKQsn+AAx+7/zwB9RFoLKIyIeyO4omDTDFcyQdT/1A/
 79xSWjw1ny4Sq9hwi8vljwpgmPFI5CbqsseWAUXsC
X-Google-Smtp-Source: AGHT+IEAwR/eL47a6KN/TjzTz4eVAeqXCpD4DYFs6tWh5D59UOJfWjD3h1JjY2g9421xT75XEXBAXZ+8F/CM
X-Received: by 2002:a05:6602:15ce:b0:7ea:feba:6d29 with SMTP id
 ca18e2360f4ac-7eaffe776a7mr1695109939f.1.1717499002688; 
 Tue, 04 Jun 2024 04:03:22 -0700 (PDT)
Received: from postal.iol.unh.edu (postal.iol.unh.edu. [132.177.123.84])
 by smtp-relay.gmail.com with ESMTPS id
 8926c6da1cb9f-4b5794e2c57sm136988173.81.2024.06.04.04.03.22
 (version=TLS1_2 cipher=ECDHE-ECDSA-AES128-GCM-SHA256 bits=128/128);
 Tue, 04 Jun 2024 04:03:22 -0700 (PDT)
X-Relaying-Domain: iol.unh.edu
Date: Tue, 04 Jun 2024 04:03:22 -0700 (PDT)
Message-ID: <665ef47a.020a0220.1dc1f.ac30SMTPIN_ADDED_MISSING@mx.google.com>
Received: from [172.17.0.3] (unknown [172.18.0.217])
 by postal.iol.unh.edu (Postfix) with ESMTP id 29BC4605C373;
 Tue,  4 Jun 2024 07:03:22 -0400 (EDT)
Subject: |SUCCESS| pw140675-140695 [PATCH] [v2,21/21] drivers: adding type to
From: dpdklab@iol.unh.edu
To: Test Report <test-report@dpdk.org>
Cc: dpdk-test-reports@iol.unh.edu
In-Reply-To: <20240604080611.2197835-22-soumyadeep.hore@intel.com>
References: <20240604080611.2197835-22-soumyadeep.hore@intel.com>
Content-Type: text/plain
X-BeenThere: test-report@dpdk.org
X-Mailman-Version: 2.1.29
Precedence: list
List-Id: automatic DPDK test reports <test-report.dpdk.org>
List-Unsubscribe: <https://mails.dpdk.org/options/test-report>,
 <mailto:test-report-request@dpdk.org?subject=unsubscribe>
List-Archive: <http://mails.dpdk.org/archives/test-report/>
List-Post: <mailto:test-report@dpdk.org>
List-Help: <mailto:test-report-request@dpdk.org?subject=help>
List-Subscribe: <https://mails.dpdk.org/listinfo/test-report>,
 <mailto:test-report-request@dpdk.org?subject=subscribe>
Errors-To: test-report-bounces@dpdk.org

Test-Label: iol-unit-amd64-testing
Test-Status: SUCCESS
http://dpdk.org/patch/140695

_Testing PASS_

Submitter: Soumyadeep Hore <soumyadeep.hore@intel.com>
Date: Tuesday, June 04 2024 08:06:11 
DPDK git baseline: Repo:dpdk
  Branch: master
  CommitID:0d761dfc89b71fa46193a545cce3fbe2613856a6

140675-140695 --> testing pass

Test environment and result as below:

+---------------------+----------------+
|     Environment     | dpdk_unit_test |
+=====================+================+
| Windows Server 2019 | PASS           |
+---------------------+----------------+
| Windows Server 2022 | PASS           |
+---------------------+----------------+
| CentOS Stream 8     | PASS           |
+---------------------+----------------+
| CentOS Stream 9     | PASS           |
+---------------------+----------------+
| Debian Bullseye     | PASS           |
+---------------------+----------------+
| Debian 12           | PASS           |
+---------------------+----------------+


Windows Server 2019
	Kernel: 10.0.17763
	Compiler: clang 14.0 and gcc 8.1.0 (MinGW)

Windows Server 2022
	Kernel: 10.0.20348.2031
	Compiler: clang 15.0.7, gcc 8.1.0 (MinGW), and MSVC VS 17.9

CentOS Stream 8
	Kernel: 5.4.0-167-generic
	Compiler: gcc 8.5.0 20210514

CentOS Stream 9
	Kernel: 5.4.0-167-generic
	Compiler: gcc 11.4.1 20230605

Debian Bullseye
	Kernel: 5.4.0-167-generic
	Compiler: gcc 10.2.1-6

Debian 12
	Kernel: Container Host Kernel
	Compiler: gcc 10.2.1

To view detailed results, visit:
https://lab.dpdk.org/results/dashboard/patchsets/30096/

UNH-IOL DPDK Community Lab

To manage your email subscriptions, visit: 
https://lab.dpdk.org/results/dashboard/preferences/subscriptions/