From mboxrd@z Thu Jan  1 00:00:00 1970
Return-Path: <test-report-bounces@dpdk.org>
Received: from mails.dpdk.org (mails.dpdk.org [217.70.189.124])
	by inbox.dpdk.org (Postfix) with ESMTP id 3A3D444153
	for <public@inbox.dpdk.org>; Tue,  4 Jun 2024 14:16:52 +0200 (CEST)
Received: from mails.dpdk.org (localhost [127.0.0.1])
	by mails.dpdk.org (Postfix) with ESMTP id 343A343723;
	Tue,  4 Jun 2024 14:16:52 +0200 (CEST)
Received: from mail-qv1-f100.google.com (mail-qv1-f100.google.com
 [209.85.219.100])
 by mails.dpdk.org (Postfix) with ESMTP id 48912402E3
 for <test-report@dpdk.org>; Tue,  4 Jun 2024 14:16:51 +0200 (CEST)
Received: by mail-qv1-f100.google.com with SMTP id
 6a1803df08f44-6af5b9137a9so13721686d6.1
 for <test-report@dpdk.org>; Tue, 04 Jun 2024 05:16:51 -0700 (PDT)
DKIM-Signature: v=1; a=rsa-sha256; c=relaxed/relaxed;
 d=iol.unh.edu; s=unh-iol; t=1717503410; x=1718108210; darn=dpdk.org;
 h=references:in-reply-to:cc:to:from:subject:message-id:date:from:to
 :cc:subject:date:message-id:reply-to;
 bh=cKEo51QVYMI4BVf8DRbQVYlLODQFdOrWAMp6p5Nnhdg=;
 b=AR053D1fnDF6tJI2P1dkNmLHFCstP7zMMuXRA6BcIDfmPmDOHGzCif26haF1XwGmtj
 rM5JHFfFMg8z+7IRwXka7Zq3Rrdm/sAHmG5o+rFwYvHy8xw95SDLqyaovQIJQgs1Ot4h
 7fh5GwiluIw3N8r9/ZIzVVl8oVmkttq0mCCsk=
X-Google-DKIM-Signature: v=1; a=rsa-sha256; c=relaxed/relaxed;
 d=1e100.net; s=20230601; t=1717503410; x=1718108210;
 h=references:in-reply-to:cc:to:from:subject:message-id:date
 :x-gm-message-state:from:to:cc:subject:date:message-id:reply-to;
 bh=cKEo51QVYMI4BVf8DRbQVYlLODQFdOrWAMp6p5Nnhdg=;
 b=Kz1ctpoQ8H2Ee1QQ4NsI3W3a8hkmbNbyHqn2t6wAkfs5hZBnVRpLz5PV0DPQF2ITFx
 pW7sESxEuuIPF+SjFLBadN7FOvhZw6FXJsuyR6Z3EgAFT5wFlW/OWcxGGtKfmcRHMRIZ
 hRgz3ao6oYguKBQtD+xKohw6OGDWhuJFCiKheBnLU1lh4N+acIckDOi/1coVokIEfxZ2
 yym4UvE6W6M2ReuFCeyCcpYDj8kmlT9VuYcT9e4OUfqI6/EdrZxD2mqOnQtVBSScVjnH
 CBzQ7Jl4UFE3Crj9b7x4oAbIwwnaXExK/lT3Gzth3tQR+M4I1+Zwe3IA+UTReOOfgpcX
 IzfA==
X-Gm-Message-State: AOJu0YyAM18OFciLGMaowx4+3FV8lEVIbuMLv4Z9g942DpM8Qa9cRcgu
 glEMRsXToFGSr0GlVZKHJQL10S08rGtk7YFWubHbI5/t9dY6iCT1VW0erjNLYh/9nkRwODlEdO9
 BqXdu8E6ETZh/HRMoQ5Q71DfiXtEbVAeEIt4VktPj
X-Google-Smtp-Source: AGHT+IEJgGYfhVCQYrNRgMK5V/3R/DF6XzJNHveQZI+QPFDpyyYFmokSQPP7DnuFacERUUkkE5Z3neRcTlKd
X-Received: by 2002:a05:6214:3d0a:b0:6ab:9973:4a5a with SMTP id
 6a1803df08f44-6aecd5a3383mr153905546d6.19.1717503410763; 
 Tue, 04 Jun 2024 05:16:50 -0700 (PDT)
Received: from postal.iol.unh.edu (postal.iol.unh.edu. [132.177.123.84])
 by smtp-relay.gmail.com with ESMTPS id
 6a1803df08f44-6ae4b406522sm5320486d6.74.2024.06.04.05.16.50
 (version=TLS1_2 cipher=ECDHE-ECDSA-AES128-GCM-SHA256 bits=128/128);
 Tue, 04 Jun 2024 05:16:50 -0700 (PDT)
X-Relaying-Domain: iol.unh.edu
Date: Tue, 04 Jun 2024 05:16:50 -0700 (PDT)
Message-ID: <665f05b2.050a0220.13a0f.b657SMTPIN_ADDED_MISSING@mx.google.com>
Received: from [172.17.0.2] (unknown [172.18.0.217])
 by postal.iol.unh.edu (Postfix) with ESMTP id 69248605C373;
 Tue,  4 Jun 2024 08:16:50 -0400 (EDT)
Subject: |SUCCESS| pw140675-140695 [PATCH] [v2,21/21] drivers: adding type to
From: dpdklab@iol.unh.edu
To: Test Report <test-report@dpdk.org>
Cc: dpdk-test-reports@iol.unh.edu
In-Reply-To: <20240604080611.2197835-22-soumyadeep.hore@intel.com>
References: <20240604080611.2197835-22-soumyadeep.hore@intel.com>
Content-Type: text/plain
X-BeenThere: test-report@dpdk.org
X-Mailman-Version: 2.1.29
Precedence: list
List-Id: automatic DPDK test reports <test-report.dpdk.org>
List-Unsubscribe: <https://mails.dpdk.org/options/test-report>,
 <mailto:test-report-request@dpdk.org?subject=unsubscribe>
List-Archive: <http://mails.dpdk.org/archives/test-report/>
List-Post: <mailto:test-report@dpdk.org>
List-Help: <mailto:test-report-request@dpdk.org?subject=help>
List-Subscribe: <https://mails.dpdk.org/listinfo/test-report>,
 <mailto:test-report-request@dpdk.org?subject=subscribe>
Errors-To: test-report-bounces@dpdk.org

Test-Label: iol-compile-arm64-testing
Test-Status: SUCCESS
http://dpdk.org/patch/140695

_Testing PASS_

Submitter: Soumyadeep Hore <soumyadeep.hore@intel.com>
Date: Tuesday, June 04 2024 08:06:11 
DPDK git baseline: Repo:dpdk
  Branch: master
  CommitID:0d761dfc89b71fa46193a545cce3fbe2613856a6

140675-140695 --> testing pass

Test environment and result as below:

+----------------------+--------------------+
|     Environment      | dpdk_meson_compile |
+======================+====================+
| Ubuntu 20.04 ARM SVE | PASS               |
+----------------------+--------------------+
| Debian 12 with MUSDK | PASS               |
+----------------------+--------------------+
| Fedora 39 (ARM)      | PASS               |
+----------------------+--------------------+
| Fedora 38 (ARM)      | PASS               |
+----------------------+--------------------+
| Fedora 37 (ARM)      | PASS               |
+----------------------+--------------------+
| Ubuntu 22.04 (ARM)   | PASS               |
+----------------------+--------------------+


Ubuntu 20.04 ARM SVE
	Kernel: 5.4.0-167-generic
	Compiler: gcc (Ubuntu 10.5.0-1ubuntu1~20.04) 10.5.0

Debian 12 with MUSDK
	Kernel: Container Host Kernel
	Compiler: gcc 12.2.0

Fedora 39 (ARM)
	Kernel: Depends on container host
	Compiler: gcc 13.2.1

Fedora 38 (ARM)
	Kernel: Depends on container host
	Compiler: gcc 13.2.1

Fedora 37 (ARM)
	Kernel: Depends on container host
	Compiler: gcc 12.3.1

Ubuntu 22.04 (ARM)
	Kernel: Container Host Kernel
	Compiler: gcc 11.4.0

To view detailed results, visit:
https://lab.dpdk.org/results/dashboard/patchsets/30096/

UNH-IOL DPDK Community Lab

To manage your email subscriptions, visit: 
https://lab.dpdk.org/results/dashboard/preferences/subscriptions/