From mboxrd@z Thu Jan  1 00:00:00 1970
Return-Path: <test-report-bounces@dpdk.org>
Received: from mails.dpdk.org (mails.dpdk.org [217.70.189.124])
	by inbox.dpdk.org (Postfix) with ESMTP id 9119144155
	for <public@inbox.dpdk.org>; Tue,  4 Jun 2024 16:48:55 +0200 (CEST)
Received: from mails.dpdk.org (localhost [127.0.0.1])
	by mails.dpdk.org (Postfix) with ESMTP id 8C36840E68;
	Tue,  4 Jun 2024 16:48:55 +0200 (CEST)
Received: from mail-oa1-f98.google.com (mail-oa1-f98.google.com
 [209.85.160.98]) by mails.dpdk.org (Postfix) with ESMTP id 477CB4026E
 for <test-report@dpdk.org>; Tue,  4 Jun 2024 16:48:54 +0200 (CEST)
Received: by mail-oa1-f98.google.com with SMTP id
 586e51a60fabf-250bbae0ff6so1150007fac.0
 for <test-report@dpdk.org>; Tue, 04 Jun 2024 07:48:54 -0700 (PDT)
DKIM-Signature: v=1; a=rsa-sha256; c=relaxed/relaxed;
 d=iol.unh.edu; s=unh-iol; t=1717512533; x=1718117333; darn=dpdk.org;
 h=references:in-reply-to:cc:to:from:subject:message-id:date:from:to
 :cc:subject:date:message-id:reply-to;
 bh=gRIY3/5lyPpFiPmEtDhdhqU1gAfaqeAJXvBxLEQFKkw=;
 b=T6UxYNvOIf1fQg3mWWxqOvCG+0uvnxjUCRgmjfJdzpcyLLNs2XJiLOOwCtAyMp43oR
 zqRcLfO8iZvMax+C0UhS16ZDlIPtP9WHLw2b5VJxrh/1lI2qR+utGVjJQdzJHzwExiA1
 zGGMG9HZvljnVV+7DD3hZXxFlhkRtMaKKzBMw=
X-Google-DKIM-Signature: v=1; a=rsa-sha256; c=relaxed/relaxed;
 d=1e100.net; s=20230601; t=1717512533; x=1718117333;
 h=references:in-reply-to:cc:to:from:subject:message-id:date
 :x-gm-message-state:from:to:cc:subject:date:message-id:reply-to;
 bh=gRIY3/5lyPpFiPmEtDhdhqU1gAfaqeAJXvBxLEQFKkw=;
 b=Ma6JOGyU0FEbDbPciLdQLpXZ/i7IRGpOe5HpecH4QeClRLoJ4OrTqRhcuZk2kVlABX
 FMMJXC1Eg8yvgEPhn4hUCSL5YM3NfiSMaVJGKbcen6kFkDBS/G9N/0KEPCPs+m4eqMvd
 lbA40CZOE8RWvA1BdqVDnB04zsPWB2s9yivbceEy596BQURFet4Gk091Jv64q7b0wUdX
 rwV7VQ8/B5eYmhjwgZXfjR6FNlKM6kxPcAbtnpH9EkKeCaWaVr6xEh3Bnzf+5mhgsLHx
 mkKTN9E+4rBh5y2+CevboK4343t64vSWl7RpJt5XU3PDBWAFZcLxmr6zSPgpsEAIbYec
 uSwA==
X-Gm-Message-State: AOJu0YyTWuDLIphSiQOBeUOxWV1+BZSw4PzKFLVPkd6G9q77P3G2XDAV
 38B+vhbyBxU78RvGTvqZobCJ/leKRcxgc9yvMuw2FtTmVgNX0pALvDquYHZQNHYVR6WiXhDd+fI
 icD/9tF5eJVAlsRxay64PtcDLcMGIQU7hQOvWJXFcmA/esuiEEj5LII/W
X-Google-Smtp-Source: AGHT+IG5dpJbDelGe+hGc9IeB1EdiaahFQhNWuZ2VqtwUEbTc+ZtNT0EGpfTxLoDKEIknMt2mM1f+B3OXRtp
X-Received: by 2002:a05:6871:5824:b0:24d:e843:2966 with SMTP id
 586e51a60fabf-250ffa2bdedmr1167640fac.6.1717512533483; 
 Tue, 04 Jun 2024 07:48:53 -0700 (PDT)
Received: from postal.iol.unh.edu (postal.iol.unh.edu.
 [2606:4100:3880:1234::84]) by smtp-relay.gmail.com with ESMTPS id
 586e51a60fabf-2509adac5f4sm303863fac.15.2024.06.04.07.48.53
 (version=TLS1_2 cipher=ECDHE-ECDSA-AES128-GCM-SHA256 bits=128/128);
 Tue, 04 Jun 2024 07:48:53 -0700 (PDT)
X-Relaying-Domain: iol.unh.edu
Date: Tue, 04 Jun 2024 07:48:53 -0700 (PDT)
Message-ID: <665f2955.050a0220.19142.815eSMTPIN_ADDED_MISSING@mx.google.com>
Received: from [172.21.0.6] (unknown [172.18.0.240])
 by postal.iol.unh.edu (Postfix) with ESMTP id D1E63605C373;
 Tue,  4 Jun 2024 10:48:52 -0400 (EDT)
Subject: |SUCCESS| pw140696-140720 [PATCH] [v3,25/25] net/axgbe: modify debug
From: dpdklab@iol.unh.edu
To: Test Report <test-report@dpdk.org>
Cc: dpdk-test-reports@iol.unh.edu
In-Reply-To: <20240604121157.3052-25-venkatkumar.ande@amd.com>
References: <20240604121157.3052-25-venkatkumar.ande@amd.com>
Content-Type: text/plain
X-BeenThere: test-report@dpdk.org
X-Mailman-Version: 2.1.29
Precedence: list
List-Id: automatic DPDK test reports <test-report.dpdk.org>
List-Unsubscribe: <https://mails.dpdk.org/options/test-report>,
 <mailto:test-report-request@dpdk.org?subject=unsubscribe>
List-Archive: <http://mails.dpdk.org/archives/test-report/>
List-Post: <mailto:test-report@dpdk.org>
List-Help: <mailto:test-report-request@dpdk.org?subject=help>
List-Subscribe: <https://mails.dpdk.org/listinfo/test-report>,
 <mailto:test-report-request@dpdk.org?subject=subscribe>
Errors-To: test-report-bounces@dpdk.org

Test-Label: iol-unit-amd64-testing
Test-Status: SUCCESS
http://dpdk.org/patch/140720

_Testing PASS_

Submitter: Venkat Kumar Ande <venkatkumar.ande@amd.com>
Date: Tuesday, June 04 2024 12:11:57 
DPDK git baseline: Repo:dpdk
  Branch: master
  CommitID:a6bbf008457a455fcf4cf7374c280bba697a353f

140696-140720 --> testing pass

Test environment and result as below:

+---------------------+----------------+
|     Environment     | dpdk_unit_test |
+=====================+================+
| Windows Server 2019 | PASS           |
+---------------------+----------------+
| CentOS Stream 9     | PASS           |
+---------------------+----------------+
| Windows Server 2022 | PASS           |
+---------------------+----------------+
| CentOS Stream 8     | PASS           |
+---------------------+----------------+
| Debian 12           | PASS           |
+---------------------+----------------+
| Debian Bullseye     | PASS           |
+---------------------+----------------+
| Fedora 38           | PASS           |
+---------------------+----------------+
| Fedora 37           | PASS           |
+---------------------+----------------+
| Fedora 39           | PASS           |
+---------------------+----------------+


Windows Server 2019
	Kernel: 10.0.17763
	Compiler: clang 14.0 and gcc 8.1.0 (MinGW)

CentOS Stream 9
	Kernel: 5.4.0-167-generic
	Compiler: gcc 11.4.1 20230605

Windows Server 2022
	Kernel: 10.0.20348.2031
	Compiler: clang 15.0.7, gcc 8.1.0 (MinGW), and MSVC VS 17.9

CentOS Stream 8
	Kernel: 5.4.0-167-generic
	Compiler: gcc 8.5.0 20210514

Debian 12
	Kernel: Container Host Kernel
	Compiler: gcc 10.2.1

Debian Bullseye
	Kernel: 5.4.0-167-generic
	Compiler: gcc 10.2.1-6

Fedora 38
	Kernel: Depends on container host
	Compiler: gcc 13.2.1

Fedora 37
	Kernel: Depends on container host system
	Compiler: gcc 12.3.1

Fedora 39
	Kernel: Depends on container host
	Compiler: clang 17.0.6

To view detailed results, visit:
https://lab.dpdk.org/results/dashboard/patchsets/30097/

UNH-IOL DPDK Community Lab

To manage your email subscriptions, visit: 
https://lab.dpdk.org/results/dashboard/preferences/subscriptions/