From mboxrd@z Thu Jan  1 00:00:00 1970
Return-Path: <test-report-bounces@dpdk.org>
Received: from mails.dpdk.org (mails.dpdk.org [217.70.189.124])
	by inbox.dpdk.org (Postfix) with ESMTP id F3C1944155
	for <public@inbox.dpdk.org>; Tue,  4 Jun 2024 16:51:23 +0200 (CEST)
Received: from mails.dpdk.org (localhost [127.0.0.1])
	by mails.dpdk.org (Postfix) with ESMTP id 5972B40E68;
	Tue,  4 Jun 2024 16:51:22 +0200 (CEST)
Received: from mail-pf1-f228.google.com (mail-pf1-f228.google.com
 [209.85.210.228])
 by mails.dpdk.org (Postfix) with ESMTP id 7511A40E68
 for <test-report@dpdk.org>; Tue,  4 Jun 2024 16:51:20 +0200 (CEST)
Received: by mail-pf1-f228.google.com with SMTP id
 d2e1a72fcca58-70264bcb631so2130431b3a.2
 for <test-report@dpdk.org>; Tue, 04 Jun 2024 07:51:20 -0700 (PDT)
DKIM-Signature: v=1; a=rsa-sha256; c=relaxed/relaxed;
 d=iol.unh.edu; s=unh-iol; t=1717512679; x=1718117479; darn=dpdk.org;
 h=references:in-reply-to:cc:to:from:subject:message-id:date:from:to
 :cc:subject:date:message-id:reply-to;
 bh=fbqjHNtJ6Ah82F7saefYGS+8CmtKlyOEMJhujKIPGz8=;
 b=gJE8bUwq7dP8fPXpAPE1gH2TvYdkmPMgY+VO6YwxTbHYtFCThJNxTQLVECHaZBGw/a
 f88IXcLDZWVAxnnAoXeD/mhIFDX9QlcMRSz5c/GdxK6UGaEuuVTxrYDv0OT0x/xm5Gnc
 BQUaIQojECwKAiMeCPF1Fgf5UliW8sxi8fgqA=
X-Google-DKIM-Signature: v=1; a=rsa-sha256; c=relaxed/relaxed;
 d=1e100.net; s=20230601; t=1717512679; x=1718117479;
 h=references:in-reply-to:cc:to:from:subject:message-id:date
 :x-gm-message-state:from:to:cc:subject:date:message-id:reply-to;
 bh=fbqjHNtJ6Ah82F7saefYGS+8CmtKlyOEMJhujKIPGz8=;
 b=qVOx32ERCE+fecyvJHImGGauMM2KRLN4ilsQhZgWbgcbAbucSXpLHVdMNw4USaVy8y
 hPz3M0wC2vuXaQMMdiVvj37LQjBEjGiTUEaVVfEmeP3BI3jocCGjV+dynPCzfRIpHDli
 NF4SBYFCX7QdKZ41z6mQ0aMSNdIU6V1OgZs+c0gS1enJhGdWbOLV213eTHcQ8vY/gkmj
 j+J5i1ik8m0c4MIyMpfjvpe3GYSZ2wsXClIoaBNE7QH+n045VMrMSUIHi7s3IbhmChS6
 5PK6nq5ihdBfM4/dPw0TpOeWwMEfeh2u391iOH2hXdmeTtzuRomLmFErtxqqPOuTvI/E
 1UNQ==
X-Gm-Message-State: AOJu0YwnbTpBS+vCPecJ0azLUU6hTKGi8hUuAa50HsE1FRN4WbtngmbR
 OULXbsr/AtV0V0uq4qEpwn9xifD+yg5xQlXiJqwtq+HW4LsUtuY0YpPPcQGiL5/hpyJCX2WFNrU
 LAUcTNzckuLXN3oocy/r+E1LNEJdrz2CmT6y+BrXz
X-Google-Smtp-Source: AGHT+IEf/wuSYokX9Q6tICqpsHuzHzlxPF14Q1j4KHXvbiaoueKZ4GYtpsB06fltwldbvBFnlMem70zB6WAU
X-Received: by 2002:a05:6a00:234a:b0:6ed:1c7:8c6b with SMTP id
 d2e1a72fcca58-702477b664emr14426004b3a.1.1717512679665; 
 Tue, 04 Jun 2024 07:51:19 -0700 (PDT)
Received: from postal.iol.unh.edu (postal.iol.unh.edu. [132.177.123.84])
 by smtp-relay.gmail.com with ESMTPS id
 d2e1a72fcca58-70242c27668sm256849b3a.25.2024.06.04.07.51.19
 (version=TLS1_2 cipher=ECDHE-ECDSA-AES128-GCM-SHA256 bits=128/128);
 Tue, 04 Jun 2024 07:51:19 -0700 (PDT)
X-Relaying-Domain: iol.unh.edu
Date: Tue, 04 Jun 2024 07:51:19 -0700 (PDT)
Message-ID: <665f29e7.050a0220.eae1f.3006SMTPIN_ADDED_MISSING@mx.google.com>
Received: from [172.21.0.6] (unknown [172.18.0.240])
 by postal.iol.unh.edu (Postfix) with ESMTP id AF29B605C373;
 Tue,  4 Jun 2024 10:51:18 -0400 (EDT)
Subject: |SUCCESS| pw140696-140720 [PATCH] [v3,25/25] net/axgbe: modify debug
From: dpdklab@iol.unh.edu
To: Test Report <test-report@dpdk.org>
Cc: dpdk-test-reports@iol.unh.edu
In-Reply-To: <20240604121157.3052-25-venkatkumar.ande@amd.com>
References: <20240604121157.3052-25-venkatkumar.ande@amd.com>
Content-Type: text/plain
X-BeenThere: test-report@dpdk.org
X-Mailman-Version: 2.1.29
Precedence: list
List-Id: automatic DPDK test reports <test-report.dpdk.org>
List-Unsubscribe: <https://mails.dpdk.org/options/test-report>,
 <mailto:test-report-request@dpdk.org?subject=unsubscribe>
List-Archive: <http://mails.dpdk.org/archives/test-report/>
List-Post: <mailto:test-report@dpdk.org>
List-Help: <mailto:test-report-request@dpdk.org?subject=help>
List-Subscribe: <https://mails.dpdk.org/listinfo/test-report>,
 <mailto:test-report-request@dpdk.org?subject=subscribe>
Errors-To: test-report-bounces@dpdk.org

Test-Label: iol-abi-testing
Test-Status: SUCCESS
http://dpdk.org/patch/140720

_Testing PASS_

Submitter: Venkat Kumar Ande <venkatkumar.ande@amd.com>
Date: Tuesday, June 04 2024 12:11:57 
DPDK git baseline: Repo:dpdk
  Branch: master
  CommitID:a6bbf008457a455fcf4cf7374c280bba697a353f

140696-140720 --> testing pass

Test environment and result as below:

+------------------+----------+
|   Environment    | abi_test |
+==================+==========+
| Fedora 38        | PASS     |
+------------------+----------+
| Debian 12        | PASS     |
+------------------+----------+
| RHEL8            | PASS     |
+------------------+----------+
| CentOS Stream 8  | PASS     |
+------------------+----------+
| CentOS Stream 9  | PASS     |
+------------------+----------+
| Fedora 39        | PASS     |
+------------------+----------+
| Debian Bullseye  | PASS     |
+------------------+----------+
| Fedora 37        | PASS     |
+------------------+----------+
| Ubuntu 22.04     | PASS     |
+------------------+----------+
| openSUSE Leap 15 | PASS     |
+------------------+----------+


Fedora 38
	Kernel: Depends on container host
	Compiler: clang 16.0.6

Debian 12
	Kernel: Container Host Kernel
	Compiler: gcc 10.2.1

RHEL8
	Kernel: 5.4.0-167-generic
	Compiler: gcc 8.5.0 20210514 (Red Hat 8.5.0-20)

CentOS Stream 8
	Kernel: 5.4.0-167-generic
	Compiler: gcc 8.5.0 20210514

CentOS Stream 9
	Kernel: 5.4.0-167-generic
	Compiler: gcc 11.4.1 20230605

Fedora 39
	Kernel: Depends on container host
	Compiler: clang 17.0.6

Debian Bullseye
	Kernel: 5.4.0-167-generic
	Compiler: gcc 10.2.1-6

Fedora 37
	Kernel: Depends on container host system
	Compiler: gcc 12.3.1

Ubuntu 22.04
	Kernel: 5.4.0-167-generic
	Compiler: gcc 11.4.0

openSUSE Leap 15
	Kernel: 5.4.0-167-generic
	Compiler: gcc 7.5.0

To view detailed results, visit:
https://lab.dpdk.org/results/dashboard/patchsets/30097/

UNH-IOL DPDK Community Lab

To manage your email subscriptions, visit: 
https://lab.dpdk.org/results/dashboard/preferences/subscriptions/