From mboxrd@z Thu Jan  1 00:00:00 1970
Return-Path: <test-report-bounces@dpdk.org>
Received: from mails.dpdk.org (mails.dpdk.org [217.70.189.124])
	by inbox.dpdk.org (Postfix) with ESMTP id 266684414D
	for <public@inbox.dpdk.org>; Tue,  4 Jun 2024 19:19:44 +0200 (CEST)
Received: from mails.dpdk.org (localhost [127.0.0.1])
	by mails.dpdk.org (Postfix) with ESMTP id 1FB934026E;
	Tue,  4 Jun 2024 19:19:44 +0200 (CEST)
Received: from mail-io1-f98.google.com (mail-io1-f98.google.com
 [209.85.166.98]) by mails.dpdk.org (Postfix) with ESMTP id 288364026C
 for <test-report@dpdk.org>; Tue,  4 Jun 2024 19:19:42 +0200 (CEST)
Received: by mail-io1-f98.google.com with SMTP id
 ca18e2360f4ac-7e24b38c022so1793139f.0
 for <test-report@dpdk.org>; Tue, 04 Jun 2024 10:19:42 -0700 (PDT)
DKIM-Signature: v=1; a=rsa-sha256; c=relaxed/relaxed;
 d=iol.unh.edu; s=unh-iol; t=1717521581; x=1718126381; darn=dpdk.org;
 h=references:in-reply-to:cc:to:from:subject:message-id:date:from:to
 :cc:subject:date:message-id:reply-to;
 bh=/onDE9PNjo5V5LWq5mOEHh7yyFrKgpDbamGrt6aFgH0=;
 b=Cfih3ueC//3xbTiMMgMIALEpJVrJq2QX8cBkgb6NdAN4r97xzY2XnBRGFaczvLYj0f
 1An/Wq6ul6H1WGINlEJrViyBKfxEVo7KpCNg26U3dWmjOUDifScB+WE6drhX+0DVvJBs
 uoheL3/TfsQw78JpXMlMKJn/z147f97V4XiB0=
X-Google-DKIM-Signature: v=1; a=rsa-sha256; c=relaxed/relaxed;
 d=1e100.net; s=20230601; t=1717521581; x=1718126381;
 h=references:in-reply-to:cc:to:from:subject:message-id:date
 :x-gm-message-state:from:to:cc:subject:date:message-id:reply-to;
 bh=/onDE9PNjo5V5LWq5mOEHh7yyFrKgpDbamGrt6aFgH0=;
 b=CzCFN86qs3TJelcJ696wu9Gkyy4kM3Az4lGUTmOfyYGxzT1bWcMyd+Ny8CHayw3cx3
 CqH3+NC4J2x8ybrrqwE70/qJdzOYEMVa+RJ5EGcBSl57W3O4lrOeRQqpB8N9KoUyWlai
 BkvYaARpJkMCo1O+3BS96piE6yqIHIvq3DcGxpID9zkOUSKeKTqqA5F4GSyBmZOZrPbe
 /6fHL/tfRff6M7380ovzJwNVjEBrwmiKms15w/Py8NCuZ6nmGbwTfKclPbfFYE8ZYIaO
 SeKync8BgMvOs4GKfMrB8difRX+zflsU28QZBVcd5rPp46x7sfczUtFXWWvB78H2hNg0
 UKPw==
X-Gm-Message-State: AOJu0YwEerJe5FqLHzO0Ts6/E0kpiTc3emZMMXY4Ejk1VsUYhQ/7l2dZ
 wCxtityYqdqqFcekG12MsWeGVnOPIXtmPPs698Y+fRGku4cJTLNtMkEVO0tFI7DbObU9i7s9frj
 N2NvPJHS1CbuOCJjweHz2OWVT4bsH6GfO6xHRebkmIpokMm8IQEG+4Oqn
X-Google-Smtp-Source: AGHT+IENQ/awWR917D6GtJQipCQhzYTzvYN/8LqqSgju1yQS3XZboX8j0Wu9NQhmAP8PUQYknZGmtE1tGnPd
X-Received: by 2002:a05:6602:3409:b0:7ea:fc3b:11 with SMTP id
 ca18e2360f4ac-7eb3ade25famr20661739f.3.1717521581566; 
 Tue, 04 Jun 2024 10:19:41 -0700 (PDT)
Received: from postal.iol.unh.edu (postal.iol.unh.edu.
 [2606:4100:3880:1234::84]) by smtp-relay.gmail.com with ESMTPS id
 ca18e2360f4ac-7eafe646863sm42433339f.31.2024.06.04.10.19.41
 (version=TLS1_2 cipher=ECDHE-ECDSA-AES128-GCM-SHA256 bits=128/128);
 Tue, 04 Jun 2024 10:19:41 -0700 (PDT)
X-Relaying-Domain: iol.unh.edu
Date: Tue, 04 Jun 2024 10:19:41 -0700 (PDT)
Message-ID: <665f4cad.5d0a0220.b2fbc.1844SMTPIN_ADDED_MISSING@mx.google.com>
Received: from [172.21.0.7] (unknown [172.18.0.240])
 by postal.iol.unh.edu (Postfix) with ESMTP id 39C59605C373;
 Tue,  4 Jun 2024 13:19:41 -0400 (EDT)
Subject: |SUCCESS| pw140433-140437 [PATCH] [v13,6/6] test: add unit test for 
From: dpdklab@iol.unh.edu
To: Test Report <test-report@dpdk.org>
Cc: dpdk-test-reports@iol.unh.edu
In-Reply-To: <20240530094042.1960212-7-paul.szczepanek@arm.com>
References: <20240530094042.1960212-7-paul.szczepanek@arm.com>
Content-Type: text/plain
X-BeenThere: test-report@dpdk.org
X-Mailman-Version: 2.1.29
Precedence: list
List-Id: automatic DPDK test reports <test-report.dpdk.org>
List-Unsubscribe: <https://mails.dpdk.org/options/test-report>,
 <mailto:test-report-request@dpdk.org?subject=unsubscribe>
List-Archive: <http://mails.dpdk.org/archives/test-report/>
List-Post: <mailto:test-report@dpdk.org>
List-Help: <mailto:test-report-request@dpdk.org?subject=help>
List-Subscribe: <https://mails.dpdk.org/listinfo/test-report>,
 <mailto:test-report-request@dpdk.org?subject=subscribe>
Errors-To: test-report-bounces@dpdk.org

Test-Label: iol-abi-testing
Test-Status: SUCCESS
http://dpdk.org/patch/140437

_Testing PASS RETEST #1_

Submitter: Paul Szczepanek <paul.szczepanek@arm.com>
Date: Thursday, May 30 2024 09:40:42 
DPDK git baseline: Repo:dpdk
  Branch: master
  CommitID:76cef1af8bdaeaf67a5c4ca5df3f221df994dc46

140433-140437 --> testing pass

Test environment and result as below:

+------------------+----------+
|   Environment    | abi_test |
+==================+==========+
| Fedora 38        | PASS     |
+------------------+----------+
| Debian 12        | PASS     |
+------------------+----------+
| Debian Bullseye  | PASS     |
+------------------+----------+
| Fedora 39        | PASS     |
+------------------+----------+
| RHEL8            | PASS     |
+------------------+----------+
| Fedora 37        | PASS     |
+------------------+----------+
| CentOS Stream 8  | PASS     |
+------------------+----------+
| CentOS Stream 9  | PASS     |
+------------------+----------+
| openSUSE Leap 15 | PASS     |
+------------------+----------+


Fedora 38
	Kernel: Depends on container host
	Compiler: clang 16.0.6

Debian 12
	Kernel: Container Host Kernel
	Compiler: gcc 10.2.1

Debian Bullseye
	Kernel: 5.4.0-167-generic
	Compiler: gcc 10.2.1-6

Fedora 39
	Kernel: Depends on container host
	Compiler: clang 17.0.6

RHEL8
	Kernel: 5.4.0-167-generic
	Compiler: gcc 8.5.0 20210514 (Red Hat 8.5.0-20)

Fedora 37
	Kernel: Depends on container host system
	Compiler: gcc 12.3.1

CentOS Stream 8
	Kernel: 5.4.0-167-generic
	Compiler: gcc 8.5.0 20210514

CentOS Stream 9
	Kernel: 5.4.0-167-generic
	Compiler: gcc 11.4.1 20230605

openSUSE Leap 15
	Kernel: 5.4.0-167-generic
	Compiler: gcc 7.5.0

To view detailed results, visit:
https://lab.dpdk.org/results/dashboard/patchsets/30048/

UNH-IOL DPDK Community Lab

To manage your email subscriptions, visit: 
https://lab.dpdk.org/results/dashboard/preferences/subscriptions/