From mboxrd@z Thu Jan  1 00:00:00 1970
Return-Path: <test-report-bounces@dpdk.org>
Received: from mails.dpdk.org (mails.dpdk.org [217.70.189.124])
	by inbox.dpdk.org (Postfix) with ESMTP id 5EF1F4414D
	for <public@inbox.dpdk.org>; Tue,  4 Jun 2024 19:20:16 +0200 (CEST)
Received: from mails.dpdk.org (localhost [127.0.0.1])
	by mails.dpdk.org (Postfix) with ESMTP id 5ADC74026E;
	Tue,  4 Jun 2024 19:20:16 +0200 (CEST)
Received: from mail-pl1-f226.google.com (mail-pl1-f226.google.com
 [209.85.214.226])
 by mails.dpdk.org (Postfix) with ESMTP id BD7694026C
 for <test-report@dpdk.org>; Tue,  4 Jun 2024 19:20:14 +0200 (CEST)
Received: by mail-pl1-f226.google.com with SMTP id
 d9443c01a7336-1f44b42e9a6so45768225ad.0
 for <test-report@dpdk.org>; Tue, 04 Jun 2024 10:20:14 -0700 (PDT)
DKIM-Signature: v=1; a=rsa-sha256; c=relaxed/relaxed;
 d=iol.unh.edu; s=unh-iol; t=1717521614; x=1718126414; darn=dpdk.org;
 h=references:in-reply-to:cc:to:from:subject:message-id:date:from:to
 :cc:subject:date:message-id:reply-to;
 bh=/onDE9PNjo5V5LWq5mOEHh7yyFrKgpDbamGrt6aFgH0=;
 b=R89bm9os/tZ+xsgTgGDPqpzyOXJGtrbpc2SEJTl1qXcXzvgY3w9L5U2/9QvVQSPc89
 x/Odtr9WyCUO+JxZ0IL9QvvfqMZhsk8InNAU/VJAu9z2ufzSwVqPuFby6MSHuuo/Ue6C
 Skwj+oDE8AfFMahcp2aVSBEDr2SEKuQgwPVd4=
X-Google-DKIM-Signature: v=1; a=rsa-sha256; c=relaxed/relaxed;
 d=1e100.net; s=20230601; t=1717521614; x=1718126414;
 h=references:in-reply-to:cc:to:from:subject:message-id:date
 :x-gm-message-state:from:to:cc:subject:date:message-id:reply-to;
 bh=/onDE9PNjo5V5LWq5mOEHh7yyFrKgpDbamGrt6aFgH0=;
 b=U3yFv+oFjgn6atvaukl1EuI08YJVKGdRuG4YXv3YuRq6Golzzay6uUzyackB1ZY8d5
 A4ZU0UGuUc48/hTFTY9ReMddV8GhOhVFPo8Oogukh+36KHL91xrdEO1xZOPZ2B2TiFIi
 xQZKnepTnvXsbTyC9q4nGXwFWWeom8KS9LDPPn3QBIFxLF2sP/g7h5MzduxjxET5V+WA
 dMlHUOjtLO5FHevTYKtstOpuiftVgBJycwoLmt+aTjAyJVqQdgIx0DmLN/2Y+BKlwdZx
 w8Jx76CSfXNHhg7Lq9iCNhP6nDhMUwjj3bCZdlEZ3CAHFquW7slG7eeGQ/ntsgHm2w5v
 Yq+A==
X-Gm-Message-State: AOJu0YyF+/6dfWISKQT2YEU2yVEwaiyB/2bf9FOePM6pMv5+XRbinILw
 rU7kmuZrliSS8lBOxMRls03oxeF+RY9gLlJqzBTK15akovuAI92Zzgxhj3syV8iQXQdH6PJ6erA
 qJwRI1U0N+yN+2gm66/fqjtGCzIuS/+jKaibQZa/h
X-Google-Smtp-Source: AGHT+IHZFRIglFYwywm7GmxyEfNlzR96U4ymuG+VLpcYGyFQBOJgdCJe3mcCaq1sapM0JXoQ/Xjf4QJwc2Ba
X-Received: by 2002:a17:902:fa86:b0:1f6:6dc9:615c with SMTP id
 d9443c01a7336-1f6a5a14407mr1563225ad.35.1717521613894; 
 Tue, 04 Jun 2024 10:20:13 -0700 (PDT)
Received: from postal.iol.unh.edu (postal.iol.unh.edu. [132.177.123.84])
 by smtp-relay.gmail.com with ESMTPS id
 d9443c01a7336-1f632361ff6sm2345165ad.70.2024.06.04.10.20.13
 (version=TLS1_2 cipher=ECDHE-ECDSA-AES128-GCM-SHA256 bits=128/128);
 Tue, 04 Jun 2024 10:20:13 -0700 (PDT)
X-Relaying-Domain: iol.unh.edu
Date: Tue, 04 Jun 2024 10:20:13 -0700 (PDT)
Message-ID: <665f4ccd.170a0220.e8e3b.1e9eSMTPIN_ADDED_MISSING@mx.google.com>
Received: from [172.21.0.7] (unknown [172.18.0.240])
 by postal.iol.unh.edu (Postfix) with ESMTP id F2F64605C373;
 Tue,  4 Jun 2024 13:20:12 -0400 (EDT)
Subject: |SUCCESS| pw140433-140437 [PATCH] [v13,6/6] test: add unit test for 
From: dpdklab@iol.unh.edu
To: Test Report <test-report@dpdk.org>
Cc: dpdk-test-reports@iol.unh.edu
In-Reply-To: <20240530094042.1960212-7-paul.szczepanek@arm.com>
References: <20240530094042.1960212-7-paul.szczepanek@arm.com>
Content-Type: text/plain
X-BeenThere: test-report@dpdk.org
X-Mailman-Version: 2.1.29
Precedence: list
List-Id: automatic DPDK test reports <test-report.dpdk.org>
List-Unsubscribe: <https://mails.dpdk.org/options/test-report>,
 <mailto:test-report-request@dpdk.org?subject=unsubscribe>
List-Archive: <http://mails.dpdk.org/archives/test-report/>
List-Post: <mailto:test-report@dpdk.org>
List-Help: <mailto:test-report-request@dpdk.org?subject=help>
List-Subscribe: <https://mails.dpdk.org/listinfo/test-report>,
 <mailto:test-report-request@dpdk.org?subject=subscribe>
Errors-To: test-report-bounces@dpdk.org

Test-Label: iol-abi-testing
Test-Status: SUCCESS
http://dpdk.org/patch/140437

_Testing PASS RETEST #1_

Submitter: Paul Szczepanek <paul.szczepanek@arm.com>
Date: Thursday, May 30 2024 09:40:42 
DPDK git baseline: Repo:dpdk
  Branch: master
  CommitID:76cef1af8bdaeaf67a5c4ca5df3f221df994dc46

140433-140437 --> testing pass

Test environment and result as below:

+------------------+----------+
|   Environment    | abi_test |
+==================+==========+
| Fedora 38        | PASS     |
+------------------+----------+
| Debian 12        | PASS     |
+------------------+----------+
| Debian Bullseye  | PASS     |
+------------------+----------+
| Fedora 39        | PASS     |
+------------------+----------+
| RHEL8            | PASS     |
+------------------+----------+
| Fedora 37        | PASS     |
+------------------+----------+
| CentOS Stream 8  | PASS     |
+------------------+----------+
| CentOS Stream 9  | PASS     |
+------------------+----------+
| openSUSE Leap 15 | PASS     |
+------------------+----------+


Fedora 38
	Kernel: Depends on container host
	Compiler: clang 16.0.6

Debian 12
	Kernel: Container Host Kernel
	Compiler: gcc 10.2.1

Debian Bullseye
	Kernel: 5.4.0-167-generic
	Compiler: gcc 10.2.1-6

Fedora 39
	Kernel: Depends on container host
	Compiler: clang 17.0.6

RHEL8
	Kernel: 5.4.0-167-generic
	Compiler: gcc 8.5.0 20210514 (Red Hat 8.5.0-20)

Fedora 37
	Kernel: Depends on container host system
	Compiler: gcc 12.3.1

CentOS Stream 8
	Kernel: 5.4.0-167-generic
	Compiler: gcc 8.5.0 20210514

CentOS Stream 9
	Kernel: 5.4.0-167-generic
	Compiler: gcc 11.4.1 20230605

openSUSE Leap 15
	Kernel: 5.4.0-167-generic
	Compiler: gcc 7.5.0

To view detailed results, visit:
https://lab.dpdk.org/results/dashboard/patchsets/30048/

UNH-IOL DPDK Community Lab

To manage your email subscriptions, visit: 
https://lab.dpdk.org/results/dashboard/preferences/subscriptions/