From mboxrd@z Thu Jan  1 00:00:00 1970
Return-Path: <test-report-bounces@dpdk.org>
Received: from mails.dpdk.org (mails.dpdk.org [217.70.189.124])
	by inbox.dpdk.org (Postfix) with ESMTP id 5A4264414F
	for <public@inbox.dpdk.org>; Tue,  4 Jun 2024 19:55:47 +0200 (CEST)
Received: from mails.dpdk.org (localhost [127.0.0.1])
	by mails.dpdk.org (Postfix) with ESMTP id 38B024026E;
	Tue,  4 Jun 2024 19:55:47 +0200 (CEST)
Received: from mail-io1-f100.google.com (mail-io1-f100.google.com
 [209.85.166.100])
 by mails.dpdk.org (Postfix) with ESMTP id 905B34026C
 for <test-report@dpdk.org>; Tue,  4 Jun 2024 19:55:46 +0200 (CEST)
Received: by mail-io1-f100.google.com with SMTP id
 ca18e2360f4ac-7eb321c61e6so32029039f.3
 for <test-report@dpdk.org>; Tue, 04 Jun 2024 10:55:46 -0700 (PDT)
DKIM-Signature: v=1; a=rsa-sha256; c=relaxed/relaxed;
 d=iol.unh.edu; s=unh-iol; t=1717523746; x=1718128546; darn=dpdk.org;
 h=references:in-reply-to:cc:to:from:subject:message-id:date:from:to
 :cc:subject:date:message-id:reply-to;
 bh=f52GZKOoQw+pEdZwlkxixt0wnt/6KY6PCyMA0dChzwI=;
 b=TZj7tkQ2mTHG724VXGa1ZSX5NkgO4E+crfQWOOTRjZy21SY7MzXtDkYLUGhZiaX6DY
 DGJrphTM8tI0GXaDYIg5nZdFV7kZS7SDqNmoLDi8hufr/FkIdb7nVu7LB18ckrbH6Bna
 naAIXCfRZwsPFQuUCUjtbiBIp9XcQmgucI++U=
X-Google-DKIM-Signature: v=1; a=rsa-sha256; c=relaxed/relaxed;
 d=1e100.net; s=20230601; t=1717523746; x=1718128546;
 h=references:in-reply-to:cc:to:from:subject:message-id:date
 :x-gm-message-state:from:to:cc:subject:date:message-id:reply-to;
 bh=f52GZKOoQw+pEdZwlkxixt0wnt/6KY6PCyMA0dChzwI=;
 b=sl+bsY0Roas1zd+d+gcOSL1E+73pxU+PbnQTHrm50Sy4RO7UM4QlPy5ip4vuwOeQGi
 r/5iDMYwIdk8gh0SE7+VzXSFfye0aBtwGPX/RefLsg//0bJQWPnu2kARMlVQO3GWpJe2
 eBKJpDBh+vFT6l9G6VdhDuQDWkMB1YWWoD27GW5mV+rITmk0LuYotsXYMwh5HhZK7sy5
 A2sgC8oVfxvQeZEDEyLdCPheWJzs2qGII4DQQvbquUUCefVveskAoMHBYayviUo+yYHd
 +F3D7HCl/lsmPBXi3JHb/+3jltRzAW8QGlXt17mgG8eQyU5AEidoiyimxQHD0I4+5n/6
 IXsQ==
X-Gm-Message-State: AOJu0YysksgzaB5jKV1p89oxRoruErheuv2GVZqc4ygLvdqC+E0iXb9W
 XPwVwdXA4qEteyKvIbVfxnNVMXEJ8XgU4qeLdB4YA57ChElNathVM9Z/iS73G+3yO1f0esEeMCV
 UF03u73qtm7bXvUIhR8aJpI91MdZIJu7lEPf1h32v
X-Google-Smtp-Source: AGHT+IEU9ZUrUkqhp6pvwQYgFjy9Nyf/7yFA/JE8pthKLyooe7tTxzoj+0LPpFgWSw1oLNNfg8hY5LVmlqb2
X-Received: by 2002:a05:6602:2c8d:b0:7e1:7d6c:4bf0 with SMTP id
 ca18e2360f4ac-7eb3c90f6d9mr7481739f.16.1717523745824; 
 Tue, 04 Jun 2024 10:55:45 -0700 (PDT)
Received: from postal.iol.unh.edu (postal.iol.unh.edu. [132.177.123.84])
 by smtp-relay.gmail.com with ESMTPS id
 8926c6da1cb9f-4b4884b6b85sm316313173.33.2024.06.04.10.55.45
 (version=TLS1_2 cipher=ECDHE-ECDSA-AES128-GCM-SHA256 bits=128/128);
 Tue, 04 Jun 2024 10:55:45 -0700 (PDT)
X-Relaying-Domain: iol.unh.edu
Date: Tue, 04 Jun 2024 10:55:45 -0700 (PDT)
Message-ID: <665f5521.020a0220.5b7d9.7f28SMTPIN_ADDED_MISSING@mx.google.com>
Received: from [172.21.0.6] (unknown [172.18.0.240])
 by postal.iol.unh.edu (Postfix) with ESMTP id 3FCA7605C373;
 Tue,  4 Jun 2024 13:55:45 -0400 (EDT)
Subject: |SUCCESS| pw140433-140437 [PATCH] [v13,6/6] test: add unit test for 
From: dpdklab@iol.unh.edu
To: Test Report <test-report@dpdk.org>
Cc: dpdk-test-reports@iol.unh.edu
In-Reply-To: <20240530094042.1960212-7-paul.szczepanek@arm.com>
References: <20240530094042.1960212-7-paul.szczepanek@arm.com>
Content-Type: text/plain
X-BeenThere: test-report@dpdk.org
X-Mailman-Version: 2.1.29
Precedence: list
List-Id: automatic DPDK test reports <test-report.dpdk.org>
List-Unsubscribe: <https://mails.dpdk.org/options/test-report>,
 <mailto:test-report-request@dpdk.org?subject=unsubscribe>
List-Archive: <http://mails.dpdk.org/archives/test-report/>
List-Post: <mailto:test-report@dpdk.org>
List-Help: <mailto:test-report-request@dpdk.org?subject=help>
List-Subscribe: <https://mails.dpdk.org/listinfo/test-report>,
 <mailto:test-report-request@dpdk.org?subject=subscribe>
Errors-To: test-report-bounces@dpdk.org

Test-Label: iol-compile-amd64-testing
Test-Status: SUCCESS
http://dpdk.org/patch/140437

_Testing PASS RETEST #1_

Submitter: Paul Szczepanek <paul.szczepanek@arm.com>
Date: Thursday, May 30 2024 09:40:42 
DPDK git baseline: Repo:dpdk
  Branch: master
  CommitID:76cef1af8bdaeaf67a5c4ca5df3f221df994dc46

140433-140437 --> testing pass

Test environment and result as below:

+---------------------+--------------------+-------------------+----------------------+------------------+
|     Environment     | dpdk_meson_compile | dpdk_msvc_compile | dpdk_mingw64_compile | dpdk_compile_ovs |
+=====================+====================+===================+======================+==================+
| FreeBSD 13.3        | PASS               | SKIPPED           | SKIPPED              | SKIPPED          |
+---------------------+--------------------+-------------------+----------------------+------------------+
| FreeBSD 14.0        | PASS               | SKIPPED           | SKIPPED              | SKIPPED          |
+---------------------+--------------------+-------------------+----------------------+------------------+
| Windows Server 2019 | PASS               | SKIPPED           | PASS                 | SKIPPED          |
+---------------------+--------------------+-------------------+----------------------+------------------+
| Windows Server 2022 | PASS               | PASS              | PASS                 | SKIPPED          |
+---------------------+--------------------+-------------------+----------------------+------------------+
| CentOS Stream 8     | PASS               | SKIPPED           | SKIPPED              | PASS             |
+---------------------+--------------------+-------------------+----------------------+------------------+
| Debian Bullseye     | PASS               | SKIPPED           | SKIPPED              | PASS             |
+---------------------+--------------------+-------------------+----------------------+------------------+
| Fedora 37           | PASS               | SKIPPED           | SKIPPED              | PASS             |
+---------------------+--------------------+-------------------+----------------------+------------------+
| Debian 12           | PASS               | SKIPPED           | SKIPPED              | PASS             |
+---------------------+--------------------+-------------------+----------------------+------------------+


FreeBSD 13.3
	Kernel: 13.3-RELEASE-p1
	Compiler: clang 17.0.6

FreeBSD 14.0
	Kernel: 14.0
	Compiler: clang 16.0.6

Windows Server 2019
	Kernel: 10.0.17763
	Compiler: clang 14.0 and gcc 8.1.0 (MinGW)

Windows Server 2022
	Kernel: 10.0.20348.2031
	Compiler: clang 15.0.7, gcc 8.1.0 (MinGW), and MSVC VS 17.9

CentOS Stream 8
	Kernel: 5.4.0-167-generic
	Compiler: gcc 8.5.0 20210514

Debian Bullseye
	Kernel: 5.4.0-167-generic
	Compiler: gcc 10.2.1-6

Fedora 37
	Kernel: Depends on container host system
	Compiler: gcc 12.3.1

Debian 12
	Kernel: Container Host Kernel
	Compiler: gcc 10.2.1

To view detailed results, visit:
https://lab.dpdk.org/results/dashboard/patchsets/30048/

UNH-IOL DPDK Community Lab

To manage your email subscriptions, visit: 
https://lab.dpdk.org/results/dashboard/preferences/subscriptions/