From mboxrd@z Thu Jan  1 00:00:00 1970
Return-Path: <test-report-bounces@dpdk.org>
Received: from mails.dpdk.org (mails.dpdk.org [217.70.189.124])
	by inbox.dpdk.org (Postfix) with ESMTP id 6C79544152
	for <public@inbox.dpdk.org>; Tue,  4 Jun 2024 20:02:30 +0200 (CEST)
Received: from mails.dpdk.org (localhost [127.0.0.1])
	by mails.dpdk.org (Postfix) with ESMTP id 6596F4026E;
	Tue,  4 Jun 2024 20:02:30 +0200 (CEST)
Received: from mail-vk1-f227.google.com (mail-vk1-f227.google.com
 [209.85.221.227])
 by mails.dpdk.org (Postfix) with ESMTP id 4613B4026C
 for <test-report@dpdk.org>; Tue,  4 Jun 2024 20:02:29 +0200 (CEST)
Received: by mail-vk1-f227.google.com with SMTP id
 71dfb90a1353d-4eb1b9865e4so968584e0c.1
 for <test-report@dpdk.org>; Tue, 04 Jun 2024 11:02:29 -0700 (PDT)
DKIM-Signature: v=1; a=rsa-sha256; c=relaxed/relaxed;
 d=iol.unh.edu; s=unh-iol; t=1717524148; x=1718128948; darn=dpdk.org;
 h=references:in-reply-to:cc:to:from:subject:message-id:date:from:to
 :cc:subject:date:message-id:reply-to;
 bh=PGFFOLrdqgJIC365T7aCgXZptxCj5Ej+L3i4vUGk98M=;
 b=O7LMi+DvEjFERY87r4g2jSsTThq94SCOqtU4WFWQrZvepKR2AXIrdovYiwt5+m9ZNV
 oFYpl5brudkwtjjrvSBOrkp6w+M2l6cy8cgVvXUBSDjT9sn3omB6AHixSj8nITc5+goK
 /WuNSqrrNtmm6lz6lyrO5W08KAbj7Tb5eFRfA=
X-Google-DKIM-Signature: v=1; a=rsa-sha256; c=relaxed/relaxed;
 d=1e100.net; s=20230601; t=1717524148; x=1718128948;
 h=references:in-reply-to:cc:to:from:subject:message-id:date
 :x-gm-message-state:from:to:cc:subject:date:message-id:reply-to;
 bh=PGFFOLrdqgJIC365T7aCgXZptxCj5Ej+L3i4vUGk98M=;
 b=fwG1OtAmykSd7rpFdkckWa/5grL2mDXXYuR94myXELEOToQRdP0Uuwt860MJbOZPJu
 sSJ2+zA9qLfNergThOP6L/F7U9Udgio/LXOKfKf9ZnbG75foN2jZRVcIqZsI8x09dzka
 pciOa3si3U3U6D6l9/g+ZDKhs1FBG0kdlKtSpOxi17jEOYwE6SxOt7KvkIsGV7V/x1/l
 29Tco/lxEbD7gl56t0by6HSykduD0J0IfULB9qW9JW4EtTDdEIhKSDIbX7jxpErcFiUq
 11FiO0aPHF3d0d6Rk1J/2Fq0m2+e9sJ2+6azgCpcrLrAkG3OhrE+WoMKHZa+zacxgRDR
 AHJA==
X-Gm-Message-State: AOJu0YyvA/MoZI4BaTJLk7kT3zBrM1fqvbOhOxy8JZ4RnIdWGUzuiJgQ
 Du3mofKoE2eUSoRSVaNsTE7i3Nu0Nu0cEpIJV/Y6aeIqxTX41vfdlTk3NMBeYAFfyQ3e19SVEyj
 MYj0XCYCOKShj+X5XIbuCg6so1SGGio5CIwwKWbCsLpipOLI45BAj3+RP
X-Google-Smtp-Source: AGHT+IGj6kYEbKOX2KdWte/ZFXalT/9GVm0mAb+YBWLaUgCFckrnRwm+SNQok0Kq1kDtD8Ym7RwpBJyyG8nX
X-Received: by 2002:a1f:eeca:0:b0:4e4:eda9:ec32 with SMTP id
 71dfb90a1353d-4eb3a4aafcfmr424799e0c.10.1717524148458; 
 Tue, 04 Jun 2024 11:02:28 -0700 (PDT)
Received: from postal.iol.unh.edu (postal.iol.unh.edu.
 [2606:4100:3880:1234::84]) by smtp-relay.gmail.com with ESMTPS id
 71dfb90a1353d-4eafedc34a2sm283947e0c.3.2024.06.04.11.02.28
 (version=TLS1_2 cipher=ECDHE-ECDSA-AES128-GCM-SHA256 bits=128/128);
 Tue, 04 Jun 2024 11:02:28 -0700 (PDT)
X-Relaying-Domain: iol.unh.edu
Date: Tue, 04 Jun 2024 11:02:28 -0700 (PDT)
Message-ID: <665f56b4.c50a0220.295ed.5256SMTPIN_ADDED_MISSING@mx.google.com>
Received: from [172.21.0.7] (unknown [172.18.0.240])
 by postal.iol.unh.edu (Postfix) with ESMTP id 198A3605C373;
 Tue,  4 Jun 2024 14:02:28 -0400 (EDT)
Subject: |SUCCESS| pw140433-140437 [PATCH] [v13,6/6] test: add unit test for 
From: dpdklab@iol.unh.edu
To: Test Report <test-report@dpdk.org>
Cc: dpdk-test-reports@iol.unh.edu
In-Reply-To: <20240530094042.1960212-7-paul.szczepanek@arm.com>
References: <20240530094042.1960212-7-paul.szczepanek@arm.com>
Content-Type: text/plain
X-BeenThere: test-report@dpdk.org
X-Mailman-Version: 2.1.29
Precedence: list
List-Id: automatic DPDK test reports <test-report.dpdk.org>
List-Unsubscribe: <https://mails.dpdk.org/options/test-report>,
 <mailto:test-report-request@dpdk.org?subject=unsubscribe>
List-Archive: <http://mails.dpdk.org/archives/test-report/>
List-Post: <mailto:test-report@dpdk.org>
List-Help: <mailto:test-report-request@dpdk.org?subject=help>
List-Subscribe: <https://mails.dpdk.org/listinfo/test-report>,
 <mailto:test-report-request@dpdk.org?subject=subscribe>
Errors-To: test-report-bounces@dpdk.org

Test-Label: iol-unit-amd64-testing
Test-Status: SUCCESS
http://dpdk.org/patch/140437

_Testing PASS RETEST #1_

Submitter: Paul Szczepanek <paul.szczepanek@arm.com>
Date: Thursday, May 30 2024 09:40:42 
DPDK git baseline: Repo:dpdk
  Branch: master
  CommitID:76cef1af8bdaeaf67a5c4ca5df3f221df994dc46

140433-140437 --> testing pass

Test environment and result as below:

+---------------------+----------------+
|     Environment     | dpdk_unit_test |
+=====================+================+
| Windows Server 2019 | PASS           |
+---------------------+----------------+
| CentOS Stream 8     | PASS           |
+---------------------+----------------+
| CentOS Stream 9     | PASS           |
+---------------------+----------------+
| Debian Bullseye     | PASS           |
+---------------------+----------------+
| Windows Server 2022 | PASS           |
+---------------------+----------------+
| Fedora 37           | PASS           |
+---------------------+----------------+
| Debian 12           | PASS           |
+---------------------+----------------+
| Fedora 38           | PASS           |
+---------------------+----------------+
| Fedora 39           | PASS           |
+---------------------+----------------+


Windows Server 2019
	Kernel: 10.0.17763
	Compiler: clang 14.0 and gcc 8.1.0 (MinGW)

CentOS Stream 8
	Kernel: 5.4.0-167-generic
	Compiler: gcc 8.5.0 20210514

CentOS Stream 9
	Kernel: 5.4.0-167-generic
	Compiler: gcc 11.4.1 20230605

Debian Bullseye
	Kernel: 5.4.0-167-generic
	Compiler: gcc 10.2.1-6

Windows Server 2022
	Kernel: 10.0.20348.2031
	Compiler: clang 15.0.7, gcc 8.1.0 (MinGW), and MSVC VS 17.9

Fedora 37
	Kernel: Depends on container host system
	Compiler: gcc 12.3.1

Debian 12
	Kernel: Container Host Kernel
	Compiler: gcc 10.2.1

Fedora 38
	Kernel: Depends on container host
	Compiler: clang 16.0.6

Fedora 39
	Kernel: Depends on container host
	Compiler: gcc 13.2.1

To view detailed results, visit:
https://lab.dpdk.org/results/dashboard/patchsets/30048/

UNH-IOL DPDK Community Lab

To manage your email subscriptions, visit: 
https://lab.dpdk.org/results/dashboard/preferences/subscriptions/