From mboxrd@z Thu Jan  1 00:00:00 1970
Return-Path: <test-report-bounces@dpdk.org>
Received: from mails.dpdk.org (mails.dpdk.org [217.70.189.124])
	by inbox.dpdk.org (Postfix) with ESMTP id 66BF044152
	for <public@inbox.dpdk.org>; Tue,  4 Jun 2024 20:22:18 +0200 (CEST)
Received: from mails.dpdk.org (localhost [127.0.0.1])
	by mails.dpdk.org (Postfix) with ESMTP id 5CA76402DC;
	Tue,  4 Jun 2024 20:22:18 +0200 (CEST)
Received: from mail-il1-f228.google.com (mail-il1-f228.google.com
 [209.85.166.228])
 by mails.dpdk.org (Postfix) with ESMTP id A42B34029C
 for <test-report@dpdk.org>; Tue,  4 Jun 2024 20:22:16 +0200 (CEST)
Received: by mail-il1-f228.google.com with SMTP id
 e9e14a558f8ab-3737b70a74aso404285ab.0
 for <test-report@dpdk.org>; Tue, 04 Jun 2024 11:22:16 -0700 (PDT)
DKIM-Signature: v=1; a=rsa-sha256; c=relaxed/relaxed;
 d=iol.unh.edu; s=unh-iol; t=1717525336; x=1718130136; darn=dpdk.org;
 h=references:in-reply-to:cc:to:from:subject:message-id:date:from:to
 :cc:subject:date:message-id:reply-to;
 bh=+RbEVBkMn6t3c5JiqZjvDw4mIn1NXIGIKyrc4aYc29Y=;
 b=MrdQZxLQzmGdtNCyhpJHctSDoTXfXrJCQJukaVB7RD+1288KsneZVdgn3mS69ahxmE
 Ev3496hhOvlqa/yPtTthU2HHhj0i3xPZGjdkkeVkOIc/lz2BI+RxSBsroXUI9iDMPyWC
 /2kH3GmmHPHPFoemvfF6SI14Ufo+He1IEltfU=
X-Google-DKIM-Signature: v=1; a=rsa-sha256; c=relaxed/relaxed;
 d=1e100.net; s=20230601; t=1717525336; x=1718130136;
 h=references:in-reply-to:cc:to:from:subject:message-id:date
 :x-gm-message-state:from:to:cc:subject:date:message-id:reply-to;
 bh=+RbEVBkMn6t3c5JiqZjvDw4mIn1NXIGIKyrc4aYc29Y=;
 b=FOuebkF9pD8bAHy2+H5R9XcbOfd9hB+GebjONfXnIktRh5CW6m4Rk2gf0G14IMjYYc
 qATzTjidp6CLgClWfdS4Rlf1Ugjf513XEWdDOIbihwEOzL4gXmBfAgTbo+lJOVe9A6eL
 Ebom19jJPezv32AbQgrgaIKl6KnOaRR956WQL/RDONop7ZyR9EA1UsGnwRrSo9VYvvaY
 dfRI0WKt1mr1wSi/i/wYpDst3tRmXS3yvFoYDzlP7ccmiLdqLJao7v5kh7h7njU1QmzL
 o3BrXtQ4zA34UAxXzkUFuJm92sIS5U9SmnIhDm9A/kDbLLDBahle61y8+DCc7iBYvq22
 OLWQ==
X-Gm-Message-State: AOJu0YxSpVd7YobX/K9D1inaokDFwhliOS8uqW3SqpOyw671Nk2ImQE2
 V3l1pUY8vx77NuZNa7AxGig9tstsQCDIBPZZYSsjQhGlFprCEBg2uYnz83lMmw+pBGrPsKyopI5
 mbSmSHf+b1PxTwWrFnIhW6Fh7Dpgf4bWJG18buAWH
X-Google-Smtp-Source: AGHT+IEubgXFWyB91r5k+9zeSCbcJKRJFKP9Ch8VZdcYnK/G9M7pC3yAuqdPSp9aFfI9eMN5cFtOKNJ6kjo7
X-Received: by 2002:a05:6e02:1a27:b0:374:5388:c81f with SMTP id
 e9e14a558f8ab-374a8582a1dmr22411275ab.16.1717525336073; 
 Tue, 04 Jun 2024 11:22:16 -0700 (PDT)
Received: from postal.iol.unh.edu (postal.iol.unh.edu. [132.177.123.84])
 by smtp-relay.gmail.com with ESMTPS id
 8926c6da1cb9f-4b58b95c33bsm142030173.73.2024.06.04.11.22.15
 (version=TLS1_2 cipher=ECDHE-ECDSA-AES128-GCM-SHA256 bits=128/128);
 Tue, 04 Jun 2024 11:22:16 -0700 (PDT)
X-Relaying-Domain: iol.unh.edu
Date: Tue, 04 Jun 2024 11:22:16 -0700 (PDT)
Message-ID: <665f5b58.050a0220.ed173.ab31SMTPIN_ADDED_MISSING@mx.google.com>
Received: from [172.21.0.6] (unknown [172.18.0.240])
 by postal.iol.unh.edu (Postfix) with ESMTP id AF495605C373;
 Tue,  4 Jun 2024 14:22:15 -0400 (EDT)
Subject: |SUCCESS| pw140433-140437 [PATCH] [v13,6/6] test: add unit test for 
From: dpdklab@iol.unh.edu
To: Test Report <test-report@dpdk.org>
Cc: dpdk-test-reports@iol.unh.edu
In-Reply-To: <20240530094042.1960212-7-paul.szczepanek@arm.com>
References: <20240530094042.1960212-7-paul.szczepanek@arm.com>
Content-Type: text/plain
X-BeenThere: test-report@dpdk.org
X-Mailman-Version: 2.1.29
Precedence: list
List-Id: automatic DPDK test reports <test-report.dpdk.org>
List-Unsubscribe: <https://mails.dpdk.org/options/test-report>,
 <mailto:test-report-request@dpdk.org?subject=unsubscribe>
List-Archive: <http://mails.dpdk.org/archives/test-report/>
List-Post: <mailto:test-report@dpdk.org>
List-Help: <mailto:test-report-request@dpdk.org?subject=help>
List-Subscribe: <https://mails.dpdk.org/listinfo/test-report>,
 <mailto:test-report-request@dpdk.org?subject=subscribe>
Errors-To: test-report-bounces@dpdk.org

Test-Label: iol-compile-amd64-testing
Test-Status: SUCCESS
http://dpdk.org/patch/140437

_Testing PASS RETEST #1_

Submitter: Paul Szczepanek <paul.szczepanek@arm.com>
Date: Thursday, May 30 2024 09:40:42 
DPDK git baseline: Repo:dpdk
  Branch: master
  CommitID:76cef1af8bdaeaf67a5c4ca5df3f221df994dc46

140433-140437 --> testing pass

Test environment and result as below:

+---------------------+--------------------+-------------------+----------------------+------------------+
|     Environment     | dpdk_meson_compile | dpdk_msvc_compile | dpdk_mingw64_compile | dpdk_compile_ovs |
+=====================+====================+===================+======================+==================+
| FreeBSD 13.3        | PASS               | SKIPPED           | SKIPPED              | SKIPPED          |
+---------------------+--------------------+-------------------+----------------------+------------------+
| FreeBSD 14.0        | PASS               | SKIPPED           | SKIPPED              | SKIPPED          |
+---------------------+--------------------+-------------------+----------------------+------------------+
| Windows Server 2019 | PASS               | SKIPPED           | PASS                 | SKIPPED          |
+---------------------+--------------------+-------------------+----------------------+------------------+
| Windows Server 2022 | PASS               | PASS              | PASS                 | SKIPPED          |
+---------------------+--------------------+-------------------+----------------------+------------------+
| CentOS Stream 8     | PASS               | SKIPPED           | SKIPPED              | PASS             |
+---------------------+--------------------+-------------------+----------------------+------------------+
| Debian Bullseye     | PASS               | SKIPPED           | SKIPPED              | PASS             |
+---------------------+--------------------+-------------------+----------------------+------------------+
| Fedora 37           | PASS               | SKIPPED           | SKIPPED              | PASS             |
+---------------------+--------------------+-------------------+----------------------+------------------+
| Debian 12           | PASS               | SKIPPED           | SKIPPED              | PASS             |
+---------------------+--------------------+-------------------+----------------------+------------------+
| CentOS Stream 9     | PASS               | SKIPPED           | SKIPPED              | PASS             |
+---------------------+--------------------+-------------------+----------------------+------------------+
| Fedora 39           | PASS               | SKIPPED           | SKIPPED              | PASS             |
+---------------------+--------------------+-------------------+----------------------+------------------+
| Fedora 38           | PASS               | SKIPPED           | SKIPPED              | PASS             |
+---------------------+--------------------+-------------------+----------------------+------------------+
| openSUSE Leap 15    | PASS               | SKIPPED           | SKIPPED              | PASS             |
+---------------------+--------------------+-------------------+----------------------+------------------+


FreeBSD 13.3
	Kernel: 13.3-RELEASE-p1
	Compiler: clang 17.0.6

FreeBSD 14.0
	Kernel: 14.0
	Compiler: clang 16.0.6

Windows Server 2019
	Kernel: 10.0.17763
	Compiler: clang 14.0 and gcc 8.1.0 (MinGW)

Windows Server 2022
	Kernel: 10.0.20348.2031
	Compiler: clang 15.0.7, gcc 8.1.0 (MinGW), and MSVC VS 17.9

CentOS Stream 8
	Kernel: 5.4.0-167-generic
	Compiler: gcc 8.5.0 20210514

Debian Bullseye
	Kernel: 5.4.0-167-generic
	Compiler: gcc 10.2.1-6

Fedora 37
	Kernel: Depends on container host system
	Compiler: gcc 12.3.1

Debian 12
	Kernel: Container Host Kernel
	Compiler: gcc 10.2.1

CentOS Stream 9
	Kernel: 5.4.0-167-generic
	Compiler: gcc 11.4.1 20230605

Fedora 39
	Kernel: Depends on container host
	Compiler: gcc 13.2.1

Fedora 38
	Kernel: Depends on container host
	Compiler: gcc 13.2.1

openSUSE Leap 15
	Kernel: 5.4.0-167-generic
	Compiler: gcc 7.5.0

To view detailed results, visit:
https://lab.dpdk.org/results/dashboard/patchsets/30048/

UNH-IOL DPDK Community Lab

To manage your email subscriptions, visit: 
https://lab.dpdk.org/results/dashboard/preferences/subscriptions/