From mboxrd@z Thu Jan  1 00:00:00 1970
Return-Path: <test-report-bounces@dpdk.org>
Received: from mails.dpdk.org (mails.dpdk.org [217.70.189.124])
	by inbox.dpdk.org (Postfix) with ESMTP id 216D944152
	for <public@inbox.dpdk.org>; Tue,  4 Jun 2024 20:25:21 +0200 (CEST)
Received: from mails.dpdk.org (localhost [127.0.0.1])
	by mails.dpdk.org (Postfix) with ESMTP id 189A8402DC;
	Tue,  4 Jun 2024 20:25:21 +0200 (CEST)
Received: from mail-pl1-f225.google.com (mail-pl1-f225.google.com
 [209.85.214.225])
 by mails.dpdk.org (Postfix) with ESMTP id 4FC814029C
 for <test-report@dpdk.org>; Tue,  4 Jun 2024 20:25:20 +0200 (CEST)
Received: by mail-pl1-f225.google.com with SMTP id
 d9443c01a7336-1f64ecb1766so12474405ad.1
 for <test-report@dpdk.org>; Tue, 04 Jun 2024 11:25:20 -0700 (PDT)
DKIM-Signature: v=1; a=rsa-sha256; c=relaxed/relaxed;
 d=iol.unh.edu; s=unh-iol; t=1717525519; x=1718130319; darn=dpdk.org;
 h=references:in-reply-to:cc:to:from:subject:message-id:date:from:to
 :cc:subject:date:message-id:reply-to;
 bh=HEH1idXItPNpB86Nmy5+bJSu8ZsyepVtQEmiqdshvUw=;
 b=ETeE2VCsa0rlw6sdMsZRHdqfhtH0VQvSvlfI3wfyq0m7fbeIN6wjgjqv/JSLeliwAj
 CyOd/j+HxQfZs0HNFAqtMYQ3RDLOrHhKUqEYL2MXlTJt8aYajgEo7ier6vaeUSizxetb
 e+p7FwdnEyhGcv26Ji2LdPGEKrvEmjaddTWaM=
X-Google-DKIM-Signature: v=1; a=rsa-sha256; c=relaxed/relaxed;
 d=1e100.net; s=20230601; t=1717525519; x=1718130319;
 h=references:in-reply-to:cc:to:from:subject:message-id:date
 :x-gm-message-state:from:to:cc:subject:date:message-id:reply-to;
 bh=HEH1idXItPNpB86Nmy5+bJSu8ZsyepVtQEmiqdshvUw=;
 b=NI0UlXqIBbiDDDL1UYHCwImeS+pekqgn8kM6M1fpnNGBjLqhCJORhbbJ7kNHLpR6Em
 KKrE5PDcc9J9bVU/qKAa95h1eoKnQHZZBsbdIbhQs3EZ5QWMsUNrw9EXGFtEnyNj+r2l
 2KREN3e2jUGTkZqUIJBSnYe/rU3oPI7vM8TvNVieLgYgV+0U3Aq+lOnr0UsmMHgpPfB+
 NghKfOt7dQLjwGzCYB4miD5eld+FryRnMJXxN1Ay2RyaYFAPuXbPLxwl0vyEa2IPnFLY
 0Vs0aQlh4zMAui1/HdRxZa3ShCOKj5O2g0HNMjCF1Sv7Ul5lCuR3IQC1JcjwxYuwlWG1
 r2ug==
X-Gm-Message-State: AOJu0Yy9ZzG79AOd+tgQjr/AytRwq0Qqb409H4E4w4QcPxgB8d8/mcNw
 LHYFutCn32sxwLLGLkHl4+9+odL7RBHQbOCkd50/UfoVpAkBEkHtLJGMhxmoFjTaQk4iDy7u9s9
 VxOjPqmkV+i1ezRxQm7Pp+hTYKAfXaK/TjRcLi6r6
X-Google-Smtp-Source: AGHT+IECeGMZOnOlNqai4Cik6sRECr/Gs87jhBqiQW5cdy0zaKFnAjReDRjExaHyj7PKHZIxjUM1pl2s1QoK
X-Received: by 2002:a17:902:e802:b0:1f4:5c4b:dc48 with SMTP id
 d9443c01a7336-1f6a5a02af6mr3780945ad.11.1717525519514; 
 Tue, 04 Jun 2024 11:25:19 -0700 (PDT)
Received: from postal.iol.unh.edu (postal.iol.unh.edu. [132.177.123.84])
 by smtp-relay.gmail.com with ESMTPS id
 d9443c01a7336-1f63234b760sm2365965ad.45.2024.06.04.11.25.19
 (version=TLS1_2 cipher=ECDHE-ECDSA-AES128-GCM-SHA256 bits=128/128);
 Tue, 04 Jun 2024 11:25:19 -0700 (PDT)
X-Relaying-Domain: iol.unh.edu
Date: Tue, 04 Jun 2024 11:25:19 -0700 (PDT)
Message-ID: <665f5c0f.170a0220.580bd.28b5SMTPIN_ADDED_MISSING@mx.google.com>
Received: from [172.21.0.7] (unknown [172.18.0.240])
 by postal.iol.unh.edu (Postfix) with ESMTP id F16CB605C373;
 Tue,  4 Jun 2024 14:25:18 -0400 (EDT)
Subject: |SUCCESS| pw140433-140437 [PATCH] [v13,6/6] test: add unit test for 
From: dpdklab@iol.unh.edu
To: Test Report <test-report@dpdk.org>
Cc: dpdk-test-reports@iol.unh.edu
In-Reply-To: <20240530094042.1960212-7-paul.szczepanek@arm.com>
References: <20240530094042.1960212-7-paul.szczepanek@arm.com>
Content-Type: text/plain
X-BeenThere: test-report@dpdk.org
X-Mailman-Version: 2.1.29
Precedence: list
List-Id: automatic DPDK test reports <test-report.dpdk.org>
List-Unsubscribe: <https://mails.dpdk.org/options/test-report>,
 <mailto:test-report-request@dpdk.org?subject=unsubscribe>
List-Archive: <http://mails.dpdk.org/archives/test-report/>
List-Post: <mailto:test-report@dpdk.org>
List-Help: <mailto:test-report-request@dpdk.org?subject=help>
List-Subscribe: <https://mails.dpdk.org/listinfo/test-report>,
 <mailto:test-report-request@dpdk.org?subject=subscribe>
Errors-To: test-report-bounces@dpdk.org

Test-Label: iol-unit-amd64-testing
Test-Status: SUCCESS
http://dpdk.org/patch/140437

_Testing PASS RETEST #1_

Submitter: Paul Szczepanek <paul.szczepanek@arm.com>
Date: Thursday, May 30 2024 09:40:42 
DPDK git baseline: Repo:dpdk
  Branch: master
  CommitID:76cef1af8bdaeaf67a5c4ca5df3f221df994dc46

140433-140437 --> testing pass

Test environment and result as below:

+---------------------+----------------+
|     Environment     | dpdk_unit_test |
+=====================+================+
| Windows Server 2019 | PASS           |
+---------------------+----------------+
| CentOS Stream 8     | PASS           |
+---------------------+----------------+
| CentOS Stream 9     | PASS           |
+---------------------+----------------+
| Debian Bullseye     | PASS           |
+---------------------+----------------+
| Windows Server 2022 | PASS           |
+---------------------+----------------+
| Fedora 37           | PASS           |
+---------------------+----------------+
| Debian 12           | PASS           |
+---------------------+----------------+
| Fedora 38           | PASS           |
+---------------------+----------------+
| Fedora 39           | PASS           |
+---------------------+----------------+
| RHEL8               | PASS           |
+---------------------+----------------+
| openSUSE Leap 15    | PASS           |
+---------------------+----------------+
| Ubuntu 20.04        | PASS           |
+---------------------+----------------+


Windows Server 2019
	Kernel: 10.0.17763
	Compiler: clang 14.0 and gcc 8.1.0 (MinGW)

CentOS Stream 8
	Kernel: 5.4.0-167-generic
	Compiler: gcc 8.5.0 20210514

CentOS Stream 9
	Kernel: 5.4.0-167-generic
	Compiler: gcc 11.4.1 20230605

Debian Bullseye
	Kernel: 5.4.0-167-generic
	Compiler: gcc 10.2.1-6

Windows Server 2022
	Kernel: 10.0.20348.2031
	Compiler: clang 15.0.7, gcc 8.1.0 (MinGW), and MSVC VS 17.9

Fedora 37
	Kernel: Depends on container host system
	Compiler: gcc 12.3.1

Debian 12
	Kernel: Container Host Kernel
	Compiler: gcc 10.2.1

Fedora 38
	Kernel: Depends on container host
	Compiler: clang 16.0.6

Fedora 39
	Kernel: Depends on container host
	Compiler: gcc 13.2.1

RHEL8
	Kernel: 5.4.0-167-generic
	Compiler: gcc 8.5.0 20210514 (Red Hat 8.5.0-20)

openSUSE Leap 15
	Kernel: 5.4.0-167-generic
	Compiler: gcc 7.5.0

Ubuntu 20.04
	Kernel: 5.4.0-167-generic
	Compiler: gcc 9.4.0-1ubuntu1~20.04.1

To view detailed results, visit:
https://lab.dpdk.org/results/dashboard/patchsets/30048/

UNH-IOL DPDK Community Lab

To manage your email subscriptions, visit: 
https://lab.dpdk.org/results/dashboard/preferences/subscriptions/