From mboxrd@z Thu Jan  1 00:00:00 1970
Return-Path: <test-report-bounces@dpdk.org>
Received: from mails.dpdk.org (mails.dpdk.org [217.70.189.124])
	by inbox.dpdk.org (Postfix) with ESMTP id 4726244152
	for <public@inbox.dpdk.org>; Tue,  4 Jun 2024 20:26:08 +0200 (CEST)
Received: from mails.dpdk.org (localhost [127.0.0.1])
	by mails.dpdk.org (Postfix) with ESMTP id 43182402DC;
	Tue,  4 Jun 2024 20:26:08 +0200 (CEST)
Received: from mail-io1-f97.google.com (mail-io1-f97.google.com
 [209.85.166.97]) by mails.dpdk.org (Postfix) with ESMTP id 803A14029C
 for <test-report@dpdk.org>; Tue,  4 Jun 2024 20:26:07 +0200 (CEST)
Received: by mail-io1-f97.google.com with SMTP id
 ca18e2360f4ac-7eb12b2bf78so124777339f.0
 for <test-report@dpdk.org>; Tue, 04 Jun 2024 11:26:07 -0700 (PDT)
DKIM-Signature: v=1; a=rsa-sha256; c=relaxed/relaxed;
 d=iol.unh.edu; s=unh-iol; t=1717525567; x=1718130367; darn=dpdk.org;
 h=references:in-reply-to:cc:to:from:subject:message-id:date:from:to
 :cc:subject:date:message-id:reply-to;
 bh=FO9S7aPYg0/oKRrcMxF6lLra/yVrMSUofC7faq3olj0=;
 b=YJmxYNAue5NlIZTsIkOdluptiv8qPfmuTUj4UUXu6zHF54/S2xAc2Dukm7W2TVdWrF
 9+2bnld5/F7bWO3pqYHI4DOP2NNTkTdIoaoYkYT9zZWEMHTATUqNBe49qA8dcWrcerql
 zVavO7/AsLg066cKDWGap5xeeU+A8VNWjHyN0=
X-Google-DKIM-Signature: v=1; a=rsa-sha256; c=relaxed/relaxed;
 d=1e100.net; s=20230601; t=1717525567; x=1718130367;
 h=references:in-reply-to:cc:to:from:subject:message-id:date
 :x-gm-message-state:from:to:cc:subject:date:message-id:reply-to;
 bh=FO9S7aPYg0/oKRrcMxF6lLra/yVrMSUofC7faq3olj0=;
 b=iEpXtVDmPhQ2Dxu3X5LhNNGGKHQ9fisUtFRdWDsgSCI8rD2KC31T2ZW6ljrQaBiwrK
 lSvUoSk4Ly0kfIUlh58O9b/SO58WR8audsv7IU/GLFvl5dlLYFcOu/QMZOnEEn5U7102
 o7UHNdZ/nNZ+vl9na3Fc0gOSlIQe2FXef9JQupMpnvbS2FGxYr2CJNBw/xeTZRhfJl9B
 zbjIRzvbgHrobZDy2ecDjp5pDQM/qMzwIZTAUeoOF+N3Y5s6wRtlhKsdBNNEBOjIwmkg
 L4P1fRY7OvQZbKX6nX0B28OXRAfhMjMFMlYNcjM2nkj7+P+F0ZiSqJOskAKj3hdOsUiG
 K4Ng==
X-Gm-Message-State: AOJu0YzlmvXSGhOfnZB0YINGEfH/adNCDHmB+PEri75qtOBOZsfCefeX
 eicnKFNSUGbNSwD/lioAwNhVo4YM5LhcND0Smx8vIMQiJkOdoKBk8iH9SWV04XFgozQ6OZqc2My
 1R7PXud/ndgqXbkX90SCo9k3lf8sHukmxq4rCUevuuHFNXEwtBgzHqJPG
X-Google-Smtp-Source: AGHT+IF1U3pn/GH3X2X5kepLe7+2FR7MlIjwWwREV2lyNA+zVB3zVVtbu6+EIUu+TZJxV3DTHJvRtLwrzh0y
X-Received: by 2002:a05:6602:3f87:b0:7e1:896e:5065 with SMTP id
 ca18e2360f4ac-7eb3c8ee53emr20753539f.14.1717525566892; 
 Tue, 04 Jun 2024 11:26:06 -0700 (PDT)
Received: from postal.iol.unh.edu (postal.iol.unh.edu.
 [2606:4100:3880:1234::84]) by smtp-relay.gmail.com with ESMTPS id
 ca18e2360f4ac-7eafe5bde43sm41821139f.6.2024.06.04.11.26.06
 (version=TLS1_2 cipher=ECDHE-ECDSA-AES128-GCM-SHA256 bits=128/128);
 Tue, 04 Jun 2024 11:26:06 -0700 (PDT)
X-Relaying-Domain: iol.unh.edu
Date: Tue, 04 Jun 2024 11:26:06 -0700 (PDT)
Message-ID: <665f5c3e.050a0220.ad14c.0a92SMTPIN_ADDED_MISSING@mx.google.com>
Received: from [172.21.0.6] (unknown [172.18.0.240])
 by postal.iol.unh.edu (Postfix) with ESMTP id 4B43A605C373;
 Tue,  4 Jun 2024 14:26:06 -0400 (EDT)
Subject: |SUCCESS| pw140433-140437 [PATCH] [v13,6/6] test: add unit test for 
From: dpdklab@iol.unh.edu
To: Test Report <test-report@dpdk.org>
Cc: dpdk-test-reports@iol.unh.edu
In-Reply-To: <20240530094042.1960212-7-paul.szczepanek@arm.com>
References: <20240530094042.1960212-7-paul.szczepanek@arm.com>
Content-Type: text/plain
X-BeenThere: test-report@dpdk.org
X-Mailman-Version: 2.1.29
Precedence: list
List-Id: automatic DPDK test reports <test-report.dpdk.org>
List-Unsubscribe: <https://mails.dpdk.org/options/test-report>,
 <mailto:test-report-request@dpdk.org?subject=unsubscribe>
List-Archive: <http://mails.dpdk.org/archives/test-report/>
List-Post: <mailto:test-report@dpdk.org>
List-Help: <mailto:test-report-request@dpdk.org?subject=help>
List-Subscribe: <https://mails.dpdk.org/listinfo/test-report>,
 <mailto:test-report-request@dpdk.org?subject=subscribe>
Errors-To: test-report-bounces@dpdk.org

Test-Label: iol-compile-arm64-testing
Test-Status: SUCCESS
http://dpdk.org/patch/140437

_Testing PASS RETEST #1_

Submitter: Paul Szczepanek <paul.szczepanek@arm.com>
Date: Thursday, May 30 2024 09:40:42 
DPDK git baseline: Repo:dpdk
  Branch: master
  CommitID:76cef1af8bdaeaf67a5c4ca5df3f221df994dc46

140433-140437 --> testing pass

Test environment and result as below:

+----------------------------------------+--------------------+
|              Environment               | dpdk_meson_compile |
+========================================+====================+
| Ubuntu 20.04 ARM SVE                   | PASS               |
+----------------------------------------+--------------------+
| Debian 12 with MUSDK                   | PASS               |
+----------------------------------------+--------------------+
| CentOS Stream 9 (ARM)                  | PASS               |
+----------------------------------------+--------------------+
| Fedora 37 (ARM)                        | PASS               |
+----------------------------------------+--------------------+
| Ubuntu 20.04 aarch32 GCC Cross Compile | PASS               |
+----------------------------------------+--------------------+
| Fedora 38 (ARM)                        | PASS               |
+----------------------------------------+--------------------+
| Debian 11 (Buster) (ARM)               | PASS               |
+----------------------------------------+--------------------+


Ubuntu 20.04 ARM SVE
	Kernel: 5.4.0-167-generic
	Compiler: gcc (Ubuntu 10.5.0-1ubuntu1~20.04) 10.5.0

Debian 12 with MUSDK
	Kernel: Container Host Kernel
	Compiler: gcc 12.2.0

CentOS Stream 9 (ARM)
	Kernel: Container Host Kernel
	Compiler: gcc 11.4.1

Fedora 37 (ARM)
	Kernel: Depends on container host
	Compiler: gcc 12.3.1

Ubuntu 20.04 aarch32 GCC Cross Compile
	Kernel: 5.4.0-167-generic
	Compiler: gcc 9.4.0

Fedora 38 (ARM)
	Kernel: Depends on container host
	Compiler: gcc 13.2.1

Debian 11 (Buster) (ARM)
	Kernel: Container Host Kernel
	Compiler: gcc 10.2.1

To view detailed results, visit:
https://lab.dpdk.org/results/dashboard/patchsets/30048/

UNH-IOL DPDK Community Lab

To manage your email subscriptions, visit: 
https://lab.dpdk.org/results/dashboard/preferences/subscriptions/