From mboxrd@z Thu Jan  1 00:00:00 1970
Return-Path: <test-report-bounces@dpdk.org>
Received: from mails.dpdk.org (mails.dpdk.org [217.70.189.124])
	by inbox.dpdk.org (Postfix) with ESMTP id 3ECA644157
	for <public@inbox.dpdk.org>; Tue,  4 Jun 2024 21:04:10 +0200 (CEST)
Received: from mails.dpdk.org (localhost [127.0.0.1])
	by mails.dpdk.org (Postfix) with ESMTP id 3AE914021D;
	Tue,  4 Jun 2024 21:04:10 +0200 (CEST)
Received: from mail-pf1-f225.google.com (mail-pf1-f225.google.com
 [209.85.210.225])
 by mails.dpdk.org (Postfix) with ESMTP id E1BF340156
 for <test-report@dpdk.org>; Tue,  4 Jun 2024 21:04:08 +0200 (CEST)
Received: by mail-pf1-f225.google.com with SMTP id
 d2e1a72fcca58-7023b6d810bso1193161b3a.3
 for <test-report@dpdk.org>; Tue, 04 Jun 2024 12:04:08 -0700 (PDT)
DKIM-Signature: v=1; a=rsa-sha256; c=relaxed/relaxed;
 d=iol.unh.edu; s=unh-iol; t=1717527848; x=1718132648; darn=dpdk.org;
 h=references:in-reply-to:cc:to:from:subject:message-id:date:from:to
 :cc:subject:date:message-id:reply-to;
 bh=A4x77rXjzbIt8OwwJ6ectthHyeAyhn+qAb4sWqI1VfM=;
 b=UNoTI6yTxxo8hudiR4i6Q4Nxu+C59Ixgb3DJ7OIAwR+7Cf3BMH0IYytMHqSnu0wp9w
 tH8z60wf9GdXoHI8wMfGWbx1Urt1+BMCT108TYfrssdPW0jxOChsQsRL0ezAugDx9P75
 Xu/h/JZ2gWFyuIXQvo/VJwQFGqWfFsxAVgqV4=
X-Google-DKIM-Signature: v=1; a=rsa-sha256; c=relaxed/relaxed;
 d=1e100.net; s=20230601; t=1717527848; x=1718132648;
 h=references:in-reply-to:cc:to:from:subject:message-id:date
 :x-gm-message-state:from:to:cc:subject:date:message-id:reply-to;
 bh=A4x77rXjzbIt8OwwJ6ectthHyeAyhn+qAb4sWqI1VfM=;
 b=Y5ivUpTVPE7X1xoGh6pNK+rh4RNumJSllK06jSDslM/3AfwEtuwUyXQsLnZ8XBSls4
 rItuhIrZyz37V87oJuvjT7N5yPM1WvHTFSYIiXQPy3Na68uHvTC4Yw9QK0FYtHqlBeNd
 3bEI9SrHXr2tEIEldnHkk2j8rFiry4sj7D16s70aYbpRHZKdAwk59rHP4vLh812KCzNf
 +I+RD6J2o5sTvUphtZ6DVgvcshv35gDGNAln0RtutXYqErqlLA7dTJqiKxpEVgMeM7Xe
 hNovOZYxZKntBBpERMCKB7QCD+pE3ET1/nUO4OYqyhfCH/Du6/AyCqY+3+Hb+MvGT2PR
 u6fA==
X-Gm-Message-State: AOJu0Yyhr6VTKhExZhaHOnmeXA5ExtyN/Rsbc9NpTitPk6XsDI8GXJgi
 QEdLd/L82jvHknDHGPqOnlNctDyzjkUW/wtkfkFbMZuWtm8dohfCR6ca4mL7wQdU1H3ni/qsyQw
 oqn9psXA6NJEkYtaYy2V5w5PTSMU6Jmz8/5vAAZ2n
X-Google-Smtp-Source: AGHT+IHYR8Ytj1lg/pvdWj/4RUeabAPZKkw147JKQrYbNOIAQhn6c/VgSq8ZzTC3EsJ9z4YllxY1nv/edW6p
X-Received: by 2002:a05:6a21:3996:b0:1b2:b1a7:483c with SMTP id
 adf61e73a8af0-1b2b7122352mr594522637.49.1717527848060; 
 Tue, 04 Jun 2024 12:04:08 -0700 (PDT)
Received: from postal.iol.unh.edu (postal.iol.unh.edu. [132.177.123.84])
 by smtp-relay.gmail.com with ESMTPS id
 d2e1a72fcca58-702423e38a8sm281088b3a.3.2024.06.04.12.04.07
 (version=TLS1_2 cipher=ECDHE-ECDSA-AES128-GCM-SHA256 bits=128/128);
 Tue, 04 Jun 2024 12:04:08 -0700 (PDT)
X-Relaying-Domain: iol.unh.edu
Date: Tue, 04 Jun 2024 12:04:08 -0700 (PDT)
Message-ID: <665f6528.050a0220.dd1bb.4c25SMTPIN_ADDED_MISSING@mx.google.com>
Received: from [172.21.0.6] (unknown [172.18.0.240])
 by postal.iol.unh.edu (Postfix) with ESMTP id 126D5605C373;
 Tue,  4 Jun 2024 15:04:07 -0400 (EDT)
Subject: |SUCCESS| pw140725-140724 [PATCH] [v4,3/3] net/mlx5: implement VXLAN
From: dpdklab@iol.unh.edu
To: Test Report <test-report@dpdk.org>
Cc: rongwei liu <rongweil@nvidia.com>
In-Reply-To: <20240604123840.432044-4-rongweil@nvidia.com>
References: <20240604123840.432044-4-rongweil@nvidia.com>
Content-Type: text/plain
X-BeenThere: test-report@dpdk.org
X-Mailman-Version: 2.1.29
Precedence: list
List-Id: automatic DPDK test reports <test-report.dpdk.org>
List-Unsubscribe: <https://mails.dpdk.org/options/test-report>,
 <mailto:test-report-request@dpdk.org?subject=unsubscribe>
List-Archive: <http://mails.dpdk.org/archives/test-report/>
List-Post: <mailto:test-report@dpdk.org>
List-Help: <mailto:test-report-request@dpdk.org?subject=help>
List-Subscribe: <https://mails.dpdk.org/listinfo/test-report>,
 <mailto:test-report-request@dpdk.org?subject=subscribe>
Errors-To: test-report-bounces@dpdk.org

Test-Label: iol-unit-amd64-testing
Test-Status: SUCCESS
http://dpdk.org/patch/140724

_Testing PASS_

Submitter: rongwei liu <rongweil@nvidia.com>
Date: Tuesday, June 04 2024 12:38:39 
DPDK git baseline: Repo:dpdk
  Branch: master
  CommitID:a6bbf008457a455fcf4cf7374c280bba697a353f

140725-140724 --> testing pass

Test environment and result as below:

+---------------------+----------------+
|     Environment     | dpdk_unit_test |
+=====================+================+
| Windows Server 2019 | PASS           |
+---------------------+----------------+
| Windows Server 2022 | PASS           |
+---------------------+----------------+
| CentOS Stream 9     | PASS           |
+---------------------+----------------+
| CentOS Stream 8     | PASS           |
+---------------------+----------------+
| Debian 12           | PASS           |
+---------------------+----------------+
| Fedora 37           | PASS           |
+---------------------+----------------+
| Fedora 38           | PASS           |
+---------------------+----------------+
| Debian Bullseye     | PASS           |
+---------------------+----------------+


Windows Server 2019
	Kernel: 10.0.17763
	Compiler: clang 14.0 and gcc 8.1.0 (MinGW)

Windows Server 2022
	Kernel: 10.0.20348.2031
	Compiler: clang 15.0.7, gcc 8.1.0 (MinGW), and MSVC VS 17.9

CentOS Stream 9
	Kernel: 5.4.0-167-generic
	Compiler: gcc 11.4.1 20230605

CentOS Stream 8
	Kernel: 5.4.0-167-generic
	Compiler: gcc 8.5.0 20210514

Debian 12
	Kernel: Container Host Kernel
	Compiler: gcc 10.2.1

Fedora 37
	Kernel: Depends on container host system
	Compiler: gcc 12.3.1

Fedora 38
	Kernel: Depends on container host
	Compiler: gcc 13.2.1

Debian Bullseye
	Kernel: 5.4.0-167-generic
	Compiler: gcc 10.2.1-6

To view detailed results, visit:
https://lab.dpdk.org/results/dashboard/patchsets/30099/

UNH-IOL DPDK Community Lab

To manage your email subscriptions, visit: 
https://lab.dpdk.org/results/dashboard/preferences/subscriptions/