From mboxrd@z Thu Jan  1 00:00:00 1970
Return-Path: <test-report-bounces@dpdk.org>
Received: from mails.dpdk.org (mails.dpdk.org [217.70.189.124])
	by inbox.dpdk.org (Postfix) with ESMTP id 650FC44157
	for <public@inbox.dpdk.org>; Tue,  4 Jun 2024 21:29:50 +0200 (CEST)
Received: from mails.dpdk.org (localhost [127.0.0.1])
	by mails.dpdk.org (Postfix) with ESMTP id 5FC2E4021D;
	Tue,  4 Jun 2024 21:29:50 +0200 (CEST)
Received: from mail-oo1-f97.google.com (mail-oo1-f97.google.com
 [209.85.161.97]) by mails.dpdk.org (Postfix) with ESMTP id 5815540156
 for <test-report@dpdk.org>; Tue,  4 Jun 2024 21:29:49 +0200 (CEST)
Received: by mail-oo1-f97.google.com with SMTP id
 006d021491bc7-5ba69e446f4so526198eaf.2
 for <test-report@dpdk.org>; Tue, 04 Jun 2024 12:29:49 -0700 (PDT)
DKIM-Signature: v=1; a=rsa-sha256; c=relaxed/relaxed;
 d=iol.unh.edu; s=unh-iol; t=1717529388; x=1718134188; darn=dpdk.org;
 h=references:in-reply-to:cc:to:from:subject:message-id:date:from:to
 :cc:subject:date:message-id:reply-to;
 bh=YRcl55cYeXchFWHx/pi8XttsFyGdJbnXLBFAahdBydY=;
 b=ImVwRzwYmtyAO2msJ9MiV/HcIXCcHGg6h+6TRNvGk8atm4g7WGgPNOXzLBbh42KSLB
 mh2sWVLUeh2fNTG9+TiYXti2gAuzbDuje/Xj2QS4q7AxEQOzku08wt4XKZjCVsZRnmAs
 TrhDViJbT9wRMT0qjBMjDuDOm6DBm9BRCcgp0=
X-Google-DKIM-Signature: v=1; a=rsa-sha256; c=relaxed/relaxed;
 d=1e100.net; s=20230601; t=1717529388; x=1718134188;
 h=references:in-reply-to:cc:to:from:subject:message-id:date
 :x-gm-message-state:from:to:cc:subject:date:message-id:reply-to;
 bh=YRcl55cYeXchFWHx/pi8XttsFyGdJbnXLBFAahdBydY=;
 b=Zgn1/4+6M6lD/uwEW1TXVQK+EIqtij4PMI52WM0lGSKlE61fDDwG/1zOik98E1X+mg
 1wW+s1S2qJBIDrgIxKMkSRTeVxb0+36rmitr/72v0Tk9Px4M08tPW14nrPkB8hbKQPE2
 jkF+h/wudrRGGMpviXaLDo9Ne0+0ZIBJUoFTiF+PEmPTkwTFTfv/QyAnKn/3GfSonysv
 EDes7hYAXOjxeuCfys6pO7SNWzNtW4prKnnpfHOgcCl0P9vBa1VQ8zUDnUbxQhRVgZoS
 ONDIV8t7qwfAsRoYmBRiMhfut/CTk845uN6/I8GepzwSbYNrKjgZw737pEGHUrqonFIl
 eNnA==
X-Gm-Message-State: AOJu0YxgHViJZBd1aeLY4x6uiXfStiOnxtexC10Uu1+nrwXjREDcV8U8
 dD5ztxWwrn79njtu8ydq8dfAfpLF7i6eFxavLlvopBkLOeI9dEAvl+HFrNAHnDBNgf8VjPi+8M2
 1f+K0jp6UIUTWp+ku0jpWSEnPo99PG9HwxzOOHVxj9CV83WCqmm0ryNea
X-Google-Smtp-Source: AGHT+IHFIoev0TrtRrEx08b01lEIzazLrBN9FC9Bru6O6ebBCtIq+it8ZgLKU7SK/+240jtKdiwQLrZhLXFG
X-Received: by 2002:a05:6820:16a9:b0:5b2:ff69:97c3 with SMTP id
 006d021491bc7-5ba78f2338bmr712140eaf.2.1717529388653; 
 Tue, 04 Jun 2024 12:29:48 -0700 (PDT)
Received: from postal.iol.unh.edu (postal.iol.unh.edu.
 [2606:4100:3880:1234::84]) by smtp-relay.gmail.com with ESMTPS id
 006d021491bc7-5ba004bd420sm340847eaf.19.2024.06.04.12.29.48
 (version=TLS1_2 cipher=ECDHE-ECDSA-AES128-GCM-SHA256 bits=128/128);
 Tue, 04 Jun 2024 12:29:48 -0700 (PDT)
X-Relaying-Domain: iol.unh.edu
Date: Tue, 04 Jun 2024 12:29:48 -0700 (PDT)
Message-ID: <665f6b2c.050a0220.3650e.9cd8SMTPIN_ADDED_MISSING@mx.google.com>
Received: from [172.21.0.6] (unknown [172.18.0.240])
 by postal.iol.unh.edu (Postfix) with ESMTP id 0E6A8605C380;
 Tue,  4 Jun 2024 15:29:48 -0400 (EDT)
Subject: |SUCCESS| pw140725-140724 [PATCH] [v4,3/3] net/mlx5: implement VXLAN
From: dpdklab@iol.unh.edu
To: Test Report <test-report@dpdk.org>
Cc: dpdk-test-reports@iol.unh.edu
In-Reply-To: <20240604123840.432044-4-rongweil@nvidia.com>
References: <20240604123840.432044-4-rongweil@nvidia.com>
Content-Type: text/plain
X-BeenThere: test-report@dpdk.org
X-Mailman-Version: 2.1.29
Precedence: list
List-Id: automatic DPDK test reports <test-report.dpdk.org>
List-Unsubscribe: <https://mails.dpdk.org/options/test-report>,
 <mailto:test-report-request@dpdk.org?subject=unsubscribe>
List-Archive: <http://mails.dpdk.org/archives/test-report/>
List-Post: <mailto:test-report@dpdk.org>
List-Help: <mailto:test-report-request@dpdk.org?subject=help>
List-Subscribe: <https://mails.dpdk.org/listinfo/test-report>,
 <mailto:test-report-request@dpdk.org?subject=subscribe>
Errors-To: test-report-bounces@dpdk.org

Test-Label: iol-unit-amd64-testing
Test-Status: SUCCESS
http://dpdk.org/patch/140724

_Testing PASS_

Submitter: rongwei liu <rongweil@nvidia.com>
Date: Tuesday, June 04 2024 12:38:39 
DPDK git baseline: Repo:dpdk
  Branch: master
  CommitID:a6bbf008457a455fcf4cf7374c280bba697a353f

140725-140724 --> testing pass

Test environment and result as below:

+---------------------+----------------+
|     Environment     | dpdk_unit_test |
+=====================+================+
| Windows Server 2019 | PASS           |
+---------------------+----------------+
| Windows Server 2022 | PASS           |
+---------------------+----------------+
| CentOS Stream 9     | PASS           |
+---------------------+----------------+
| CentOS Stream 8     | PASS           |
+---------------------+----------------+
| Debian 12           | PASS           |
+---------------------+----------------+
| Fedora 37           | PASS           |
+---------------------+----------------+
| Fedora 38           | PASS           |
+---------------------+----------------+
| Debian Bullseye     | PASS           |
+---------------------+----------------+
| openSUSE Leap 15    | PASS           |
+---------------------+----------------+
| Fedora 39           | PASS           |
+---------------------+----------------+
| Ubuntu 20.04        | PASS           |
+---------------------+----------------+
| Ubuntu 24.04        | PASS           |
+---------------------+----------------+
| RHEL8               | PASS           |
+---------------------+----------------+
| Ubuntu 22.04        | PASS           |
+---------------------+----------------+


Windows Server 2019
	Kernel: 10.0.17763
	Compiler: clang 14.0 and gcc 8.1.0 (MinGW)

Windows Server 2022
	Kernel: 10.0.20348.2031
	Compiler: clang 15.0.7, gcc 8.1.0 (MinGW), and MSVC VS 17.9

CentOS Stream 9
	Kernel: 5.4.0-167-generic
	Compiler: gcc 11.4.1 20230605

CentOS Stream 8
	Kernel: 5.4.0-167-generic
	Compiler: gcc 8.5.0 20210514

Debian 12
	Kernel: Container Host Kernel
	Compiler: gcc 10.2.1

Fedora 37
	Kernel: Depends on container host system
	Compiler: gcc 12.3.1

Fedora 38
	Kernel: Depends on container host
	Compiler: gcc 13.2.1

Debian Bullseye
	Kernel: 5.4.0-167-generic
	Compiler: gcc 10.2.1-6

openSUSE Leap 15
	Kernel: 5.4.0-167-generic
	Compiler: gcc 7.5.0

Fedora 39
	Kernel: Depends on container host
	Compiler: gcc 13.2.1

Ubuntu 20.04
	Kernel: 5.4.0-167-generic
	Compiler: gcc 9.4.0-1ubuntu1~20.04.1

Ubuntu 24.04
	Kernel: 5.4.0-167-generic
	Compiler: gcc 13.2.0

RHEL8
	Kernel: 5.4.0-167-generic
	Compiler: gcc 8.5.0 20210514 (Red Hat 8.5.0-20)

Ubuntu 22.04
	Kernel: 5.4.0-167-generic
	Compiler: gcc 11.4.0

To view detailed results, visit:
https://lab.dpdk.org/results/dashboard/patchsets/30099/

UNH-IOL DPDK Community Lab

To manage your email subscriptions, visit: 
https://lab.dpdk.org/results/dashboard/preferences/subscriptions/