From mboxrd@z Thu Jan  1 00:00:00 1970
Return-Path: <test-report-bounces@dpdk.org>
Received: from mails.dpdk.org (mails.dpdk.org [217.70.189.124])
	by inbox.dpdk.org (Postfix) with ESMTP id C08ED4414D
	for <public@inbox.dpdk.org>; Wed,  5 Jun 2024 01:23:23 +0200 (CEST)
Received: from mails.dpdk.org (localhost [127.0.0.1])
	by mails.dpdk.org (Postfix) with ESMTP id B68E4402D2;
	Wed,  5 Jun 2024 01:23:23 +0200 (CEST)
Received: from mail-io1-f100.google.com (mail-io1-f100.google.com
 [209.85.166.100])
 by mails.dpdk.org (Postfix) with ESMTP id 392AD402A9
 for <test-report@dpdk.org>; Wed,  5 Jun 2024 01:23:22 +0200 (CEST)
Received: by mail-io1-f100.google.com with SMTP id
 ca18e2360f4ac-7eb12b2bf78so132929339f.0
 for <test-report@dpdk.org>; Tue, 04 Jun 2024 16:23:22 -0700 (PDT)
DKIM-Signature: v=1; a=rsa-sha256; c=relaxed/relaxed;
 d=iol.unh.edu; s=unh-iol; t=1717543401; x=1718148201; darn=dpdk.org;
 h=references:in-reply-to:cc:to:from:subject:message-id:date:from:to
 :cc:subject:date:message-id:reply-to;
 bh=PIzc7liZajHbAOwQpwhRQRN1rAag7QcwvO33sJ3neIo=;
 b=OSDNoH03OGsyQDpax6xjvsN1UCpBoCdhoRWL2hFcXu+rmZV38ChY40V9Ws6aatXYab
 wgB75b4CajGHbHCNyVhQI7l91LCDbexPXkGdeUTh86+xK2gKVNkkFYqB2fvv+p/NgTU1
 +yp02DIH3Rgas9ya4uae8SHXkeK2CAT+/BBgY=
X-Google-DKIM-Signature: v=1; a=rsa-sha256; c=relaxed/relaxed;
 d=1e100.net; s=20230601; t=1717543401; x=1718148201;
 h=references:in-reply-to:cc:to:from:subject:message-id:date
 :x-gm-message-state:from:to:cc:subject:date:message-id:reply-to;
 bh=PIzc7liZajHbAOwQpwhRQRN1rAag7QcwvO33sJ3neIo=;
 b=PJ0S/Or9NUB6/nkDXEXmokAnsGvIS+/2uha7ncLjBVJQVYbtRSWIKWkq8ivhr2sLw5
 nLu2TKBs9LgKWu3l/5JPy04KrFwzS4OYvTOp9DvIMeeA84RaQ0gM0ZxKjXEnQEqo3q9v
 Hd9al30LZepf/bJkNEr3B0YTeJNJT2jhmgW2quCGPHPKZQDtiPATVd4qv3s2OJr3knCj
 idamRymSTRGl60kUO5DvL/jWQMv2wFHVJvbtZvjXm0Qs1sfinDz3c6CMkvD2LWzdrFo/
 yepzTxqD4oCtiM4yI+FEVQEJMIwU09tRkBuKZ2TdfcL5nxFp1UoXt/x/yQ0dT5Xwqowi
 +1cw==
X-Gm-Message-State: AOJu0Yylpl/1U1chvKURnpArd6GvwP8RJIkW4FxLDxpOcxZC7HFiW/2U
 jF9TmmMOjrRjkmWJBOmOePAo4uIgE9qbR5gZIS3gjwqYNWtaEnXfpqcz4ZlpIOJI2JNa2UKNfox
 pBsBf419w21W6Snm9ZjCLhQf/y0R8UqLmiysE7IWrQOruntS54xbXML7Q
X-Google-Smtp-Source: AGHT+IE6mxRXoZhQQYXmdOkrc3jvJ4IpcNzAYK8dxucMDN04KApsp+/X78MYKXE1leUf0tSmIlTyzTky28sH
X-Received: by 2002:a05:6602:1553:b0:7e1:7fd2:676 with SMTP id
 ca18e2360f4ac-7eb3c79a750mr111549039f.12.1717543401642; 
 Tue, 04 Jun 2024 16:23:21 -0700 (PDT)
Received: from postal.iol.unh.edu (postal.iol.unh.edu.
 [2606:4100:3880:1234::84]) by smtp-relay.gmail.com with ESMTPS id
 ca18e2360f4ac-7eb40525f16sm220039f.22.2024.06.04.16.23.21
 (version=TLS1_2 cipher=ECDHE-ECDSA-AES128-GCM-SHA256 bits=128/128);
 Tue, 04 Jun 2024 16:23:21 -0700 (PDT)
X-Relaying-Domain: iol.unh.edu
Date: Tue, 04 Jun 2024 16:23:21 -0700 (PDT)
Message-ID: <665fa1e9.050a0220.1346ab.0263SMTPIN_ADDED_MISSING@mx.google.com>
Received: from [172.21.0.6] (unknown [172.18.0.240])
 by postal.iol.unh.edu (Postfix) with ESMTP id 128C3605C380;
 Tue,  4 Jun 2024 19:23:21 -0400 (EDT)
Subject: |SUCCESS| pw140731 [PATCH] net/mlx5: add queue hardware object conte
From: dpdklab@iol.unh.edu
To: Test Report <test-report@dpdk.org>
Cc: dpdk-test-reports@iol.unh.edu
In-Reply-To: <20240604211136.1616519-1-kiranv@nvidia.com>
References: <20240604211136.1616519-1-kiranv@nvidia.com>
Content-Type: text/plain
X-BeenThere: test-report@dpdk.org
X-Mailman-Version: 2.1.29
Precedence: list
List-Id: automatic DPDK test reports <test-report.dpdk.org>
List-Unsubscribe: <https://mails.dpdk.org/options/test-report>,
 <mailto:test-report-request@dpdk.org?subject=unsubscribe>
List-Archive: <http://mails.dpdk.org/archives/test-report/>
List-Post: <mailto:test-report@dpdk.org>
List-Help: <mailto:test-report-request@dpdk.org?subject=help>
List-Subscribe: <https://mails.dpdk.org/listinfo/test-report>,
 <mailto:test-report-request@dpdk.org?subject=subscribe>
Errors-To: test-report-bounces@dpdk.org

Test-Label: iol-unit-arm64-testing
Test-Status: SUCCESS
http://dpdk.org/patch/140731

_Testing PASS_

Submitter: Kiran Vedere <kiranv@nvidia.com>
Date: Tuesday, June 04 2024 21:11:36 
DPDK git baseline: Repo:dpdk
  Branch: master
  CommitID:a207de9a356ef890dd858064ee94e15f0841f0e1

140731 --> testing pass

Test environment and result as below:

+-----------------------------+------------------------------+---------------------------+----------------+--------------+
|         Environment         | cryptodev_sw_snow3g_autotest | cryptodev_sw_zuc_autotest | dpdk_unit_test | lpm_autotest |
+=============================+==============================+===========================+================+==============+
| Debian 12 (arm)             | PASS                         | PASS                      | PASS           | SKIPPED      |
+-----------------------------+------------------------------+---------------------------+----------------+--------------+
| CentOS Stream 9 (ARM)       | SKIPPED                      | SKIPPED                   | PASS           | SKIPPED      |
+-----------------------------+------------------------------+---------------------------+----------------+--------------+
| Debian 11 (Buster) (ARM)    | SKIPPED                      | SKIPPED                   | PASS           | SKIPPED      |
+-----------------------------+------------------------------+---------------------------+----------------+--------------+
| Fedora 38 (ARM)             | SKIPPED                      | SKIPPED                   | PASS           | SKIPPED      |
+-----------------------------+------------------------------+---------------------------+----------------+--------------+
| 32-bit Ubuntu 20.04.4 (ARM) | SKIPPED                      | SKIPPED                   | PASS           | SKIPPED      |
+-----------------------------+------------------------------+---------------------------+----------------+--------------+
| Fedora 38 (ARM Clang)       | SKIPPED                      | SKIPPED                   | PASS           | SKIPPED      |
+-----------------------------+------------------------------+---------------------------+----------------+--------------+
| Fedora 37 (ARM)             | SKIPPED                      | SKIPPED                   | PASS           | SKIPPED      |
+-----------------------------+------------------------------+---------------------------+----------------+--------------+
| Fedora 39 (ARM Clang)       | SKIPPED                      | SKIPPED                   | PASS           | SKIPPED      |
+-----------------------------+------------------------------+---------------------------+----------------+--------------+
| Ubuntu 20.04 (ARM)          | SKIPPED                      | SKIPPED                   | PASS           | SKIPPED      |
+-----------------------------+------------------------------+---------------------------+----------------+--------------+
| Ubuntu 24.04 (ARM)          | SKIPPED                      | SKIPPED                   | PASS           | SKIPPED      |
+-----------------------------+------------------------------+---------------------------+----------------+--------------+
| Ubuntu 20.04 ARM SVE        | SKIPPED                      | SKIPPED                   | SKIPPED        | PASS         |
+-----------------------------+------------------------------+---------------------------+----------------+--------------+


Debian 12 (arm)
	Kernel: Container Host Kernel
	Compiler: gcc 12.2.0

CentOS Stream 9 (ARM)
	Kernel: Container Host Kernel
	Compiler: gcc 11.4.1

Debian 11 (Buster) (ARM)
	Kernel: Container Host Kernel
	Compiler: gcc 10.2.1

Fedora 38 (ARM)
	Kernel: Depends on container host
	Compiler: gcc 13.2.1

32-bit Ubuntu 20.04.4 (ARM)
	Kernel: 5.4.0-155-generic aarch64
	Compiler: gcc 9.4

Fedora 38 (ARM Clang)
	Kernel: Depends on container host
	Compiler: clang 16.0.6

Fedora 37 (ARM)
	Kernel: Depends on container host
	Compiler: gcc 12.3.1

Fedora 39 (ARM Clang)
	Kernel: Depends on container host
	Compiler: clang 17.0.6

Ubuntu 20.04 (ARM)
	Kernel: Container Host Kernel
	Compiler: gcc 9.4.0

Ubuntu 24.04 (ARM)
	Kernel: 5.4.0-167-generic
	Compiler: gcc 13.2.0

Ubuntu 20.04 ARM SVE
	Kernel: 5.4.0-167-generic
	Compiler: gcc (Ubuntu 10.5.0-1ubuntu1~20.04) 10.5.0

To view detailed results, visit:
https://lab.dpdk.org/results/dashboard/patchsets/30104/

UNH-IOL DPDK Community Lab

To manage your email subscriptions, visit: 
https://lab.dpdk.org/results/dashboard/preferences/subscriptions/