From mboxrd@z Thu Jan  1 00:00:00 1970
Return-Path: <test-report-bounces@dpdk.org>
Received: from mails.dpdk.org (mails.dpdk.org [217.70.189.124])
	by inbox.dpdk.org (Postfix) with ESMTP id B0F4244152
	for <public@inbox.dpdk.org>; Wed,  5 Jun 2024 01:28:30 +0200 (CEST)
Received: from mails.dpdk.org (localhost [127.0.0.1])
	by mails.dpdk.org (Postfix) with ESMTP id AC4DA402D2;
	Wed,  5 Jun 2024 01:28:30 +0200 (CEST)
Received: from mail-vk1-f227.google.com (mail-vk1-f227.google.com
 [209.85.221.227])
 by mails.dpdk.org (Postfix) with ESMTP id ED3DF402A9
 for <test-report@dpdk.org>; Wed,  5 Jun 2024 01:28:29 +0200 (CEST)
Received: by mail-vk1-f227.google.com with SMTP id
 71dfb90a1353d-4eb236e27adso721513e0c.2
 for <test-report@dpdk.org>; Tue, 04 Jun 2024 16:28:29 -0700 (PDT)
DKIM-Signature: v=1; a=rsa-sha256; c=relaxed/relaxed;
 d=iol.unh.edu; s=unh-iol; t=1717543709; x=1718148509; darn=dpdk.org;
 h=references:in-reply-to:cc:to:from:subject:message-id:date:from:to
 :cc:subject:date:message-id:reply-to;
 bh=RMSrL1ERTza4hiOos/loRKVppIoWydwAtbFPuUbQ3MM=;
 b=bDol95FGwI34CwfFnkeB/PIJyxg1NAEuG+SVwEkdQFZnLeTC/yVOPokBw0b6Z7i2AM
 IcGDwfUz6MJ14kjwKeJ1TtBLzsmsG/7gZOoyMJr8C7CV7UcecAFfeGx63VKN8crXF5Yv
 qnxoLESp0jF9iT2r2e0iihmUFH2sGCkrFxcqU=
X-Google-DKIM-Signature: v=1; a=rsa-sha256; c=relaxed/relaxed;
 d=1e100.net; s=20230601; t=1717543709; x=1718148509;
 h=references:in-reply-to:cc:to:from:subject:message-id:date
 :x-gm-message-state:from:to:cc:subject:date:message-id:reply-to;
 bh=RMSrL1ERTza4hiOos/loRKVppIoWydwAtbFPuUbQ3MM=;
 b=T/fz0npOOvvsfpJCfDvI70zzWlvXe+OsrX/IZAiuylTdioJvMXbhAYD/B2nfLxaHr1
 4eAJn+1bo1k/LQlmkl2xg0k3++4pIq/jnn0Dwgvu17oS/iO5a9yoIcEDFTdxNa04c5FH
 lyhmBR/KmPSONQ4pD8fL17ScjwMn60DxICI/wGcFl1BdpAzkGGMj3J4eKYXQT5ogAQc6
 w+F1rQOL4eUgiIEqaIoZxYM0OWlfl9FxsmcV7dyDBQ9gZkv8GC1h9+w4CZe+bqKL6zoh
 BwCo/3UHmnHSkzKVZt1+3rpxMiKwyVtvaBWzEw1NIb+8oenfQcmhb6lqLqt+M3QR12L5
 dt4Q==
X-Gm-Message-State: AOJu0YwK6VMKAQ2VFx/v0K6u/BplheqveDrTCLPQJmyzw+frwtNuBHxM
 lmJPf2O7OEl+PWWNjrEteHAdq1QFXN1TGA48thI6CUUgZqaxGuT0yjN21pLF/Hm4JzM+VCJNpRi
 ECJ2bIAGy98LcWbZ2tG7atWIw1jM4+y6Nvu1lCheZ
X-Google-Smtp-Source: AGHT+IHXJ6vCfiaBDjumOMhPbWtENoPTcVdV4bA1BJSJ3IGXsHsymI49t3q5e9TFSJVu3kC2Rg7A8ZEcYoAI
X-Received: by 2002:a1f:eecf:0:b0:4e4:ee0d:c475 with SMTP id
 71dfb90a1353d-4eb3a41dd25mr1271288e0c.8.1717543708007; 
 Tue, 04 Jun 2024 16:28:28 -0700 (PDT)
Received: from postal.iol.unh.edu (postal.iol.unh.edu. [132.177.123.84])
 by smtp-relay.gmail.com with ESMTPS id
 71dfb90a1353d-4eafedc3627sm723495e0c.2.2024.06.04.16.28.27
 (version=TLS1_2 cipher=ECDHE-ECDSA-AES128-GCM-SHA256 bits=128/128);
 Tue, 04 Jun 2024 16:28:27 -0700 (PDT)
X-Relaying-Domain: iol.unh.edu
Date: Tue, 04 Jun 2024 16:28:27 -0700 (PDT)
Message-ID: <665fa31b.1f0a0220.f7019.72bdSMTPIN_ADDED_MISSING@mx.google.com>
Received: from [172.21.0.7] (unknown [172.18.0.240])
 by postal.iol.unh.edu (Postfix) with ESMTP id 9E3C1605C380;
 Tue,  4 Jun 2024 19:28:27 -0400 (EDT)
Subject: |SUCCESS| pw140731 [PATCH] net/mlx5: add queue hardware object conte
From: dpdklab@iol.unh.edu
To: Test Report <test-report@dpdk.org>
Cc: dpdk-test-reports@iol.unh.edu
In-Reply-To: <20240604211136.1616519-1-kiranv@nvidia.com>
References: <20240604211136.1616519-1-kiranv@nvidia.com>
Content-Type: text/plain
X-BeenThere: test-report@dpdk.org
X-Mailman-Version: 2.1.29
Precedence: list
List-Id: automatic DPDK test reports <test-report.dpdk.org>
List-Unsubscribe: <https://mails.dpdk.org/options/test-report>,
 <mailto:test-report-request@dpdk.org?subject=unsubscribe>
List-Archive: <http://mails.dpdk.org/archives/test-report/>
List-Post: <mailto:test-report@dpdk.org>
List-Help: <mailto:test-report-request@dpdk.org?subject=help>
List-Subscribe: <https://mails.dpdk.org/listinfo/test-report>,
 <mailto:test-report-request@dpdk.org?subject=subscribe>
Errors-To: test-report-bounces@dpdk.org

Test-Label: iol-abi-testing
Test-Status: SUCCESS
http://dpdk.org/patch/140731

_Testing PASS_

Submitter: Kiran Vedere <kiranv@nvidia.com>
Date: Tuesday, June 04 2024 21:11:36 
DPDK git baseline: Repo:dpdk
  Branch: master
  CommitID:a207de9a356ef890dd858064ee94e15f0841f0e1

140731 --> testing pass

Test environment and result as below:

+------------------+----------+
|   Environment    | abi_test |
+==================+==========+
| Debian Bullseye  | PASS     |
+------------------+----------+
| CentOS Stream 8  | PASS     |
+------------------+----------+
| CentOS Stream 9  | PASS     |
+------------------+----------+
| Fedora 39        | PASS     |
+------------------+----------+
| Debian 12        | PASS     |
+------------------+----------+
| Fedora 37        | PASS     |
+------------------+----------+
| openSUSE Leap 15 | PASS     |
+------------------+----------+
| Fedora 38        | PASS     |
+------------------+----------+
| RHEL8            | PASS     |
+------------------+----------+
| Ubuntu 22.04     | PASS     |
+------------------+----------+
| Ubuntu 24.04     | PASS     |
+------------------+----------+


Debian Bullseye
	Kernel: 5.4.0-167-generic
	Compiler: gcc 10.2.1-6

CentOS Stream 8
	Kernel: 5.4.0-167-generic
	Compiler: gcc 8.5.0 20210514

CentOS Stream 9
	Kernel: 5.4.0-167-generic
	Compiler: gcc 11.4.1 20230605

Fedora 39
	Kernel: Depends on container host
	Compiler: clang 17.0.6

Debian 12
	Kernel: Container Host Kernel
	Compiler: gcc 10.2.1

Fedora 37
	Kernel: Depends on container host system
	Compiler: gcc 12.3.1

openSUSE Leap 15
	Kernel: 5.4.0-167-generic
	Compiler: gcc 7.5.0

Fedora 38
	Kernel: Depends on container host
	Compiler: clang 16.0.6

RHEL8
	Kernel: 5.4.0-167-generic
	Compiler: gcc 8.5.0 20210514 (Red Hat 8.5.0-20)

Ubuntu 22.04
	Kernel: 5.4.0-167-generic
	Compiler: gcc 11.4.0

Ubuntu 24.04
	Kernel: 5.4.0-167-generic
	Compiler: gcc 13.2.0

To view detailed results, visit:
https://lab.dpdk.org/results/dashboard/patchsets/30104/

UNH-IOL DPDK Community Lab

To manage your email subscriptions, visit: 
https://lab.dpdk.org/results/dashboard/preferences/subscriptions/