From mboxrd@z Thu Jan  1 00:00:00 1970
Return-Path: <test-report-bounces@dpdk.org>
Received: from mails.dpdk.org (mails.dpdk.org [217.70.189.124])
	by inbox.dpdk.org (Postfix) with ESMTP id 8B80244159
	for <public@inbox.dpdk.org>; Wed,  5 Jun 2024 01:32:00 +0200 (CEST)
Received: from mails.dpdk.org (localhost [127.0.0.1])
	by mails.dpdk.org (Postfix) with ESMTP id 826C3402D2;
	Wed,  5 Jun 2024 01:32:00 +0200 (CEST)
Received: from mail-vk1-f228.google.com (mail-vk1-f228.google.com
 [209.85.221.228])
 by mails.dpdk.org (Postfix) with ESMTP id 4228D402A9
 for <test-report@dpdk.org>; Wed,  5 Jun 2024 01:31:59 +0200 (CEST)
Received: by mail-vk1-f228.google.com with SMTP id
 71dfb90a1353d-4eb007a9f6fso1794059e0c.2
 for <test-report@dpdk.org>; Tue, 04 Jun 2024 16:31:59 -0700 (PDT)
DKIM-Signature: v=1; a=rsa-sha256; c=relaxed/relaxed;
 d=iol.unh.edu; s=unh-iol; t=1717543918; x=1718148718; darn=dpdk.org;
 h=references:in-reply-to:cc:to:from:subject:message-id:date:from:to
 :cc:subject:date:message-id:reply-to;
 bh=CLqPJg+KTeRn8xMYuFbw0RP5iQ4wRC/bbfmjb97xKkw=;
 b=TLRhn4Z3UjBp29W5ypa27nkW96XBRkAs90VYT3c7Vw8DS0TBe5QKMqzC3f7Bpd9ilo
 tSVa11r8prpP5dfhxHG9tGf3HVgoHHkeMkNnMCQdxxEoKizl9hEDoSBFq3Lxr7aFMChX
 Thxt6ROUeQqt/xMqHoMMnHlOb5X03SpkFQdd4=
X-Google-DKIM-Signature: v=1; a=rsa-sha256; c=relaxed/relaxed;
 d=1e100.net; s=20230601; t=1717543918; x=1718148718;
 h=references:in-reply-to:cc:to:from:subject:message-id:date
 :x-gm-message-state:from:to:cc:subject:date:message-id:reply-to;
 bh=CLqPJg+KTeRn8xMYuFbw0RP5iQ4wRC/bbfmjb97xKkw=;
 b=nv0xFnCddjU+QVIWJT0EaPg3lhF2k2CSkOskY7yAi82pQQpTOHgSyQ9bufGTnxLBnD
 qpjUZo2J1QTh8l+mdifMZqYpW4EtoDPm4oA70cxL9qzsP/RmfxyhBhej1QP5AHY58Pg7
 bwb0j7vj5S0LNDpndmPK+UlhJRaIh+hAKRfI06nNb+R+nwGQUB3emKH27s0TYiAA8zLb
 z9wU4MmXj3WG5ICgbicWlWBNexFEkf2rfsqSSFjEiQ5oOGEO6qJW4ddkXfh6x/2JtzHn
 qp33Orh87XaLDQrFwbSjpToVN+qU8F6fTRSbdeKzhesrHytyZVnhi5cjj39BoGgU6T96
 Y1CQ==
X-Gm-Message-State: AOJu0Yx0u65agc1Yvznkr0PW9vrXaN7+kLHD5DRhryul/m3PuGGAg1xN
 OQ+3mcWZKXU0zkfZ8skcCKmpBT1vP6O7IqL0nYDyDpMHRCx6DzfuTb5uWiy5LnRC+QG84dtdgqL
 BsLrLF1+iLkoGHvge6TPebxnWylwH2VwqD69KJjbDu2+Yjm2fogXvfvjm
X-Google-Smtp-Source: AGHT+IHgWGpDAAmySl9t+VibmPH0FPPv0RtsvG6/OtoVTXOsBLj12IdZgLdlx4FsdrQ9zndzqLBEdQo79GfP
X-Received: by 2002:a05:6122:2511:b0:4eb:eb8:a8ee with SMTP id
 71dfb90a1353d-4eb3a405e7dmr1541002e0c.6.1717543918447; 
 Tue, 04 Jun 2024 16:31:58 -0700 (PDT)
Received: from postal.iol.unh.edu (postal.iol.unh.edu.
 [2606:4100:3880:1234::84]) by smtp-relay.gmail.com with ESMTPS id
 71dfb90a1353d-4eafedcdd6esm532142e0c.5.2024.06.04.16.31.58
 (version=TLS1_2 cipher=ECDHE-ECDSA-AES128-GCM-SHA256 bits=128/128);
 Tue, 04 Jun 2024 16:31:58 -0700 (PDT)
X-Relaying-Domain: iol.unh.edu
Date: Tue, 04 Jun 2024 16:31:58 -0700 (PDT)
Message-ID: <665fa3ee.050a0220.ae385.6348SMTPIN_ADDED_MISSING@mx.google.com>
Received: from [172.21.0.6] (unknown [172.18.0.240])
 by postal.iol.unh.edu (Postfix) with ESMTP id C8646605C380;
 Tue,  4 Jun 2024 19:31:57 -0400 (EDT)
Subject: |SUCCESS| pw140731 [PATCH] net/mlx5: add queue hardware object conte
From: dpdklab@iol.unh.edu
To: Test Report <test-report@dpdk.org>
Cc: dpdk-test-reports@iol.unh.edu
In-Reply-To: <20240604211136.1616519-1-kiranv@nvidia.com>
References: <20240604211136.1616519-1-kiranv@nvidia.com>
Content-Type: text/plain
X-BeenThere: test-report@dpdk.org
X-Mailman-Version: 2.1.29
Precedence: list
List-Id: automatic DPDK test reports <test-report.dpdk.org>
List-Unsubscribe: <https://mails.dpdk.org/options/test-report>,
 <mailto:test-report-request@dpdk.org?subject=unsubscribe>
List-Archive: <http://mails.dpdk.org/archives/test-report/>
List-Post: <mailto:test-report@dpdk.org>
List-Help: <mailto:test-report-request@dpdk.org?subject=help>
List-Subscribe: <https://mails.dpdk.org/listinfo/test-report>,
 <mailto:test-report-request@dpdk.org?subject=subscribe>
Errors-To: test-report-bounces@dpdk.org

Test-Label: iol-unit-amd64-testing
Test-Status: SUCCESS
http://dpdk.org/patch/140731

_Testing PASS_

Submitter: Kiran Vedere <kiranv@nvidia.com>
Date: Tuesday, June 04 2024 21:11:36 
DPDK git baseline: Repo:dpdk
  Branch: master
  CommitID:a207de9a356ef890dd858064ee94e15f0841f0e1

140731 --> testing pass

Test environment and result as below:

+---------------------+----------------+
|     Environment     | dpdk_unit_test |
+=====================+================+
| Windows Server 2019 | PASS           |
+---------------------+----------------+
| CentOS Stream 9     | PASS           |
+---------------------+----------------+
| Debian Bullseye     | PASS           |
+---------------------+----------------+
| CentOS Stream 8     | PASS           |
+---------------------+----------------+
| Debian 12           | PASS           |
+---------------------+----------------+
| Fedora 38           | PASS           |
+---------------------+----------------+
| Fedora 37           | PASS           |
+---------------------+----------------+
| openSUSE Leap 15    | PASS           |
+---------------------+----------------+
| Ubuntu 20.04        | PASS           |
+---------------------+----------------+
| Fedora 39           | PASS           |
+---------------------+----------------+
| RHEL8               | PASS           |
+---------------------+----------------+
| Windows Server 2022 | PASS           |
+---------------------+----------------+
| Ubuntu 22.04        | PASS           |
+---------------------+----------------+
| Ubuntu 24.04        | PASS           |
+---------------------+----------------+


Windows Server 2019
	Kernel: 10.0.17763
	Compiler: clang 14.0 and gcc 8.1.0 (MinGW)

CentOS Stream 9
	Kernel: 5.4.0-167-generic
	Compiler: gcc 11.4.1 20230605

Debian Bullseye
	Kernel: 5.4.0-167-generic
	Compiler: gcc 10.2.1-6

CentOS Stream 8
	Kernel: 5.4.0-167-generic
	Compiler: gcc 8.5.0 20210514

Debian 12
	Kernel: Container Host Kernel
	Compiler: gcc 10.2.1

Fedora 38
	Kernel: Depends on container host
	Compiler: gcc 13.2.1

Fedora 37
	Kernel: Depends on container host system
	Compiler: gcc 12.3.1

openSUSE Leap 15
	Kernel: 5.4.0-167-generic
	Compiler: gcc 7.5.0

Ubuntu 20.04
	Kernel: 5.4.0-167-generic
	Compiler: gcc 9.4.0-1ubuntu1~20.04.1

Fedora 39
	Kernel: Depends on container host
	Compiler: clang 17.0.6

RHEL8
	Kernel: 5.4.0-167-generic
	Compiler: gcc 8.5.0 20210514 (Red Hat 8.5.0-20)

Windows Server 2022
	Kernel: 10.0.20348.2031
	Compiler: clang 15.0.7, gcc 8.1.0 (MinGW), and MSVC VS 17.9

Ubuntu 22.04
	Kernel: 5.4.0-167-generic
	Compiler: gcc 11.4.0

Ubuntu 24.04
	Kernel: 5.4.0-167-generic
	Compiler: gcc 13.2.0

To view detailed results, visit:
https://lab.dpdk.org/results/dashboard/patchsets/30104/

UNH-IOL DPDK Community Lab

To manage your email subscriptions, visit: 
https://lab.dpdk.org/results/dashboard/preferences/subscriptions/